BEGIN:VCALENDAR
VERSION:2.0
PRODID:-//achurchnearyou.com//eventfeed//EN
CALSCALE:GREGORIAN
METHOD:PUBLISH
X-WR-TIMEZONE:UTC
BEGIN:VEVENT
SUMMARY:Patronal service at St Helen's Grindleford
DTSTART:20250817T090000Z
DTEND:20250817T100000Z
DTSTAMP:20260424T190037Z
UID:12149802025-08-17 09:00:00+00:00achurchnearyou
CATEGORIES:
DESCRIPTION:Holy Communion service at St Helen's Grindleford - no service 
 at Hathersage
GEO:-1.649195;53.332991
LOCATION:St Michael and All Angels\, Hathersage
URL:https://www.achurchnearyou.com/church/13179/service-and-events/events/
 1214980/
END:VEVENT
END:VCALENDAR
