BEGIN:VCALENDAR
VERSION:2.0
PRODID:-//achurchnearyou.com//eventfeed//EN
CALSCALE:GREGORIAN
METHOD:PUBLISH
X-WR-TIMEZONE:UTC
BEGIN:VEVENT
SUMMARY:Morning Worship with Longshaw Sheepdog Trials
DTSTART:20250824T093000Z
DTEND:20250824T103000Z
DTSTAMP:20260424T190115Z
UID:12149812025-08-24 09:30:00+00:00achurchnearyou
CATEGORIES:
DESCRIPTION:Morning Worship led by Tony with blessing of Longshaw Sheepdog
  Trials and sheepdog
GEO:-1.649195;53.332991
LOCATION:St Michael and All Angels\, Hathersage
URL:https://www.achurchnearyou.com/church/13179/service-and-events/events/
 1214981/
END:VEVENT
END:VCALENDAR
