BEGIN:VCALENDAR
VERSION:2.0
PRODID:-//achurchnearyou.com//eventfeed//EN
CALSCALE:GREGORIAN
METHOD:PUBLISH
X-WR-TIMEZONE:UTC
BEGIN:VEVENT
SUMMARY:Harvest Festival at Hathersage Parish Church
DTSTART:20251005T093000Z
DTEND:20251005T103000Z
DTSTAMP:20260424T152828Z
UID:12149882025-10-05 09:30:00+00:00achurchnearyou
CATEGORIES:
DESCRIPTION:Joint All Age Harvest Festival  with Methodist Church at Hathe
 rsage Parish Church
GEO:-1.649195;53.332991
LOCATION:St Michael and All Angels\, Hathersage
URL:https://www.achurchnearyou.com/church/13179/service-and-events/events/
 1214988/
END:VEVENT
END:VCALENDAR
