BEGIN:VCALENDAR
VERSION:2.0
PRODID:-//achurchnearyou.com//eventfeed//EN
CALSCALE:GREGORIAN
METHOD:PUBLISH
X-WR-TIMEZONE:UTC
BEGIN:VEVENT
SUMMARY:Covenant service at Hathersage Methodist Chapel
DTSTART:20260104T103000Z
DTEND:20260104T113000Z
DTSTAMP:20260424T105624Z
UID:12312152026-01-04 10:30:00+00:00achurchnearyou
CATEGORIES:
DESCRIPTION:Covenant service at Hathersage Methodist Chapel with Tim
LOCATION:Hathersage Methodist Chapel
URL:https://www.achurchnearyou.com/church/13179/service-and-events/events/
 1231215/
END:VEVENT
END:VCALENDAR
