BEGIN:VCALENDAR
VERSION:2.0
PRODID:-//achurchnearyou.com//eventfeed//EN
CALSCALE:GREGORIAN
METHOD:PUBLISH
X-WR-TIMEZONE:UTC
BEGIN:VEVENT
SUMMARY:Sunday Special with Holy Communion
DTSTART:20260215T093000Z
DTEND:20260215T103000Z
DTSTAMP:20260424T062143Z
UID:12312742026-02-15 09:30:00+00:00achurchnearyou
CATEGORIES:
DESCRIPTION:Sunday Special from 10am for all ages with Holy Communion with
  Graham - True Love (Valentine)
GEO:-1.649195;53.332991
LOCATION:St Michael and All Angels\, Hathersage
URL:https://www.achurchnearyou.com/church/13179/service-and-events/events/
 1231274/
END:VEVENT
END:VCALENDAR
