BEGIN:VCALENDAR
VERSION:2.0
PRODID:-//achurchnearyou.com//eventfeed//EN
CALSCALE:GREGORIAN
METHOD:PUBLISH
X-WR-TIMEZONE:UTC
BEGIN:VEVENT
SUMMARY:Sunday Special
DTSTART:20260719T083000Z
DTEND:20260719T093000Z
DTSTAMP:20260424T002934Z
UID:13230822026-07-19 08:30:00+00:00achurchnearyou
CATEGORIES:
DESCRIPTION:Sunday special led by Tony\, zones for participation.  Coffee 
 and pastries served from 9:30 for start at 10 am
GEO:-1.649195;53.332991
LOCATION:St Michael and All Angels\, Hathersage
URL:https://www.achurchnearyou.com/church/13179/service-and-events/events/
 1323082/
END:VEVENT
END:VCALENDAR
