BEGIN:VCALENDAR
VERSION:2.0
PRODID:-//achurchnearyou.com//eventfeed//EN
CALSCALE:GREGORIAN
METHOD:PUBLISH
X-WR-TIMEZONE:UTC
BEGIN:VEVENT
SUMMARY:Holy Communion
DTSTART:20260809T083000Z
DTEND:20260809T093000Z
DTSTAMP:20260424T002933Z
UID:13230862026-08-09 08:30:00+00:00achurchnearyou
CATEGORIES:
DESCRIPTION:Holy communion led by Graham
GEO:-1.649195;53.332991
LOCATION:St Michael and All Angels\, Hathersage
URL:https://www.achurchnearyou.com/church/13179/service-and-events/events/
 1323086/
END:VEVENT
END:VCALENDAR
