BEGIN:VCALENDAR
VERSION:2.0
PRODID:-//achurchnearyou.com//eventfeed//EN
CALSCALE:GREGORIAN
METHOD:PUBLISH
X-WR-TIMEZONE:UTC
BEGIN:VEVENT
SUMMARY:Lent Prayers
DTSTART;TZID=Europe/London:20250305T084500
DTEND;TZID=Europe/London:20250305T090000
DTSTAMP:20260420T041502Z
UID:11656702025-03-05 08:45:00+00:00achurchnearyou
CATEGORIES:
DESCRIPTION:Lent Prayers will be said in the Church each morning from Wedn
 esday 5th March at 8.45am to 9pm\, until the 19th April.  The short Servic
 e can also be heard via Zoom.
GEO:-1.70146;53.243848
LOCATION:St Giles
URL:https://www.achurchnearyou.com/church/13181/service-and-events/events/
 1165670/
END:VEVENT
BEGIN:VEVENT
SUMMARY:Lent Prayers
DTSTART;TZID=Europe/London:20250306T084500
DTEND;TZID=Europe/London:20250306T090000
DTSTAMP:20260420T041502Z
UID:11656702025-03-06 08:45:00+00:00achurchnearyou
CATEGORIES:
DESCRIPTION:Lent Prayers will be said in the Church each morning from Wedn
 esday 5th March at 8.45am to 9pm\, until the 19th April.  The short Servic
 e can also be heard via Zoom.
GEO:-1.70146;53.243848
LOCATION:St Giles
URL:https://www.achurchnearyou.com/church/13181/service-and-events/events/
 1165670/
END:VEVENT
BEGIN:VEVENT
SUMMARY:Lent Prayers
DTSTART;TZID=Europe/London:20250307T084500
DTEND;TZID=Europe/London:20250307T090000
DTSTAMP:20260420T041502Z
UID:11656702025-03-07 08:45:00+00:00achurchnearyou
CATEGORIES:
DESCRIPTION:Lent Prayers will be said in the Church each morning from Wedn
 esday 5th March at 8.45am to 9pm\, until the 19th April.  The short Servic
 e can also be heard via Zoom.
GEO:-1.70146;53.243848
LOCATION:St Giles
URL:https://www.achurchnearyou.com/church/13181/service-and-events/events/
 1165670/
END:VEVENT
BEGIN:VEVENT
SUMMARY:Lent Prayers
DTSTART;TZID=Europe/London:20250308T084500
DTEND;TZID=Europe/London:20250308T090000
DTSTAMP:20260420T041502Z
UID:11656702025-03-08 08:45:00+00:00achurchnearyou
CATEGORIES:
DESCRIPTION:Lent Prayers will be said in the Church each morning from Wedn
 esday 5th March at 8.45am to 9pm\, until the 19th April.  The short Servic
 e can also be heard via Zoom.
GEO:-1.70146;53.243848
LOCATION:St Giles
URL:https://www.achurchnearyou.com/church/13181/service-and-events/events/
 1165670/
END:VEVENT
BEGIN:VEVENT
SUMMARY:Lent Prayers
DTSTART;TZID=Europe/London:20250309T084500
DTEND;TZID=Europe/London:20250309T090000
DTSTAMP:20260420T041502Z
UID:11656702025-03-09 08:45:00+00:00achurchnearyou
CATEGORIES:
DESCRIPTION:Lent Prayers will be said in the Church each morning from Wedn
 esday 5th March at 8.45am to 9pm\, until the 19th April.  The short Servic
 e can also be heard via Zoom.
GEO:-1.70146;53.243848
LOCATION:St Giles
URL:https://www.achurchnearyou.com/church/13181/service-and-events/events/
 1165670/
END:VEVENT
BEGIN:VEVENT
SUMMARY:Lent Prayers
DTSTART;TZID=Europe/London:20250310T084500
DTEND;TZID=Europe/London:20250310T090000
DTSTAMP:20260420T041502Z
UID:11656702025-03-10 08:45:00+00:00achurchnearyou
CATEGORIES:
DESCRIPTION:Lent Prayers will be said in the Church each morning from Wedn
 esday 5th March at 8.45am to 9pm\, until the 19th April.  The short Servic
 e can also be heard via Zoom.
GEO:-1.70146;53.243848
LOCATION:St Giles
URL:https://www.achurchnearyou.com/church/13181/service-and-events/events/
 1165670/
END:VEVENT
BEGIN:VEVENT
SUMMARY:Lent Prayers
DTSTART;TZID=Europe/London:20250311T084500
DTEND;TZID=Europe/London:20250311T090000
DTSTAMP:20260420T041502Z
UID:11656702025-03-11 08:45:00+00:00achurchnearyou
CATEGORIES:
DESCRIPTION:Lent Prayers will be said in the Church each morning from Wedn
 esday 5th March at 8.45am to 9pm\, until the 19th April.  The short Servic
 e can also be heard via Zoom.
GEO:-1.70146;53.243848
LOCATION:St Giles
URL:https://www.achurchnearyou.com/church/13181/service-and-events/events/
 1165670/
END:VEVENT
BEGIN:VEVENT
SUMMARY:Lent Prayers
DTSTART;TZID=Europe/London:20250312T084500
DTEND;TZID=Europe/London:20250312T090000
DTSTAMP:20260420T041502Z
UID:11656702025-03-12 08:45:00+00:00achurchnearyou
CATEGORIES:
DESCRIPTION:Lent Prayers will be said in the Church each morning from Wedn
 esday 5th March at 8.45am to 9pm\, until the 19th April.  The short Servic
 e can also be heard via Zoom.
GEO:-1.70146;53.243848
LOCATION:St Giles
URL:https://www.achurchnearyou.com/church/13181/service-and-events/events/
 1165670/
END:VEVENT
BEGIN:VEVENT
SUMMARY:Lent Prayers
DTSTART;TZID=Europe/London:20250313T084500
DTEND;TZID=Europe/London:20250313T090000
DTSTAMP:20260420T041502Z
UID:11656702025-03-13 08:45:00+00:00achurchnearyou
CATEGORIES:
DESCRIPTION:Lent Prayers will be said in the Church each morning from Wedn
 esday 5th March at 8.45am to 9pm\, until the 19th April.  The short Servic
 e can also be heard via Zoom.
GEO:-1.70146;53.243848
LOCATION:St Giles
URL:https://www.achurchnearyou.com/church/13181/service-and-events/events/
 1165670/
END:VEVENT
BEGIN:VEVENT
SUMMARY:Lent Prayers
DTSTART;TZID=Europe/London:20250314T084500
DTEND;TZID=Europe/London:20250314T090000
DTSTAMP:20260420T041502Z
UID:11656702025-03-14 08:45:00+00:00achurchnearyou
CATEGORIES:
DESCRIPTION:Lent Prayers will be said in the Church each morning from Wedn
 esday 5th March at 8.45am to 9pm\, until the 19th April.  The short Servic
 e can also be heard via Zoom.
GEO:-1.70146;53.243848
LOCATION:St Giles
URL:https://www.achurchnearyou.com/church/13181/service-and-events/events/
 1165670/
END:VEVENT
BEGIN:VEVENT
SUMMARY:Lent Prayers
DTSTART;TZID=Europe/London:20250315T084500
DTEND;TZID=Europe/London:20250315T090000
DTSTAMP:20260420T041502Z
UID:11656702025-03-15 08:45:00+00:00achurchnearyou
CATEGORIES:
DESCRIPTION:Lent Prayers will be said in the Church each morning from Wedn
 esday 5th March at 8.45am to 9pm\, until the 19th April.  The short Servic
 e can also be heard via Zoom.
GEO:-1.70146;53.243848
LOCATION:St Giles
URL:https://www.achurchnearyou.com/church/13181/service-and-events/events/
 1165670/
END:VEVENT
BEGIN:VEVENT
SUMMARY:Lent Prayers
DTSTART;TZID=Europe/London:20250316T084500
DTEND;TZID=Europe/London:20250316T090000
DTSTAMP:20260420T041502Z
UID:11656702025-03-16 08:45:00+00:00achurchnearyou
CATEGORIES:
DESCRIPTION:Lent Prayers will be said in the Church each morning from Wedn
 esday 5th March at 8.45am to 9pm\, until the 19th April.  The short Servic
 e can also be heard via Zoom.
GEO:-1.70146;53.243848
LOCATION:St Giles
URL:https://www.achurchnearyou.com/church/13181/service-and-events/events/
 1165670/
END:VEVENT
BEGIN:VEVENT
SUMMARY:Lent Prayers
DTSTART;TZID=Europe/London:20250317T084500
DTEND;TZID=Europe/London:20250317T090000
DTSTAMP:20260420T041502Z
UID:11656702025-03-17 08:45:00+00:00achurchnearyou
CATEGORIES:
DESCRIPTION:Lent Prayers will be said in the Church each morning from Wedn
 esday 5th March at 8.45am to 9pm\, until the 19th April.  The short Servic
 e can also be heard via Zoom.
GEO:-1.70146;53.243848
LOCATION:St Giles
URL:https://www.achurchnearyou.com/church/13181/service-and-events/events/
 1165670/
END:VEVENT
BEGIN:VEVENT
SUMMARY:Lent Prayers
DTSTART;TZID=Europe/London:20250318T084500
DTEND;TZID=Europe/London:20250318T090000
DTSTAMP:20260420T041502Z
UID:11656702025-03-18 08:45:00+00:00achurchnearyou
CATEGORIES:
DESCRIPTION:Lent Prayers will be said in the Church each morning from Wedn
 esday 5th March at 8.45am to 9pm\, until the 19th April.  The short Servic
 e can also be heard via Zoom.
GEO:-1.70146;53.243848
LOCATION:St Giles
URL:https://www.achurchnearyou.com/church/13181/service-and-events/events/
 1165670/
END:VEVENT
BEGIN:VEVENT
SUMMARY:Lent Prayers
DTSTART;TZID=Europe/London:20250319T084500
DTEND;TZID=Europe/London:20250319T090000
DTSTAMP:20260420T041502Z
UID:11656702025-03-19 08:45:00+00:00achurchnearyou
CATEGORIES:
DESCRIPTION:Lent Prayers will be said in the Church each morning from Wedn
 esday 5th March at 8.45am to 9pm\, until the 19th April.  The short Servic
 e can also be heard via Zoom.
GEO:-1.70146;53.243848
LOCATION:St Giles
URL:https://www.achurchnearyou.com/church/13181/service-and-events/events/
 1165670/
END:VEVENT
END:VCALENDAR
