BEGIN:VCALENDAR
VERSION:2.0
PRODID:-//achurchnearyou.com//eventfeed//EN
CALSCALE:GREGORIAN
METHOD:PUBLISH
X-WR-TIMEZONE:UTC
BEGIN:VEVENT
SUMMARY:Benefice Sung Eucharist
DTSTART;TZID=Europe/London:20250831T103000
DTEND;TZID=Europe/London:20250831T114500
DTSTAMP:20260419T164144Z
UID:12177072025-08-31 10:30:00+01:00achurchnearyou
CATEGORIES:
DESCRIPTION:A joint service of the choirs and congregations of the 7 churc
 hes
LOCATION:Holy Trinity
URL:https://www.achurchnearyou.com/church/13181/service-and-events/events/
 1217707/
END:VEVENT
END:VCALENDAR
