BEGIN:VCALENDAR
VERSION:2.0
PRODID:-//achurchnearyou.com//eventfeed//EN
CALSCALE:GREGORIAN
METHOD:PUBLISH
X-WR-TIMEZONE:UTC
BEGIN:VEVENT
SUMMARY:CANCELLED DUE TO ICE AND SNOW - HOLY COMMUNION
DTSTART:20260111T093000Z
DTEND:20260111T103000Z
DTSTAMP:20260425T011001Z
UID:12725122026-01-11 09:30:00+00:00achurchnearyou
CATEGORIES:
DESCRIPTION:Unfortunately\, we have taken the decision to cancel this serv
 ice.
GEO:-1.640396;53.174996
LOCATION:Holy Trinity Church\, Stanton-in-Peak
URL:https://www.achurchnearyou.com/church/13185/service-and-events/events/
 1272512/
END:VEVENT
END:VCALENDAR
