BEGIN:VCALENDAR
VERSION:2.0
PRODID:-//achurchnearyou.com//eventfeed//EN
CALSCALE:GREGORIAN
METHOD:PUBLISH
X-WR-TIMEZONE:UTC
BEGIN:VEVENT
SUMMARY:MORNING WORSHIP
DTSTART:20260215T093000Z
DTEND:20260215T101500Z
DTSTAMP:20260424T233236Z
UID:12725172026-02-15 09:30:00+00:00achurchnearyou
CATEGORIES:
DESCRIPTION:Lay-led service.
GEO:-1.640396;53.174996
LOCATION:Holy Trinity Church\, Stanton-in-Peak
URL:https://www.achurchnearyou.com/church/13185/service-and-events/events/
 1272517/
END:VEVENT
END:VCALENDAR
