BEGIN:VCALENDAR
VERSION:2.0
PRODID:-//achurchnearyou.com//eventfeed//EN
CALSCALE:GREGORIAN
METHOD:PUBLISH
X-WR-TIMEZONE:UTC
BEGIN:VEVENT
SUMMARY:Holy Eucharist
DTSTART:20251224T213000Z
DTEND:20251224T223000Z
DTSTAMP:20260419T135412Z
UID:12729862025-12-24 21:30:00+00:00achurchnearyou
CATEGORIES:
DESCRIPTION:Holy Eucharist with Carols at St Peter’s\, Elmton\nA candlel
 it service for those who cherish the quiet beauty of Christmas night.
GEO:-1.248041;53.255712
LOCATION:St Peter
URL:https://www.achurchnearyou.com/church/13204/service-and-events/events/
 1272986/
END:VEVENT
END:VCALENDAR
