BEGIN:VCALENDAR
VERSION:2.0
PRODID:-//achurchnearyou.com//eventfeed//EN
CALSCALE:GREGORIAN
METHOD:PUBLISH
X-WR-TIMEZONE:UTC
BEGIN:VEVENT
SUMMARY:Holy Communion
DTSTART:20251012T133000Z
DTEND:20251012T143000Z
DTSTAMP:20260421T053301Z
UID:12258602025-10-12 13:30:00+00:00achurchnearyou
CATEGORIES:
DESCRIPTION:Please join us for the Holy Communion service and afterwards f
 or refreshments and a chat.
GEO:-1.339358;53.215248
LOCATION:St Mary
URL:https://www.achurchnearyou.com/church/13215/service-and-events/events/
 1225860/
END:VEVENT
END:VCALENDAR
