BEGIN:VCALENDAR
VERSION:2.0
PRODID:-//achurchnearyou.com//eventfeed//EN
CALSCALE:GREGORIAN
METHOD:PUBLISH
X-WR-TIMEZONE:UTC
BEGIN:VEVENT
SUMMARY:Holy Communion
DTSTART:20260503T133000Z
DTEND:20260503T143000Z
DTSTAMP:20260420T075228Z
UID:12898482026-05-03 13:30:00+00:00achurchnearyou
CATEGORIES:
DESCRIPTION:There will be a Holy Communion service held on Sunday 3rd May\
 , everyone is welcome.
GEO:-1.339358;53.215248
LOCATION:St Mary
URL:https://www.achurchnearyou.com/church/13215/service-and-events/events/
 1289848/
END:VEVENT
END:VCALENDAR
