BEGIN:VCALENDAR
VERSION:2.0
PRODID:-//achurchnearyou.com//eventfeed//EN
CALSCALE:GREGORIAN
METHOD:PUBLISH
X-WR-TIMEZONE:UTC
BEGIN:VEVENT
SUMMARY:parish lunch
DTSTART;TZID=Europe/London:20210915T120000
DTEND;TZID=Europe/London:20210915T133000
DTSTAMP:20260421T164828Z
UID:7593432021-09-15 12:00:00+01:00achurchnearyou
CATEGORIES:
DESCRIPTION:soup\, sandwich and desert £5.00
GEO:-1.390493;53.234071
LOCATION:St Peter
URL:https://www.achurchnearyou.com/church/13219/service-and-events/events/
 759343/
END:VEVENT
BEGIN:VEVENT
SUMMARY:parish lunch
DTSTART;TZID=Europe/London:20211020T120000
DTEND;TZID=Europe/London:20211020T133000
DTSTAMP:20260421T164828Z
UID:7593432021-10-20 12:00:00+01:00achurchnearyou
CATEGORIES:
DESCRIPTION:soup\, sandwich and desert £5.00
GEO:-1.390493;53.234071
LOCATION:St Peter
URL:https://www.achurchnearyou.com/church/13219/service-and-events/events/
 759343/
END:VEVENT
BEGIN:VEVENT
SUMMARY:parish lunch
DTSTART;TZID=Europe/London:20211117T120000
DTEND;TZID=Europe/London:20211117T133000
DTSTAMP:20260421T164828Z
UID:7593432021-11-17 12:00:00+00:00achurchnearyou
CATEGORIES:
DESCRIPTION:soup\, sandwich and desert £5.00
GEO:-1.390493;53.234071
LOCATION:St Peter
URL:https://www.achurchnearyou.com/church/13219/service-and-events/events/
 759343/
END:VEVENT
BEGIN:VEVENT
SUMMARY:parish lunch
DTSTART;TZID=Europe/London:20211215T120000
DTEND;TZID=Europe/London:20211215T133000
DTSTAMP:20260421T164828Z
UID:7593432021-12-15 12:00:00+00:00achurchnearyou
CATEGORIES:
DESCRIPTION:soup\, sandwich and desert £5.00
GEO:-1.390493;53.234071
LOCATION:St Peter
URL:https://www.achurchnearyou.com/church/13219/service-and-events/events/
 759343/
END:VEVENT
BEGIN:VEVENT
SUMMARY:parish lunch
DTSTART;TZID=Europe/London:20220119T120000
DTEND;TZID=Europe/London:20220119T133000
DTSTAMP:20260421T164828Z
UID:7593432022-01-19 12:00:00+00:00achurchnearyou
CATEGORIES:
DESCRIPTION:soup\, sandwich and desert £5.00
GEO:-1.390493;53.234071
LOCATION:St Peter
URL:https://www.achurchnearyou.com/church/13219/service-and-events/events/
 759343/
END:VEVENT
BEGIN:VEVENT
SUMMARY:parish lunch
DTSTART;TZID=Europe/London:20220216T120000
DTEND;TZID=Europe/London:20220216T133000
DTSTAMP:20260421T164828Z
UID:7593432022-02-16 12:00:00+00:00achurchnearyou
CATEGORIES:
DESCRIPTION:soup\, sandwich and desert £5.00
GEO:-1.390493;53.234071
LOCATION:St Peter
URL:https://www.achurchnearyou.com/church/13219/service-and-events/events/
 759343/
END:VEVENT
BEGIN:VEVENT
SUMMARY:parish lunch
DTSTART;TZID=Europe/London:20220316T120000
DTEND;TZID=Europe/London:20220316T133000
DTSTAMP:20260421T164828Z
UID:7593432022-03-16 12:00:00+00:00achurchnearyou
CATEGORIES:
DESCRIPTION:soup\, sandwich and desert £5.00
GEO:-1.390493;53.234071
LOCATION:St Peter
URL:https://www.achurchnearyou.com/church/13219/service-and-events/events/
 759343/
END:VEVENT
BEGIN:VEVENT
SUMMARY:parish lunch
DTSTART;TZID=Europe/London:20220420T120000
DTEND;TZID=Europe/London:20220420T133000
DTSTAMP:20260421T164828Z
UID:7593432022-04-20 12:00:00+01:00achurchnearyou
CATEGORIES:
DESCRIPTION:soup\, sandwich and desert £5.00
GEO:-1.390493;53.234071
LOCATION:St Peter
URL:https://www.achurchnearyou.com/church/13219/service-and-events/events/
 759343/
END:VEVENT
BEGIN:VEVENT
SUMMARY:parish lunch
DTSTART;TZID=Europe/London:20220518T120000
DTEND;TZID=Europe/London:20220518T133000
DTSTAMP:20260421T164828Z
UID:7593432022-05-18 12:00:00+01:00achurchnearyou
CATEGORIES:
DESCRIPTION:soup\, sandwich and desert £5.00
GEO:-1.390493;53.234071
LOCATION:St Peter
URL:https://www.achurchnearyou.com/church/13219/service-and-events/events/
 759343/
END:VEVENT
BEGIN:VEVENT
SUMMARY:parish lunch
DTSTART;TZID=Europe/London:20220615T120000
DTEND;TZID=Europe/London:20220615T133000
DTSTAMP:20260421T164828Z
UID:7593432022-06-15 12:00:00+01:00achurchnearyou
CATEGORIES:
DESCRIPTION:soup\, sandwich and desert £5.00
GEO:-1.390493;53.234071
LOCATION:St Peter
URL:https://www.achurchnearyou.com/church/13219/service-and-events/events/
 759343/
END:VEVENT
BEGIN:VEVENT
SUMMARY:parish lunch
DTSTART;TZID=Europe/London:20220720T120000
DTEND;TZID=Europe/London:20220720T133000
DTSTAMP:20260421T164828Z
UID:7593432022-07-20 12:00:00+01:00achurchnearyou
CATEGORIES:
DESCRIPTION:soup\, sandwich and desert £5.00
GEO:-1.390493;53.234071
LOCATION:St Peter
URL:https://www.achurchnearyou.com/church/13219/service-and-events/events/
 759343/
END:VEVENT
BEGIN:VEVENT
SUMMARY:parish lunch
DTSTART;TZID=Europe/London:20220817T120000
DTEND;TZID=Europe/London:20220817T133000
DTSTAMP:20260421T164828Z
UID:7593432022-08-17 12:00:00+01:00achurchnearyou
CATEGORIES:
DESCRIPTION:soup\, sandwich and desert £5.00
GEO:-1.390493;53.234071
LOCATION:St Peter
URL:https://www.achurchnearyou.com/church/13219/service-and-events/events/
 759343/
END:VEVENT
BEGIN:VEVENT
SUMMARY:parish lunch
DTSTART;TZID=Europe/London:20220921T120000
DTEND;TZID=Europe/London:20220921T133000
DTSTAMP:20260421T164828Z
UID:7593432022-09-21 12:00:00+01:00achurchnearyou
CATEGORIES:
DESCRIPTION:soup\, sandwich and desert £5.00
GEO:-1.390493;53.234071
LOCATION:St Peter
URL:https://www.achurchnearyou.com/church/13219/service-and-events/events/
 759343/
END:VEVENT
BEGIN:VEVENT
SUMMARY:parish lunch
DTSTART;TZID=Europe/London:20221019T120000
DTEND;TZID=Europe/London:20221019T133000
DTSTAMP:20260421T164828Z
UID:7593432022-10-19 12:00:00+01:00achurchnearyou
CATEGORIES:
DESCRIPTION:soup\, sandwich and desert £5.00
GEO:-1.390493;53.234071
LOCATION:St Peter
URL:https://www.achurchnearyou.com/church/13219/service-and-events/events/
 759343/
END:VEVENT
BEGIN:VEVENT
SUMMARY:parish lunch
DTSTART;TZID=Europe/London:20221116T120000
DTEND;TZID=Europe/London:20221116T133000
DTSTAMP:20260421T164828Z
UID:7593432022-11-16 12:00:00+00:00achurchnearyou
CATEGORIES:
DESCRIPTION:soup\, sandwich and desert £5.00
GEO:-1.390493;53.234071
LOCATION:St Peter
URL:https://www.achurchnearyou.com/church/13219/service-and-events/events/
 759343/
END:VEVENT
BEGIN:VEVENT
SUMMARY:parish lunch
DTSTART;TZID=Europe/London:20221221T120000
DTEND;TZID=Europe/London:20221221T133000
DTSTAMP:20260421T164828Z
UID:7593432022-12-21 12:00:00+00:00achurchnearyou
CATEGORIES:
DESCRIPTION:soup\, sandwich and desert £5.00
GEO:-1.390493;53.234071
LOCATION:St Peter
URL:https://www.achurchnearyou.com/church/13219/service-and-events/events/
 759343/
END:VEVENT
BEGIN:VEVENT
SUMMARY:parish lunch
DTSTART;TZID=Europe/London:20230118T120000
DTEND;TZID=Europe/London:20230118T133000
DTSTAMP:20260421T164828Z
UID:7593432023-01-18 12:00:00+00:00achurchnearyou
CATEGORIES:
DESCRIPTION:soup\, sandwich and desert £5.00
GEO:-1.390493;53.234071
LOCATION:St Peter
URL:https://www.achurchnearyou.com/church/13219/service-and-events/events/
 759343/
END:VEVENT
BEGIN:VEVENT
SUMMARY:parish lunch
DTSTART;TZID=Europe/London:20230215T120000
DTEND;TZID=Europe/London:20230215T133000
DTSTAMP:20260421T164828Z
UID:7593432023-02-15 12:00:00+00:00achurchnearyou
CATEGORIES:
DESCRIPTION:soup\, sandwich and desert £5.00
GEO:-1.390493;53.234071
LOCATION:St Peter
URL:https://www.achurchnearyou.com/church/13219/service-and-events/events/
 759343/
END:VEVENT
BEGIN:VEVENT
SUMMARY:parish lunch
DTSTART;TZID=Europe/London:20230315T120000
DTEND;TZID=Europe/London:20230315T133000
DTSTAMP:20260421T164828Z
UID:7593432023-03-15 12:00:00+00:00achurchnearyou
CATEGORIES:
DESCRIPTION:soup\, sandwich and desert £5.00
GEO:-1.390493;53.234071
LOCATION:St Peter
URL:https://www.achurchnearyou.com/church/13219/service-and-events/events/
 759343/
END:VEVENT
BEGIN:VEVENT
SUMMARY:parish lunch
DTSTART;TZID=Europe/London:20230419T120000
DTEND;TZID=Europe/London:20230419T133000
DTSTAMP:20260421T164828Z
UID:7593432023-04-19 12:00:00+01:00achurchnearyou
CATEGORIES:
DESCRIPTION:soup\, sandwich and desert £5.00
GEO:-1.390493;53.234071
LOCATION:St Peter
URL:https://www.achurchnearyou.com/church/13219/service-and-events/events/
 759343/
END:VEVENT
BEGIN:VEVENT
SUMMARY:parish lunch
DTSTART;TZID=Europe/London:20230517T120000
DTEND;TZID=Europe/London:20230517T133000
DTSTAMP:20260421T164828Z
UID:7593432023-05-17 12:00:00+01:00achurchnearyou
CATEGORIES:
DESCRIPTION:soup\, sandwich and desert £5.00
GEO:-1.390493;53.234071
LOCATION:St Peter
URL:https://www.achurchnearyou.com/church/13219/service-and-events/events/
 759343/
END:VEVENT
BEGIN:VEVENT
SUMMARY:parish lunch
DTSTART;TZID=Europe/London:20230621T120000
DTEND;TZID=Europe/London:20230621T133000
DTSTAMP:20260421T164828Z
UID:7593432023-06-21 12:00:00+01:00achurchnearyou
CATEGORIES:
DESCRIPTION:soup\, sandwich and desert £5.00
GEO:-1.390493;53.234071
LOCATION:St Peter
URL:https://www.achurchnearyou.com/church/13219/service-and-events/events/
 759343/
END:VEVENT
BEGIN:VEVENT
SUMMARY:parish lunch
DTSTART;TZID=Europe/London:20230719T120000
DTEND;TZID=Europe/London:20230719T133000
DTSTAMP:20260421T164828Z
UID:7593432023-07-19 12:00:00+01:00achurchnearyou
CATEGORIES:
DESCRIPTION:soup\, sandwich and desert £5.00
GEO:-1.390493;53.234071
LOCATION:St Peter
URL:https://www.achurchnearyou.com/church/13219/service-and-events/events/
 759343/
END:VEVENT
BEGIN:VEVENT
SUMMARY:parish lunch
DTSTART;TZID=Europe/London:20230816T120000
DTEND;TZID=Europe/London:20230816T133000
DTSTAMP:20260421T164828Z
UID:7593432023-08-16 12:00:00+01:00achurchnearyou
CATEGORIES:
DESCRIPTION:soup\, sandwich and desert £5.00
GEO:-1.390493;53.234071
LOCATION:St Peter
URL:https://www.achurchnearyou.com/church/13219/service-and-events/events/
 759343/
END:VEVENT
BEGIN:VEVENT
SUMMARY:parish lunch
DTSTART;TZID=Europe/London:20230920T120000
DTEND;TZID=Europe/London:20230920T133000
DTSTAMP:20260421T164828Z
UID:7593432023-09-20 12:00:00+01:00achurchnearyou
CATEGORIES:
DESCRIPTION:soup\, sandwich and desert £5.00
GEO:-1.390493;53.234071
LOCATION:St Peter
URL:https://www.achurchnearyou.com/church/13219/service-and-events/events/
 759343/
END:VEVENT
BEGIN:VEVENT
SUMMARY:parish lunch
DTSTART;TZID=Europe/London:20231018T120000
DTEND;TZID=Europe/London:20231018T133000
DTSTAMP:20260421T164828Z
UID:7593432023-10-18 12:00:00+01:00achurchnearyou
CATEGORIES:
DESCRIPTION:soup\, sandwich and desert £5.00
GEO:-1.390493;53.234071
LOCATION:St Peter
URL:https://www.achurchnearyou.com/church/13219/service-and-events/events/
 759343/
END:VEVENT
BEGIN:VEVENT
SUMMARY:parish lunch
DTSTART;TZID=Europe/London:20231115T120000
DTEND;TZID=Europe/London:20231115T133000
DTSTAMP:20260421T164828Z
UID:7593432023-11-15 12:00:00+00:00achurchnearyou
CATEGORIES:
DESCRIPTION:soup\, sandwich and desert £5.00
GEO:-1.390493;53.234071
LOCATION:St Peter
URL:https://www.achurchnearyou.com/church/13219/service-and-events/events/
 759343/
END:VEVENT
BEGIN:VEVENT
SUMMARY:parish lunch
DTSTART;TZID=Europe/London:20231220T120000
DTEND;TZID=Europe/London:20231220T133000
DTSTAMP:20260421T164828Z
UID:7593432023-12-20 12:00:00+00:00achurchnearyou
CATEGORIES:
DESCRIPTION:soup\, sandwich and desert £5.00
GEO:-1.390493;53.234071
LOCATION:St Peter
URL:https://www.achurchnearyou.com/church/13219/service-and-events/events/
 759343/
END:VEVENT
BEGIN:VEVENT
SUMMARY:parish lunch
DTSTART;TZID=Europe/London:20240117T120000
DTEND;TZID=Europe/London:20240117T133000
DTSTAMP:20260421T164828Z
UID:7593432024-01-17 12:00:00+00:00achurchnearyou
CATEGORIES:
DESCRIPTION:soup\, sandwich and desert £5.00
GEO:-1.390493;53.234071
LOCATION:St Peter
URL:https://www.achurchnearyou.com/church/13219/service-and-events/events/
 759343/
END:VEVENT
BEGIN:VEVENT
SUMMARY:parish lunch
DTSTART;TZID=Europe/London:20240221T120000
DTEND;TZID=Europe/London:20240221T133000
DTSTAMP:20260421T164828Z
UID:7593432024-02-21 12:00:00+00:00achurchnearyou
CATEGORIES:
DESCRIPTION:soup\, sandwich and desert £5.00
GEO:-1.390493;53.234071
LOCATION:St Peter
URL:https://www.achurchnearyou.com/church/13219/service-and-events/events/
 759343/
END:VEVENT
BEGIN:VEVENT
SUMMARY:parish lunch
DTSTART;TZID=Europe/London:20240320T120000
DTEND;TZID=Europe/London:20240320T133000
DTSTAMP:20260421T164828Z
UID:7593432024-03-20 12:00:00+00:00achurchnearyou
CATEGORIES:
DESCRIPTION:soup\, sandwich and desert £5.00
GEO:-1.390493;53.234071
LOCATION:St Peter
URL:https://www.achurchnearyou.com/church/13219/service-and-events/events/
 759343/
END:VEVENT
BEGIN:VEVENT
SUMMARY:parish lunch
DTSTART;TZID=Europe/London:20240417T120000
DTEND;TZID=Europe/London:20240417T133000
DTSTAMP:20260421T164828Z
UID:7593432024-04-17 12:00:00+01:00achurchnearyou
CATEGORIES:
DESCRIPTION:soup\, sandwich and desert £5.00
GEO:-1.390493;53.234071
LOCATION:St Peter
URL:https://www.achurchnearyou.com/church/13219/service-and-events/events/
 759343/
END:VEVENT
BEGIN:VEVENT
SUMMARY:parish lunch
DTSTART;TZID=Europe/London:20240515T120000
DTEND;TZID=Europe/London:20240515T133000
DTSTAMP:20260421T164828Z
UID:7593432024-05-15 12:00:00+01:00achurchnearyou
CATEGORIES:
DESCRIPTION:soup\, sandwich and desert £5.00
GEO:-1.390493;53.234071
LOCATION:St Peter
URL:https://www.achurchnearyou.com/church/13219/service-and-events/events/
 759343/
END:VEVENT
BEGIN:VEVENT
SUMMARY:parish lunch
DTSTART;TZID=Europe/London:20240619T120000
DTEND;TZID=Europe/London:20240619T133000
DTSTAMP:20260421T164828Z
UID:7593432024-06-19 12:00:00+01:00achurchnearyou
CATEGORIES:
DESCRIPTION:soup\, sandwich and desert £5.00
GEO:-1.390493;53.234071
LOCATION:St Peter
URL:https://www.achurchnearyou.com/church/13219/service-and-events/events/
 759343/
END:VEVENT
BEGIN:VEVENT
SUMMARY:parish lunch
DTSTART;TZID=Europe/London:20240717T120000
DTEND;TZID=Europe/London:20240717T133000
DTSTAMP:20260421T164828Z
UID:7593432024-07-17 12:00:00+01:00achurchnearyou
CATEGORIES:
DESCRIPTION:soup\, sandwich and desert £5.00
GEO:-1.390493;53.234071
LOCATION:St Peter
URL:https://www.achurchnearyou.com/church/13219/service-and-events/events/
 759343/
END:VEVENT
BEGIN:VEVENT
SUMMARY:parish lunch
DTSTART;TZID=Europe/London:20240821T120000
DTEND;TZID=Europe/London:20240821T133000
DTSTAMP:20260421T164828Z
UID:7593432024-08-21 12:00:00+01:00achurchnearyou
CATEGORIES:
DESCRIPTION:soup\, sandwich and desert £5.00
GEO:-1.390493;53.234071
LOCATION:St Peter
URL:https://www.achurchnearyou.com/church/13219/service-and-events/events/
 759343/
END:VEVENT
BEGIN:VEVENT
SUMMARY:parish lunch
DTSTART;TZID=Europe/London:20240918T120000
DTEND;TZID=Europe/London:20240918T133000
DTSTAMP:20260421T164828Z
UID:7593432024-09-18 12:00:00+01:00achurchnearyou
CATEGORIES:
DESCRIPTION:soup\, sandwich and desert £5.00
GEO:-1.390493;53.234071
LOCATION:St Peter
URL:https://www.achurchnearyou.com/church/13219/service-and-events/events/
 759343/
END:VEVENT
BEGIN:VEVENT
SUMMARY:parish lunch
DTSTART;TZID=Europe/London:20241016T120000
DTEND;TZID=Europe/London:20241016T133000
DTSTAMP:20260421T164828Z
UID:7593432024-10-16 12:00:00+01:00achurchnearyou
CATEGORIES:
DESCRIPTION:soup\, sandwich and desert £5.00
GEO:-1.390493;53.234071
LOCATION:St Peter
URL:https://www.achurchnearyou.com/church/13219/service-and-events/events/
 759343/
END:VEVENT
BEGIN:VEVENT
SUMMARY:parish lunch
DTSTART;TZID=Europe/London:20241120T120000
DTEND;TZID=Europe/London:20241120T133000
DTSTAMP:20260421T164828Z
UID:7593432024-11-20 12:00:00+00:00achurchnearyou
CATEGORIES:
DESCRIPTION:soup\, sandwich and desert £5.00
GEO:-1.390493;53.234071
LOCATION:St Peter
URL:https://www.achurchnearyou.com/church/13219/service-and-events/events/
 759343/
END:VEVENT
BEGIN:VEVENT
SUMMARY:parish lunch
DTSTART;TZID=Europe/London:20241218T120000
DTEND;TZID=Europe/London:20241218T133000
DTSTAMP:20260421T164828Z
UID:7593432024-12-18 12:00:00+00:00achurchnearyou
CATEGORIES:
DESCRIPTION:soup\, sandwich and desert £5.00
GEO:-1.390493;53.234071
LOCATION:St Peter
URL:https://www.achurchnearyou.com/church/13219/service-and-events/events/
 759343/
END:VEVENT
BEGIN:VEVENT
SUMMARY:parish lunch
DTSTART;TZID=Europe/London:20250115T120000
DTEND;TZID=Europe/London:20250115T133000
DTSTAMP:20260421T164828Z
UID:7593432025-01-15 12:00:00+00:00achurchnearyou
CATEGORIES:
DESCRIPTION:soup\, sandwich and desert £5.00
GEO:-1.390493;53.234071
LOCATION:St Peter
URL:https://www.achurchnearyou.com/church/13219/service-and-events/events/
 759343/
END:VEVENT
BEGIN:VEVENT
SUMMARY:parish lunch
DTSTART;TZID=Europe/London:20250219T120000
DTEND;TZID=Europe/London:20250219T133000
DTSTAMP:20260421T164828Z
UID:7593432025-02-19 12:00:00+00:00achurchnearyou
CATEGORIES:
DESCRIPTION:soup\, sandwich and desert £5.00
GEO:-1.390493;53.234071
LOCATION:St Peter
URL:https://www.achurchnearyou.com/church/13219/service-and-events/events/
 759343/
END:VEVENT
BEGIN:VEVENT
SUMMARY:parish lunch
DTSTART;TZID=Europe/London:20250319T120000
DTEND;TZID=Europe/London:20250319T133000
DTSTAMP:20260421T164828Z
UID:7593432025-03-19 12:00:00+00:00achurchnearyou
CATEGORIES:
DESCRIPTION:soup\, sandwich and desert £5.00
GEO:-1.390493;53.234071
LOCATION:St Peter
URL:https://www.achurchnearyou.com/church/13219/service-and-events/events/
 759343/
END:VEVENT
BEGIN:VEVENT
SUMMARY:parish lunch
DTSTART;TZID=Europe/London:20250416T120000
DTEND;TZID=Europe/London:20250416T133000
DTSTAMP:20260421T164828Z
UID:7593432025-04-16 12:00:00+01:00achurchnearyou
CATEGORIES:
DESCRIPTION:soup\, sandwich and desert £5.00
GEO:-1.390493;53.234071
LOCATION:St Peter
URL:https://www.achurchnearyou.com/church/13219/service-and-events/events/
 759343/
END:VEVENT
BEGIN:VEVENT
SUMMARY:parish lunch
DTSTART;TZID=Europe/London:20250521T120000
DTEND;TZID=Europe/London:20250521T133000
DTSTAMP:20260421T164828Z
UID:7593432025-05-21 12:00:00+01:00achurchnearyou
CATEGORIES:
DESCRIPTION:soup\, sandwich and desert £5.00
GEO:-1.390493;53.234071
LOCATION:St Peter
URL:https://www.achurchnearyou.com/church/13219/service-and-events/events/
 759343/
END:VEVENT
BEGIN:VEVENT
SUMMARY:parish lunch
DTSTART;TZID=Europe/London:20250618T120000
DTEND;TZID=Europe/London:20250618T133000
DTSTAMP:20260421T164828Z
UID:7593432025-06-18 12:00:00+01:00achurchnearyou
CATEGORIES:
DESCRIPTION:soup\, sandwich and desert £5.00
GEO:-1.390493;53.234071
LOCATION:St Peter
URL:https://www.achurchnearyou.com/church/13219/service-and-events/events/
 759343/
END:VEVENT
BEGIN:VEVENT
SUMMARY:parish lunch
DTSTART;TZID=Europe/London:20250716T120000
DTEND;TZID=Europe/London:20250716T133000
DTSTAMP:20260421T164828Z
UID:7593432025-07-16 12:00:00+01:00achurchnearyou
CATEGORIES:
DESCRIPTION:soup\, sandwich and desert £5.00
GEO:-1.390493;53.234071
LOCATION:St Peter
URL:https://www.achurchnearyou.com/church/13219/service-and-events/events/
 759343/
END:VEVENT
BEGIN:VEVENT
SUMMARY:parish lunch
DTSTART;TZID=Europe/London:20250820T120000
DTEND;TZID=Europe/London:20250820T133000
DTSTAMP:20260421T164828Z
UID:7593432025-08-20 12:00:00+01:00achurchnearyou
CATEGORIES:
DESCRIPTION:soup\, sandwich and desert £5.00
GEO:-1.390493;53.234071
LOCATION:St Peter
URL:https://www.achurchnearyou.com/church/13219/service-and-events/events/
 759343/
END:VEVENT
BEGIN:VEVENT
SUMMARY:parish lunch
DTSTART;TZID=Europe/London:20250917T120000
DTEND;TZID=Europe/London:20250917T133000
DTSTAMP:20260421T164828Z
UID:7593432025-09-17 12:00:00+01:00achurchnearyou
CATEGORIES:
DESCRIPTION:soup\, sandwich and desert £5.00
GEO:-1.390493;53.234071
LOCATION:St Peter
URL:https://www.achurchnearyou.com/church/13219/service-and-events/events/
 759343/
END:VEVENT
BEGIN:VEVENT
SUMMARY:parish lunch
DTSTART;TZID=Europe/London:20251015T120000
DTEND;TZID=Europe/London:20251015T133000
DTSTAMP:20260421T164828Z
UID:7593432025-10-15 12:00:00+01:00achurchnearyou
CATEGORIES:
DESCRIPTION:soup\, sandwich and desert £5.00
GEO:-1.390493;53.234071
LOCATION:St Peter
URL:https://www.achurchnearyou.com/church/13219/service-and-events/events/
 759343/
END:VEVENT
BEGIN:VEVENT
SUMMARY:parish lunch
DTSTART;TZID=Europe/London:20251119T120000
DTEND;TZID=Europe/London:20251119T133000
DTSTAMP:20260421T164828Z
UID:7593432025-11-19 12:00:00+00:00achurchnearyou
CATEGORIES:
DESCRIPTION:soup\, sandwich and desert £5.00
GEO:-1.390493;53.234071
LOCATION:St Peter
URL:https://www.achurchnearyou.com/church/13219/service-and-events/events/
 759343/
END:VEVENT
BEGIN:VEVENT
SUMMARY:parish lunch
DTSTART;TZID=Europe/London:20251217T120000
DTEND;TZID=Europe/London:20251217T133000
DTSTAMP:20260421T164828Z
UID:7593432025-12-17 12:00:00+00:00achurchnearyou
CATEGORIES:
DESCRIPTION:soup\, sandwich and desert £5.00
GEO:-1.390493;53.234071
LOCATION:St Peter
URL:https://www.achurchnearyou.com/church/13219/service-and-events/events/
 759343/
END:VEVENT
BEGIN:VEVENT
SUMMARY:parish lunch
DTSTART;TZID=Europe/London:20260121T120000
DTEND;TZID=Europe/London:20260121T133000
DTSTAMP:20260421T164828Z
UID:7593432026-01-21 12:00:00+00:00achurchnearyou
CATEGORIES:
DESCRIPTION:soup\, sandwich and desert £5.00
GEO:-1.390493;53.234071
LOCATION:St Peter
URL:https://www.achurchnearyou.com/church/13219/service-and-events/events/
 759343/
END:VEVENT
BEGIN:VEVENT
SUMMARY:parish lunch
DTSTART;TZID=Europe/London:20260218T120000
DTEND;TZID=Europe/London:20260218T133000
DTSTAMP:20260421T164828Z
UID:7593432026-02-18 12:00:00+00:00achurchnearyou
CATEGORIES:
DESCRIPTION:soup\, sandwich and desert £5.00
GEO:-1.390493;53.234071
LOCATION:St Peter
URL:https://www.achurchnearyou.com/church/13219/service-and-events/events/
 759343/
END:VEVENT
BEGIN:VEVENT
SUMMARY:parish lunch
DTSTART;TZID=Europe/London:20260318T120000
DTEND;TZID=Europe/London:20260318T133000
DTSTAMP:20260421T164828Z
UID:7593432026-03-18 12:00:00+00:00achurchnearyou
CATEGORIES:
DESCRIPTION:soup\, sandwich and desert £5.00
GEO:-1.390493;53.234071
LOCATION:St Peter
URL:https://www.achurchnearyou.com/church/13219/service-and-events/events/
 759343/
END:VEVENT
BEGIN:VEVENT
SUMMARY:parish lunch
DTSTART;TZID=Europe/London:20260415T120000
DTEND;TZID=Europe/London:20260415T133000
DTSTAMP:20260421T164828Z
UID:7593432026-04-15 12:00:00+01:00achurchnearyou
CATEGORIES:
DESCRIPTION:soup\, sandwich and desert £5.00
GEO:-1.390493;53.234071
LOCATION:St Peter
URL:https://www.achurchnearyou.com/church/13219/service-and-events/events/
 759343/
END:VEVENT
BEGIN:VEVENT
SUMMARY:parish lunch
DTSTART;TZID=Europe/London:20260520T120000
DTEND;TZID=Europe/London:20260520T133000
DTSTAMP:20260421T164828Z
UID:7593432026-05-20 12:00:00+01:00achurchnearyou
CATEGORIES:
DESCRIPTION:soup\, sandwich and desert £5.00
GEO:-1.390493;53.234071
LOCATION:St Peter
URL:https://www.achurchnearyou.com/church/13219/service-and-events/events/
 759343/
END:VEVENT
BEGIN:VEVENT
SUMMARY:parish lunch
DTSTART;TZID=Europe/London:20260617T120000
DTEND;TZID=Europe/London:20260617T133000
DTSTAMP:20260421T164828Z
UID:7593432026-06-17 12:00:00+01:00achurchnearyou
CATEGORIES:
DESCRIPTION:soup\, sandwich and desert £5.00
GEO:-1.390493;53.234071
LOCATION:St Peter
URL:https://www.achurchnearyou.com/church/13219/service-and-events/events/
 759343/
END:VEVENT
BEGIN:VEVENT
SUMMARY:parish lunch
DTSTART;TZID=Europe/London:20260715T120000
DTEND;TZID=Europe/London:20260715T133000
DTSTAMP:20260421T164828Z
UID:7593432026-07-15 12:00:00+01:00achurchnearyou
CATEGORIES:
DESCRIPTION:soup\, sandwich and desert £5.00
GEO:-1.390493;53.234071
LOCATION:St Peter
URL:https://www.achurchnearyou.com/church/13219/service-and-events/events/
 759343/
END:VEVENT
BEGIN:VEVENT
SUMMARY:parish lunch
DTSTART;TZID=Europe/London:20260819T120000
DTEND;TZID=Europe/London:20260819T133000
DTSTAMP:20260421T164828Z
UID:7593432026-08-19 12:00:00+01:00achurchnearyou
CATEGORIES:
DESCRIPTION:soup\, sandwich and desert £5.00
GEO:-1.390493;53.234071
LOCATION:St Peter
URL:https://www.achurchnearyou.com/church/13219/service-and-events/events/
 759343/
END:VEVENT
BEGIN:VEVENT
SUMMARY:parish lunch
DTSTART;TZID=Europe/London:20260916T120000
DTEND;TZID=Europe/London:20260916T133000
DTSTAMP:20260421T164828Z
UID:7593432026-09-16 12:00:00+01:00achurchnearyou
CATEGORIES:
DESCRIPTION:soup\, sandwich and desert £5.00
GEO:-1.390493;53.234071
LOCATION:St Peter
URL:https://www.achurchnearyou.com/church/13219/service-and-events/events/
 759343/
END:VEVENT
BEGIN:VEVENT
SUMMARY:parish lunch
DTSTART;TZID=Europe/London:20261021T120000
DTEND;TZID=Europe/London:20261021T133000
DTSTAMP:20260421T164828Z
UID:7593432026-10-21 12:00:00+01:00achurchnearyou
CATEGORIES:
DESCRIPTION:soup\, sandwich and desert £5.00
GEO:-1.390493;53.234071
LOCATION:St Peter
URL:https://www.achurchnearyou.com/church/13219/service-and-events/events/
 759343/
END:VEVENT
BEGIN:VEVENT
SUMMARY:parish lunch
DTSTART;TZID=Europe/London:20261118T120000
DTEND;TZID=Europe/London:20261118T133000
DTSTAMP:20260421T164828Z
UID:7593432026-11-18 12:00:00+00:00achurchnearyou
CATEGORIES:
DESCRIPTION:soup\, sandwich and desert £5.00
GEO:-1.390493;53.234071
LOCATION:St Peter
URL:https://www.achurchnearyou.com/church/13219/service-and-events/events/
 759343/
END:VEVENT
BEGIN:VEVENT
SUMMARY:parish lunch
DTSTART;TZID=Europe/London:20261216T120000
DTEND;TZID=Europe/London:20261216T133000
DTSTAMP:20260421T164828Z
UID:7593432026-12-16 12:00:00+00:00achurchnearyou
CATEGORIES:
DESCRIPTION:soup\, sandwich and desert £5.00
GEO:-1.390493;53.234071
LOCATION:St Peter
URL:https://www.achurchnearyou.com/church/13219/service-and-events/events/
 759343/
END:VEVENT
BEGIN:VEVENT
SUMMARY:parish lunch
DTSTART;TZID=Europe/London:20270120T120000
DTEND;TZID=Europe/London:20270120T133000
DTSTAMP:20260421T164828Z
UID:7593432027-01-20 12:00:00+00:00achurchnearyou
CATEGORIES:
DESCRIPTION:soup\, sandwich and desert £5.00
GEO:-1.390493;53.234071
LOCATION:St Peter
URL:https://www.achurchnearyou.com/church/13219/service-and-events/events/
 759343/
END:VEVENT
BEGIN:VEVENT
SUMMARY:parish lunch
DTSTART;TZID=Europe/London:20270217T120000
DTEND;TZID=Europe/London:20270217T133000
DTSTAMP:20260421T164828Z
UID:7593432027-02-17 12:00:00+00:00achurchnearyou
CATEGORIES:
DESCRIPTION:soup\, sandwich and desert £5.00
GEO:-1.390493;53.234071
LOCATION:St Peter
URL:https://www.achurchnearyou.com/church/13219/service-and-events/events/
 759343/
END:VEVENT
BEGIN:VEVENT
SUMMARY:parish lunch
DTSTART;TZID=Europe/London:20270317T120000
DTEND;TZID=Europe/London:20270317T133000
DTSTAMP:20260421T164828Z
UID:7593432027-03-17 12:00:00+00:00achurchnearyou
CATEGORIES:
DESCRIPTION:soup\, sandwich and desert £5.00
GEO:-1.390493;53.234071
LOCATION:St Peter
URL:https://www.achurchnearyou.com/church/13219/service-and-events/events/
 759343/
END:VEVENT
BEGIN:VEVENT
SUMMARY:parish lunch
DTSTART;TZID=Europe/London:20270421T120000
DTEND;TZID=Europe/London:20270421T133000
DTSTAMP:20260421T164828Z
UID:7593432027-04-21 12:00:00+01:00achurchnearyou
CATEGORIES:
DESCRIPTION:soup\, sandwich and desert £5.00
GEO:-1.390493;53.234071
LOCATION:St Peter
URL:https://www.achurchnearyou.com/church/13219/service-and-events/events/
 759343/
END:VEVENT
END:VCALENDAR
