BEGIN:VCALENDAR
VERSION:2.0
PRODID:-//achurchnearyou.com//eventfeed//EN
CALSCALE:GREGORIAN
METHOD:PUBLISH
X-WR-TIMEZONE:UTC
BEGIN:VEVENT
SUMMARY:United Benefice Holy Communion
DTSTART:20251130T111500Z
DTEND:20251130T121500Z
DTSTAMP:20260422T101507Z
UID:12440792025-11-30 11:15:00+00:00achurchnearyou
CATEGORIES:
DESCRIPTION:A service of Holy Communion with hymns (accompanied on the org
 an). All are welcome. There is coffee/tea and refreshment - sometimes baco
 n baps!\, after the service for any who would like to stay and chat.
LOCATION:St Edmund King & Martyr\, Fenny Bentley
URL:https://www.achurchnearyou.com/church/13220/service-and-events/events/
 1244079/
END:VEVENT
END:VCALENDAR
