BEGIN:VCALENDAR
VERSION:2.0
PRODID:-//achurchnearyou.com//eventfeed//EN
CALSCALE:GREGORIAN
METHOD:PUBLISH
X-WR-TIMEZONE:UTC
BEGIN:VEVENT
SUMMARY:Flower Festival Evening service
DTSTART:20250727T170000Z
DTEND:20250727T180000Z
DTSTAMP:20260422T141713Z
UID:12119312025-07-27 17:00:00+00:00achurchnearyou
CATEGORIES:
DESCRIPTION:Service on Sunday 27th at 6.00pm taken by Sue Bamping with a m
 usical connection. Everyone welcome.
GEO:-1.774797;53.195136
LOCATION:St Leonard Church\, Monyash
URL:https://www.achurchnearyou.com/church/13234/service-and-events/events/
 1211931/
END:VEVENT
END:VCALENDAR
