BEGIN:VCALENDAR
VERSION:2.0
PRODID:-//achurchnearyou.com//eventfeed//EN
CALSCALE:GREGORIAN
METHOD:PUBLISH
X-WR-TIMEZONE:UTC
BEGIN:VEVENT
SUMMARY:Holy Communion
DTSTART;TZID=Europe/London:20260315T100000
DTEND;TZID=Europe/London:20260315T110000
DTSTAMP:20260422T002651Z
UID:12897742026-03-15 10:00:00+00:00achurchnearyou
CATEGORIES:
DESCRIPTION:A service of Holy Communion to celebrate Mothering Sunday to b
 e led by Rev Carl Edwards
GEO:-1.774797;53.195136
LOCATION:St Leonard Church\, Monyash
URL:https://www.achurchnearyou.com/church/13234/service-and-events/events/
 1289774/
END:VEVENT
END:VCALENDAR
