BEGIN:VCALENDAR
VERSION:2.0
PRODID:-//achurchnearyou.com//eventfeed//EN
CALSCALE:GREGORIAN
METHOD:PUBLISH
X-WR-TIMEZONE:UTC
BEGIN:VEVENT
SUMMARY:Eucharist
DTSTART;TZID=Europe/London:20260426T093000
DTEND;TZID=Europe/London:20260426T103500
DTSTAMP:20260421T113133Z
UID:725272026-04-26 09:30:00+01:00achurchnearyou
CATEGORIES:
DESCRIPTION:All are welcome to join us for our Eucharist services which in
 clude hymns\, Bible readings\, a sermon and sharing in communion. \nThe mi
 nisters wear robes\, as do the choir when available. We warmly welcome chi
 ldren of all ages to join us: whilst we do not currently run any childrens
  groups during the service there are books\, toys and drawing materials al
 ways available for them to use in the pews or in the 'childrens' corner'. 
 The bells are rung before our Sunday service  and refreshments are usually
  available afterwards in the Schoolroom (next door).
GEO:-1.497247;53.243486
LOCATION:St Peter & St Paul
URL:https://www.achurchnearyou.com/church/13250/service-and-events/events/
 72527/
END:VEVENT
BEGIN:VEVENT
SUMMARY:Eucharist
DTSTART;TZID=Europe/London:20260510T093000
DTEND;TZID=Europe/London:20260510T103500
DTSTAMP:20260421T113133Z
UID:725272026-05-10 09:30:00+01:00achurchnearyou
CATEGORIES:
DESCRIPTION:All are welcome to join us for our Eucharist services which in
 clude hymns\, Bible readings\, a sermon and sharing in communion. \nThe mi
 nisters wear robes\, as do the choir when available. We warmly welcome chi
 ldren of all ages to join us: whilst we do not currently run any childrens
  groups during the service there are books\, toys and drawing materials al
 ways available for them to use in the pews or in the 'childrens' corner'. 
 The bells are rung before our Sunday service  and refreshments are usually
  available afterwards in the Schoolroom (next door).
GEO:-1.497247;53.243486
LOCATION:St Peter & St Paul
URL:https://www.achurchnearyou.com/church/13250/service-and-events/events/
 72527/
END:VEVENT
BEGIN:VEVENT
SUMMARY:Eucharist
DTSTART;TZID=Europe/London:20260524T093000
DTEND;TZID=Europe/London:20260524T103500
DTSTAMP:20260421T113133Z
UID:725272026-05-24 09:30:00+01:00achurchnearyou
CATEGORIES:
DESCRIPTION:All are welcome to join us for our Eucharist services which in
 clude hymns\, Bible readings\, a sermon and sharing in communion. \nThe mi
 nisters wear robes\, as do the choir when available. We warmly welcome chi
 ldren of all ages to join us: whilst we do not currently run any childrens
  groups during the service there are books\, toys and drawing materials al
 ways available for them to use in the pews or in the 'childrens' corner'. 
 The bells are rung before our Sunday service  and refreshments are usually
  available afterwards in the Schoolroom (next door).
GEO:-1.497247;53.243486
LOCATION:St Peter & St Paul
URL:https://www.achurchnearyou.com/church/13250/service-and-events/events/
 72527/
END:VEVENT
BEGIN:VEVENT
SUMMARY:Eucharist
DTSTART;TZID=Europe/London:20260531T093000
DTEND;TZID=Europe/London:20260531T103500
DTSTAMP:20260421T113133Z
UID:725272026-05-31 09:30:00+01:00achurchnearyou
CATEGORIES:
DESCRIPTION:All are welcome to join us for our Eucharist services which in
 clude hymns\, Bible readings\, a sermon and sharing in communion. \nThe mi
 nisters wear robes\, as do the choir when available. We warmly welcome chi
 ldren of all ages to join us: whilst we do not currently run any childrens
  groups during the service there are books\, toys and drawing materials al
 ways available for them to use in the pews or in the 'childrens' corner'. 
 The bells are rung before our Sunday service  and refreshments are usually
  available afterwards in the Schoolroom (next door).
GEO:-1.497247;53.243486
LOCATION:St Peter & St Paul
URL:https://www.achurchnearyou.com/church/13250/service-and-events/events/
 72527/
END:VEVENT
BEGIN:VEVENT
SUMMARY:Eucharist
DTSTART;TZID=Europe/London:20260614T093000
DTEND;TZID=Europe/London:20260614T103500
DTSTAMP:20260421T113133Z
UID:725272026-06-14 09:30:00+01:00achurchnearyou
CATEGORIES:
DESCRIPTION:All are welcome to join us for our Eucharist services which in
 clude hymns\, Bible readings\, a sermon and sharing in communion. \nThe mi
 nisters wear robes\, as do the choir when available. We warmly welcome chi
 ldren of all ages to join us: whilst we do not currently run any childrens
  groups during the service there are books\, toys and drawing materials al
 ways available for them to use in the pews or in the 'childrens' corner'. 
 The bells are rung before our Sunday service  and refreshments are usually
  available afterwards in the Schoolroom (next door).
GEO:-1.497247;53.243486
LOCATION:St Peter & St Paul
URL:https://www.achurchnearyou.com/church/13250/service-and-events/events/
 72527/
END:VEVENT
BEGIN:VEVENT
SUMMARY:Eucharist
DTSTART;TZID=Europe/London:20260628T093000
DTEND;TZID=Europe/London:20260628T103500
DTSTAMP:20260421T113133Z
UID:725272026-06-28 09:30:00+01:00achurchnearyou
CATEGORIES:
DESCRIPTION:All are welcome to join us for our Eucharist services which in
 clude hymns\, Bible readings\, a sermon and sharing in communion. \nThe mi
 nisters wear robes\, as do the choir when available. We warmly welcome chi
 ldren of all ages to join us: whilst we do not currently run any childrens
  groups during the service there are books\, toys and drawing materials al
 ways available for them to use in the pews or in the 'childrens' corner'. 
 The bells are rung before our Sunday service  and refreshments are usually
  available afterwards in the Schoolroom (next door).
GEO:-1.497247;53.243486
LOCATION:St Peter & St Paul
URL:https://www.achurchnearyou.com/church/13250/service-and-events/events/
 72527/
END:VEVENT
BEGIN:VEVENT
SUMMARY:Eucharist
DTSTART;TZID=Europe/London:20260712T093000
DTEND;TZID=Europe/London:20260712T103500
DTSTAMP:20260421T113133Z
UID:725272026-07-12 09:30:00+01:00achurchnearyou
CATEGORIES:
DESCRIPTION:All are welcome to join us for our Eucharist services which in
 clude hymns\, Bible readings\, a sermon and sharing in communion. \nThe mi
 nisters wear robes\, as do the choir when available. We warmly welcome chi
 ldren of all ages to join us: whilst we do not currently run any childrens
  groups during the service there are books\, toys and drawing materials al
 ways available for them to use in the pews or in the 'childrens' corner'. 
 The bells are rung before our Sunday service  and refreshments are usually
  available afterwards in the Schoolroom (next door).
GEO:-1.497247;53.243486
LOCATION:St Peter & St Paul
URL:https://www.achurchnearyou.com/church/13250/service-and-events/events/
 72527/
END:VEVENT
BEGIN:VEVENT
SUMMARY:Eucharist
DTSTART;TZID=Europe/London:20260726T093000
DTEND;TZID=Europe/London:20260726T103500
DTSTAMP:20260421T113133Z
UID:725272026-07-26 09:30:00+01:00achurchnearyou
CATEGORIES:
DESCRIPTION:All are welcome to join us for our Eucharist services which in
 clude hymns\, Bible readings\, a sermon and sharing in communion. \nThe mi
 nisters wear robes\, as do the choir when available. We warmly welcome chi
 ldren of all ages to join us: whilst we do not currently run any childrens
  groups during the service there are books\, toys and drawing materials al
 ways available for them to use in the pews or in the 'childrens' corner'. 
 The bells are rung before our Sunday service  and refreshments are usually
  available afterwards in the Schoolroom (next door).
GEO:-1.497247;53.243486
LOCATION:St Peter & St Paul
URL:https://www.achurchnearyou.com/church/13250/service-and-events/events/
 72527/
END:VEVENT
BEGIN:VEVENT
SUMMARY:Eucharist
DTSTART;TZID=Europe/London:20260809T093000
DTEND;TZID=Europe/London:20260809T103500
DTSTAMP:20260421T113133Z
UID:725272026-08-09 09:30:00+01:00achurchnearyou
CATEGORIES:
DESCRIPTION:All are welcome to join us for our Eucharist services which in
 clude hymns\, Bible readings\, a sermon and sharing in communion. \nThe mi
 nisters wear robes\, as do the choir when available. We warmly welcome chi
 ldren of all ages to join us: whilst we do not currently run any childrens
  groups during the service there are books\, toys and drawing materials al
 ways available for them to use in the pews or in the 'childrens' corner'. 
 The bells are rung before our Sunday service  and refreshments are usually
  available afterwards in the Schoolroom (next door).
GEO:-1.497247;53.243486
LOCATION:St Peter & St Paul
URL:https://www.achurchnearyou.com/church/13250/service-and-events/events/
 72527/
END:VEVENT
BEGIN:VEVENT
SUMMARY:Eucharist
DTSTART;TZID=Europe/London:20260823T093000
DTEND;TZID=Europe/London:20260823T103500
DTSTAMP:20260421T113133Z
UID:725272026-08-23 09:30:00+01:00achurchnearyou
CATEGORIES:
DESCRIPTION:All are welcome to join us for our Eucharist services which in
 clude hymns\, Bible readings\, a sermon and sharing in communion. \nThe mi
 nisters wear robes\, as do the choir when available. We warmly welcome chi
 ldren of all ages to join us: whilst we do not currently run any childrens
  groups during the service there are books\, toys and drawing materials al
 ways available for them to use in the pews or in the 'childrens' corner'. 
 The bells are rung before our Sunday service  and refreshments are usually
  available afterwards in the Schoolroom (next door).
GEO:-1.497247;53.243486
LOCATION:St Peter & St Paul
URL:https://www.achurchnearyou.com/church/13250/service-and-events/events/
 72527/
END:VEVENT
BEGIN:VEVENT
SUMMARY:Eucharist
DTSTART;TZID=Europe/London:20260830T093000
DTEND;TZID=Europe/London:20260830T103500
DTSTAMP:20260421T113133Z
UID:725272026-08-30 09:30:00+01:00achurchnearyou
CATEGORIES:
DESCRIPTION:All are welcome to join us for our Eucharist services which in
 clude hymns\, Bible readings\, a sermon and sharing in communion. \nThe mi
 nisters wear robes\, as do the choir when available. We warmly welcome chi
 ldren of all ages to join us: whilst we do not currently run any childrens
  groups during the service there are books\, toys and drawing materials al
 ways available for them to use in the pews or in the 'childrens' corner'. 
 The bells are rung before our Sunday service  and refreshments are usually
  available afterwards in the Schoolroom (next door).
GEO:-1.497247;53.243486
LOCATION:St Peter & St Paul
URL:https://www.achurchnearyou.com/church/13250/service-and-events/events/
 72527/
END:VEVENT
BEGIN:VEVENT
SUMMARY:Eucharist
DTSTART;TZID=Europe/London:20260913T093000
DTEND;TZID=Europe/London:20260913T103500
DTSTAMP:20260421T113133Z
UID:725272026-09-13 09:30:00+01:00achurchnearyou
CATEGORIES:
DESCRIPTION:All are welcome to join us for our Eucharist services which in
 clude hymns\, Bible readings\, a sermon and sharing in communion. \nThe mi
 nisters wear robes\, as do the choir when available. We warmly welcome chi
 ldren of all ages to join us: whilst we do not currently run any childrens
  groups during the service there are books\, toys and drawing materials al
 ways available for them to use in the pews or in the 'childrens' corner'. 
 The bells are rung before our Sunday service  and refreshments are usually
  available afterwards in the Schoolroom (next door).
GEO:-1.497247;53.243486
LOCATION:St Peter & St Paul
URL:https://www.achurchnearyou.com/church/13250/service-and-events/events/
 72527/
END:VEVENT
BEGIN:VEVENT
SUMMARY:Eucharist
DTSTART;TZID=Europe/London:20260927T093000
DTEND;TZID=Europe/London:20260927T103500
DTSTAMP:20260421T113133Z
UID:725272026-09-27 09:30:00+01:00achurchnearyou
CATEGORIES:
DESCRIPTION:All are welcome to join us for our Eucharist services which in
 clude hymns\, Bible readings\, a sermon and sharing in communion. \nThe mi
 nisters wear robes\, as do the choir when available. We warmly welcome chi
 ldren of all ages to join us: whilst we do not currently run any childrens
  groups during the service there are books\, toys and drawing materials al
 ways available for them to use in the pews or in the 'childrens' corner'. 
 The bells are rung before our Sunday service  and refreshments are usually
  available afterwards in the Schoolroom (next door).
GEO:-1.497247;53.243486
LOCATION:St Peter & St Paul
URL:https://www.achurchnearyou.com/church/13250/service-and-events/events/
 72527/
END:VEVENT
BEGIN:VEVENT
SUMMARY:Eucharist
DTSTART;TZID=Europe/London:20261011T093000
DTEND;TZID=Europe/London:20261011T103500
DTSTAMP:20260421T113133Z
UID:725272026-10-11 09:30:00+01:00achurchnearyou
CATEGORIES:
DESCRIPTION:All are welcome to join us for our Eucharist services which in
 clude hymns\, Bible readings\, a sermon and sharing in communion. \nThe mi
 nisters wear robes\, as do the choir when available. We warmly welcome chi
 ldren of all ages to join us: whilst we do not currently run any childrens
  groups during the service there are books\, toys and drawing materials al
 ways available for them to use in the pews or in the 'childrens' corner'. 
 The bells are rung before our Sunday service  and refreshments are usually
  available afterwards in the Schoolroom (next door).
GEO:-1.497247;53.243486
LOCATION:St Peter & St Paul
URL:https://www.achurchnearyou.com/church/13250/service-and-events/events/
 72527/
END:VEVENT
BEGIN:VEVENT
SUMMARY:Eucharist
DTSTART;TZID=Europe/London:20261025T093000
DTEND;TZID=Europe/London:20261025T103500
DTSTAMP:20260421T113133Z
UID:725272026-10-25 09:30:00+00:00achurchnearyou
CATEGORIES:
DESCRIPTION:All are welcome to join us for our Eucharist services which in
 clude hymns\, Bible readings\, a sermon and sharing in communion. \nThe mi
 nisters wear robes\, as do the choir when available. We warmly welcome chi
 ldren of all ages to join us: whilst we do not currently run any childrens
  groups during the service there are books\, toys and drawing materials al
 ways available for them to use in the pews or in the 'childrens' corner'. 
 The bells are rung before our Sunday service  and refreshments are usually
  available afterwards in the Schoolroom (next door).
GEO:-1.497247;53.243486
LOCATION:St Peter & St Paul
URL:https://www.achurchnearyou.com/church/13250/service-and-events/events/
 72527/
END:VEVENT
BEGIN:VEVENT
SUMMARY:Eucharist
DTSTART;TZID=Europe/London:20261108T093000
DTEND;TZID=Europe/London:20261108T103500
DTSTAMP:20260421T113133Z
UID:725272026-11-08 09:30:00+00:00achurchnearyou
CATEGORIES:
DESCRIPTION:All are welcome to join us for our Eucharist services which in
 clude hymns\, Bible readings\, a sermon and sharing in communion. \nThe mi
 nisters wear robes\, as do the choir when available. We warmly welcome chi
 ldren of all ages to join us: whilst we do not currently run any childrens
  groups during the service there are books\, toys and drawing materials al
 ways available for them to use in the pews or in the 'childrens' corner'. 
 The bells are rung before our Sunday service  and refreshments are usually
  available afterwards in the Schoolroom (next door).
GEO:-1.497247;53.243486
LOCATION:St Peter & St Paul
URL:https://www.achurchnearyou.com/church/13250/service-and-events/events/
 72527/
END:VEVENT
BEGIN:VEVENT
SUMMARY:Eucharist
DTSTART;TZID=Europe/London:20261122T093000
DTEND;TZID=Europe/London:20261122T103500
DTSTAMP:20260421T113133Z
UID:725272026-11-22 09:30:00+00:00achurchnearyou
CATEGORIES:
DESCRIPTION:All are welcome to join us for our Eucharist services which in
 clude hymns\, Bible readings\, a sermon and sharing in communion. \nThe mi
 nisters wear robes\, as do the choir when available. We warmly welcome chi
 ldren of all ages to join us: whilst we do not currently run any childrens
  groups during the service there are books\, toys and drawing materials al
 ways available for them to use in the pews or in the 'childrens' corner'. 
 The bells are rung before our Sunday service  and refreshments are usually
  available afterwards in the Schoolroom (next door).
GEO:-1.497247;53.243486
LOCATION:St Peter & St Paul
URL:https://www.achurchnearyou.com/church/13250/service-and-events/events/
 72527/
END:VEVENT
BEGIN:VEVENT
SUMMARY:Eucharist
DTSTART;TZID=Europe/London:20261129T093000
DTEND;TZID=Europe/London:20261129T103500
DTSTAMP:20260421T113133Z
UID:725272026-11-29 09:30:00+00:00achurchnearyou
CATEGORIES:
DESCRIPTION:All are welcome to join us for our Eucharist services which in
 clude hymns\, Bible readings\, a sermon and sharing in communion. \nThe mi
 nisters wear robes\, as do the choir when available. We warmly welcome chi
 ldren of all ages to join us: whilst we do not currently run any childrens
  groups during the service there are books\, toys and drawing materials al
 ways available for them to use in the pews or in the 'childrens' corner'. 
 The bells are rung before our Sunday service  and refreshments are usually
  available afterwards in the Schoolroom (next door).
GEO:-1.497247;53.243486
LOCATION:St Peter & St Paul
URL:https://www.achurchnearyou.com/church/13250/service-and-events/events/
 72527/
END:VEVENT
BEGIN:VEVENT
SUMMARY:Eucharist
DTSTART;TZID=Europe/London:20261213T093000
DTEND;TZID=Europe/London:20261213T103500
DTSTAMP:20260421T113133Z
UID:725272026-12-13 09:30:00+00:00achurchnearyou
CATEGORIES:
DESCRIPTION:All are welcome to join us for our Eucharist services which in
 clude hymns\, Bible readings\, a sermon and sharing in communion. \nThe mi
 nisters wear robes\, as do the choir when available. We warmly welcome chi
 ldren of all ages to join us: whilst we do not currently run any childrens
  groups during the service there are books\, toys and drawing materials al
 ways available for them to use in the pews or in the 'childrens' corner'. 
 The bells are rung before our Sunday service  and refreshments are usually
  available afterwards in the Schoolroom (next door).
GEO:-1.497247;53.243486
LOCATION:St Peter & St Paul
URL:https://www.achurchnearyou.com/church/13250/service-and-events/events/
 72527/
END:VEVENT
BEGIN:VEVENT
SUMMARY:Eucharist
DTSTART;TZID=Europe/London:20261227T093000
DTEND;TZID=Europe/London:20261227T103500
DTSTAMP:20260421T113133Z
UID:725272026-12-27 09:30:00+00:00achurchnearyou
CATEGORIES:
DESCRIPTION:All are welcome to join us for our Eucharist services which in
 clude hymns\, Bible readings\, a sermon and sharing in communion. \nThe mi
 nisters wear robes\, as do the choir when available. We warmly welcome chi
 ldren of all ages to join us: whilst we do not currently run any childrens
  groups during the service there are books\, toys and drawing materials al
 ways available for them to use in the pews or in the 'childrens' corner'. 
 The bells are rung before our Sunday service  and refreshments are usually
  available afterwards in the Schoolroom (next door).
GEO:-1.497247;53.243486
LOCATION:St Peter & St Paul
URL:https://www.achurchnearyou.com/church/13250/service-and-events/events/
 72527/
END:VEVENT
BEGIN:VEVENT
SUMMARY:Eucharist
DTSTART;TZID=Europe/London:20270110T093000
DTEND;TZID=Europe/London:20270110T103500
DTSTAMP:20260421T113133Z
UID:725272027-01-10 09:30:00+00:00achurchnearyou
CATEGORIES:
DESCRIPTION:All are welcome to join us for our Eucharist services which in
 clude hymns\, Bible readings\, a sermon and sharing in communion. \nThe mi
 nisters wear robes\, as do the choir when available. We warmly welcome chi
 ldren of all ages to join us: whilst we do not currently run any childrens
  groups during the service there are books\, toys and drawing materials al
 ways available for them to use in the pews or in the 'childrens' corner'. 
 The bells are rung before our Sunday service  and refreshments are usually
  available afterwards in the Schoolroom (next door).
GEO:-1.497247;53.243486
LOCATION:St Peter & St Paul
URL:https://www.achurchnearyou.com/church/13250/service-and-events/events/
 72527/
END:VEVENT
BEGIN:VEVENT
SUMMARY:Eucharist
DTSTART;TZID=Europe/London:20270124T093000
DTEND;TZID=Europe/London:20270124T103500
DTSTAMP:20260421T113133Z
UID:725272027-01-24 09:30:00+00:00achurchnearyou
CATEGORIES:
DESCRIPTION:All are welcome to join us for our Eucharist services which in
 clude hymns\, Bible readings\, a sermon and sharing in communion. \nThe mi
 nisters wear robes\, as do the choir when available. We warmly welcome chi
 ldren of all ages to join us: whilst we do not currently run any childrens
  groups during the service there are books\, toys and drawing materials al
 ways available for them to use in the pews or in the 'childrens' corner'. 
 The bells are rung before our Sunday service  and refreshments are usually
  available afterwards in the Schoolroom (next door).
GEO:-1.497247;53.243486
LOCATION:St Peter & St Paul
URL:https://www.achurchnearyou.com/church/13250/service-and-events/events/
 72527/
END:VEVENT
BEGIN:VEVENT
SUMMARY:Eucharist
DTSTART;TZID=Europe/London:20270131T093000
DTEND;TZID=Europe/London:20270131T103500
DTSTAMP:20260421T113133Z
UID:725272027-01-31 09:30:00+00:00achurchnearyou
CATEGORIES:
DESCRIPTION:All are welcome to join us for our Eucharist services which in
 clude hymns\, Bible readings\, a sermon and sharing in communion. \nThe mi
 nisters wear robes\, as do the choir when available. We warmly welcome chi
 ldren of all ages to join us: whilst we do not currently run any childrens
  groups during the service there are books\, toys and drawing materials al
 ways available for them to use in the pews or in the 'childrens' corner'. 
 The bells are rung before our Sunday service  and refreshments are usually
  available afterwards in the Schoolroom (next door).
GEO:-1.497247;53.243486
LOCATION:St Peter & St Paul
URL:https://www.achurchnearyou.com/church/13250/service-and-events/events/
 72527/
END:VEVENT
BEGIN:VEVENT
SUMMARY:Eucharist
DTSTART;TZID=Europe/London:20270214T093000
DTEND;TZID=Europe/London:20270214T103500
DTSTAMP:20260421T113133Z
UID:725272027-02-14 09:30:00+00:00achurchnearyou
CATEGORIES:
DESCRIPTION:All are welcome to join us for our Eucharist services which in
 clude hymns\, Bible readings\, a sermon and sharing in communion. \nThe mi
 nisters wear robes\, as do the choir when available. We warmly welcome chi
 ldren of all ages to join us: whilst we do not currently run any childrens
  groups during the service there are books\, toys and drawing materials al
 ways available for them to use in the pews or in the 'childrens' corner'. 
 The bells are rung before our Sunday service  and refreshments are usually
  available afterwards in the Schoolroom (next door).
GEO:-1.497247;53.243486
LOCATION:St Peter & St Paul
URL:https://www.achurchnearyou.com/church/13250/service-and-events/events/
 72527/
END:VEVENT
BEGIN:VEVENT
SUMMARY:Eucharist
DTSTART;TZID=Europe/London:20270228T093000
DTEND;TZID=Europe/London:20270228T103500
DTSTAMP:20260421T113133Z
UID:725272027-02-28 09:30:00+00:00achurchnearyou
CATEGORIES:
DESCRIPTION:All are welcome to join us for our Eucharist services which in
 clude hymns\, Bible readings\, a sermon and sharing in communion. \nThe mi
 nisters wear robes\, as do the choir when available. We warmly welcome chi
 ldren of all ages to join us: whilst we do not currently run any childrens
  groups during the service there are books\, toys and drawing materials al
 ways available for them to use in the pews or in the 'childrens' corner'. 
 The bells are rung before our Sunday service  and refreshments are usually
  available afterwards in the Schoolroom (next door).
GEO:-1.497247;53.243486
LOCATION:St Peter & St Paul
URL:https://www.achurchnearyou.com/church/13250/service-and-events/events/
 72527/
END:VEVENT
BEGIN:VEVENT
SUMMARY:Eucharist
DTSTART;TZID=Europe/London:20270314T093000
DTEND;TZID=Europe/London:20270314T103500
DTSTAMP:20260421T113133Z
UID:725272027-03-14 09:30:00+00:00achurchnearyou
CATEGORIES:
DESCRIPTION:All are welcome to join us for our Eucharist services which in
 clude hymns\, Bible readings\, a sermon and sharing in communion. \nThe mi
 nisters wear robes\, as do the choir when available. We warmly welcome chi
 ldren of all ages to join us: whilst we do not currently run any childrens
  groups during the service there are books\, toys and drawing materials al
 ways available for them to use in the pews or in the 'childrens' corner'. 
 The bells are rung before our Sunday service  and refreshments are usually
  available afterwards in the Schoolroom (next door).
GEO:-1.497247;53.243486
LOCATION:St Peter & St Paul
URL:https://www.achurchnearyou.com/church/13250/service-and-events/events/
 72527/
END:VEVENT
BEGIN:VEVENT
SUMMARY:Eucharist
DTSTART;TZID=Europe/London:20270328T093000
DTEND;TZID=Europe/London:20270328T103500
DTSTAMP:20260421T113133Z
UID:725272027-03-28 09:30:00+01:00achurchnearyou
CATEGORIES:
DESCRIPTION:All are welcome to join us for our Eucharist services which in
 clude hymns\, Bible readings\, a sermon and sharing in communion. \nThe mi
 nisters wear robes\, as do the choir when available. We warmly welcome chi
 ldren of all ages to join us: whilst we do not currently run any childrens
  groups during the service there are books\, toys and drawing materials al
 ways available for them to use in the pews or in the 'childrens' corner'. 
 The bells are rung before our Sunday service  and refreshments are usually
  available afterwards in the Schoolroom (next door).
GEO:-1.497247;53.243486
LOCATION:St Peter & St Paul
URL:https://www.achurchnearyou.com/church/13250/service-and-events/events/
 72527/
END:VEVENT
BEGIN:VEVENT
SUMMARY:Eucharist
DTSTART;TZID=Europe/London:20270411T093000
DTEND;TZID=Europe/London:20270411T103500
DTSTAMP:20260421T113133Z
UID:725272027-04-11 09:30:00+01:00achurchnearyou
CATEGORIES:
DESCRIPTION:All are welcome to join us for our Eucharist services which in
 clude hymns\, Bible readings\, a sermon and sharing in communion. \nThe mi
 nisters wear robes\, as do the choir when available. We warmly welcome chi
 ldren of all ages to join us: whilst we do not currently run any childrens
  groups during the service there are books\, toys and drawing materials al
 ways available for them to use in the pews or in the 'childrens' corner'. 
 The bells are rung before our Sunday service  and refreshments are usually
  available afterwards in the Schoolroom (next door).
GEO:-1.497247;53.243486
LOCATION:St Peter & St Paul
URL:https://www.achurchnearyou.com/church/13250/service-and-events/events/
 72527/
END:VEVENT
END:VCALENDAR
