BEGIN:VCALENDAR
VERSION:2.0
PRODID:-//achurchnearyou.com//eventfeed//EN
CALSCALE:GREGORIAN
METHOD:PUBLISH
X-WR-TIMEZONE:UTC
BEGIN:VEVENT
SUMMARY:Matins & Communion at St. John the Baptist\, Dethick (1st Sunday)
DTSTART;TZID=Europe/London:20260503T110000
DTEND;TZID=Europe/London:20260503T120000
DTSTAMP:20260422T173254Z
UID:4308621777802400.0achurchnearyou
CATEGORIES:
DESCRIPTION:Two beautiful\, traditional services with a short break betwee
 n for those not wishing to stay for Communion.
GEO:-1.512683;53.11792
LOCATION:St John the Baptist
URL:https://www.achurchnearyou.com/church/13304/service-and-events/events/
 430862/
END:VEVENT
BEGIN:VEVENT
SUMMARY:Matins & Communion at St. John the Baptist\, Dethick (1st Sunday)
DTSTART;TZID=Europe/London:20260607T110000
DTEND;TZID=Europe/London:20260607T120000
DTSTAMP:20260422T173254Z
UID:4308621780826400.0achurchnearyou
CATEGORIES:
DESCRIPTION:Two beautiful\, traditional services with a short break betwee
 n for those not wishing to stay for Communion.
GEO:-1.512683;53.11792
LOCATION:St John the Baptist
URL:https://www.achurchnearyou.com/church/13304/service-and-events/events/
 430862/
END:VEVENT
BEGIN:VEVENT
SUMMARY:Matins & Communion at St. John the Baptist\, Dethick (1st Sunday)
DTSTART;TZID=Europe/London:20260705T110000
DTEND;TZID=Europe/London:20260705T120000
DTSTAMP:20260422T173254Z
UID:4308621783245600.0achurchnearyou
CATEGORIES:
DESCRIPTION:Two beautiful\, traditional services with a short break betwee
 n for those not wishing to stay for Communion.
GEO:-1.512683;53.11792
LOCATION:St John the Baptist
URL:https://www.achurchnearyou.com/church/13304/service-and-events/events/
 430862/
END:VEVENT
BEGIN:VEVENT
SUMMARY:Matins & Communion at St. John the Baptist\, Dethick (1st Sunday)
DTSTART;TZID=Europe/London:20260802T110000
DTEND;TZID=Europe/London:20260802T120000
DTSTAMP:20260422T173254Z
UID:4308621785664800.0achurchnearyou
CATEGORIES:
DESCRIPTION:Two beautiful\, traditional services with a short break betwee
 n for those not wishing to stay for Communion.
GEO:-1.512683;53.11792
LOCATION:St John the Baptist
URL:https://www.achurchnearyou.com/church/13304/service-and-events/events/
 430862/
END:VEVENT
BEGIN:VEVENT
SUMMARY:Matins & Communion at St. John the Baptist\, Dethick (1st Sunday)
DTSTART;TZID=Europe/London:20260906T110000
DTEND;TZID=Europe/London:20260906T120000
DTSTAMP:20260422T173254Z
UID:4308621788688800.0achurchnearyou
CATEGORIES:
DESCRIPTION:Two beautiful\, traditional services with a short break betwee
 n for those not wishing to stay for Communion.
GEO:-1.512683;53.11792
LOCATION:St John the Baptist
URL:https://www.achurchnearyou.com/church/13304/service-and-events/events/
 430862/
END:VEVENT
END:VCALENDAR
