BEGIN:VCALENDAR
VERSION:2.0
PRODID:-//achurchnearyou.com//eventfeed//EN
CALSCALE:GREGORIAN
METHOD:PUBLISH
X-WR-TIMEZONE:UTC
BEGIN:VEVENT
SUMMARY:Make a Joyful Noise - Celebration Summer
DTSTART:20230709T170000Z
DTEND:20230709T180000Z
DTSTAMP:20260422T005626Z
UID:9529692023-07-09 17:00:00+00:00achurchnearyou
CATEGORIES:
DESCRIPTION:Come and join us for another worship service with songs\, hymn
 s and readings on Sunday 9th July at 6pm in All Saints Church\, Elton. Ref
 reshments served afterwards. Lifts to Elton are available if required - pl
 ease contact the team office on 01629 824707.
LOCATION:All Saints\, Elton
URL:https://www.achurchnearyou.com/church/13317/service-and-events/events/
 952969/
END:VEVENT
END:VCALENDAR
