BEGIN:VCALENDAR
VERSION:2.0
PRODID:-//achurchnearyou.com//eventfeed//EN
CALSCALE:GREGORIAN
METHOD:PUBLISH
X-WR-TIMEZONE:UTC
BEGIN:VEVENT
SUMMARY:Remembrance
DTSTART:20251109T101500Z
DTEND:20251109T111500Z
DTSTAMP:20260420T230942Z
UID:12386602025-11-09 10:15:00+00:00achurchnearyou
CATEGORIES:
DESCRIPTION:Service of Remembrance
GEO:-1.720273;53.086056
LOCATION:St Peter\, Parwich
URL:https://www.achurchnearyou.com/church/13330/service-and-events/events/
 1238660/
END:VEVENT
END:VCALENDAR
