BEGIN:VCALENDAR
VERSION:2.0
PRODID:-//achurchnearyou.com//eventfeed//EN
CALSCALE:GREGORIAN
METHOD:PUBLISH
X-WR-TIMEZONE:UTC
BEGIN:VEVENT
SUMMARY:Morning Prayer service
DTSTART:20260215T091500Z
DTEND:20260215T101500Z
DTSTAMP:20260420T171430Z
UID:12782972026-02-15 09:15:00+00:00achurchnearyou
CATEGORIES:
DESCRIPTION:You are most welcome to join us for our Morning Prayer service
GEO:-1.720273;53.086056
LOCATION:St Peter\, Parwich
URL:https://www.achurchnearyou.com/church/13330/service-and-events/events/
 1278297/
END:VEVENT
END:VCALENDAR
