BEGIN:VCALENDAR
VERSION:2.0
PRODID:-//achurchnearyou.com//eventfeed//EN
CALSCALE:GREGORIAN
METHOD:PUBLISH
X-WR-TIMEZONE:UTC
BEGIN:VEVENT
SUMMARY:Odd Fellows' Wakes service
DTSTART:20250628T100000Z
DTEND:20250628T110000Z
DTSTAMP:20260421T073839Z
UID:11909182025-06-28 10:00:00+00:00achurchnearyou
CATEGORIES:
DESCRIPTION:Part of Parwich village Wakes tradition
GEO:-1.738093;53.067445
LOCATION:St Peter\, Parwich
URL:https://www.achurchnearyou.com/church/13334/service-and-events/events/
 1190918/
END:VEVENT
END:VCALENDAR
