BEGIN:VCALENDAR
VERSION:2.0
PRODID:-//achurchnearyou.com//eventfeed//EN
CALSCALE:GREGORIAN
METHOD:PUBLISH
X-WR-TIMEZONE:UTC
BEGIN:VEVENT
SUMMARY:Harvest Festival with Holy Communion
DTSTART:20251005T101500Z
DTEND:20251005T111500Z
DTSTAMP:20260420T232820Z
UID:12289872025-10-05 10:15:00+00:00achurchnearyou
CATEGORIES:
DESCRIPTION:Celebration of Harvest with Holly Communion. Please bring gift
 s suitable to be donated to the Food Bank. Tea and coffee served after the
  service.
GEO:-1.738093;53.067445
LOCATION:St Mary\, Tissington
URL:https://www.achurchnearyou.com/church/13334/service-and-events/events/
 1228987/
END:VEVENT
END:VCALENDAR
