BEGIN:VCALENDAR
VERSION:2.0
PRODID:-//achurchnearyou.com//eventfeed//EN
CALSCALE:GREGORIAN
METHOD:PUBLISH
X-WR-TIMEZONE:UTC
BEGIN:VEVENT
SUMMARY:Christmas Day Community Meal
DTSTART:20251225T120000Z
DTEND:20251225T150000Z
DTSTAMP:20260425T133221Z
UID:12664892025-12-25 12:00:00+00:00achurchnearyou
CATEGORIES:
DESCRIPTION:A welcoming Christmas meal where everyone can relax\, share go
 od food\, and enjoy the warmth of community on this special day.\n\nPlease
  let us know you are coming in advance by the 11th December. \nLink for th
 e Booking: \nhttps://forms.office.com/pages/responsepage.aspx?id=DQSIkWdsW
 0yxEjajBLZtrQAAAAAAAAAAAAO__pmfOj5UQVpWR0RVQzZHMTVFQ1A2MkpVSklUMVBINy4u&or
 igin=QRCode&qrcodeorigin=presentation&route=shorturl \nOr call us on: 0133
 2 270837.
GEO:-1.482039;52.906119
LOCATION:St Augustine's
URL:https://www.achurchnearyou.com/church/13349/service-and-events/events/
 1266489/
END:VEVENT
END:VCALENDAR
