BEGIN:VCALENDAR
VERSION:2.0
PRODID:-//achurchnearyou.com//eventfeed//EN
CALSCALE:GREGORIAN
METHOD:PUBLISH
X-WR-TIMEZONE:UTC
BEGIN:VEVENT
SUMMARY:Holy Communion
DTSTART:20251228T100000Z
DTEND:20251228T104500Z
DTSTAMP:20260422T023411Z
UID:11244492025-12-28 10:00:00+00:00achurchnearyou
CATEGORIES:
DESCRIPTION:A Holy Communion service will be held in St. Peter's Church\, 
 Littleover. This is a spoken service with no music\, and will be joined by
  the people of All Saints\, Findern.
GEO:-1.507593;52.903825
LOCATION:St Peter's Littleover & Blagreaves
URL:https://www.achurchnearyou.com/church/13353/service-and-events/events/
 1124449/
END:VEVENT
END:VCALENDAR
