BEGIN:VCALENDAR
VERSION:2.0
PRODID:-//achurchnearyou.com//eventfeed//EN
CALSCALE:GREGORIAN
METHOD:PUBLISH
X-WR-TIMEZONE:UTC
BEGIN:VEVENT
SUMMARY:Churches Together in Littleover and Blagreaves Holy Week Reflectio
 n
DTSTART:20260330T180000Z
DTEND:20260330T190000Z
DTSTAMP:20260421T203919Z
UID:11771722026-03-30 18:00:00+00:00achurchnearyou
CATEGORIES:
DESCRIPTION:Churches Together in Littleover and Blagreaves Holy Week Refle
 ction in Littleover Baptist Church
LOCATION:Littleover Baptist Church
URL:https://www.achurchnearyou.com/church/13353/service-and-events/events/
 1177172/
END:VEVENT
END:VCALENDAR
