BEGIN:VCALENDAR
VERSION:2.0
PRODID:-//achurchnearyou.com//eventfeed//EN
CALSCALE:GREGORIAN
METHOD:PUBLISH
X-WR-TIMEZONE:UTC
BEGIN:VEVENT
SUMMARY:Messy Summer
DTSTART:20260614T140000Z
DTEND:20260614T160000Z
DTSTAMP:20260421T164847Z
UID:12809402026-06-14 14:00:00+00:00achurchnearyou
CATEGORIES:
DESCRIPTION:Messy Summer will be held in St Peter's Community Hub.\nThere 
 will be craft activities and baking\, a short talk and a buffet. There wil
 l be games and activities available for the over 11’ s.\nAll children an
 d young people and their families are welcome.
LOCATION:St Peter's Community Hub
URL:https://www.achurchnearyou.com/church/13353/service-and-events/events/
 1280940/
END:VEVENT
END:VCALENDAR
