BEGIN:VCALENDAR
VERSION:2.0
PRODID:-//achurchnearyou.com//eventfeed//EN
CALSCALE:GREGORIAN
METHOD:PUBLISH
X-WR-TIMEZONE:UTC
BEGIN:VEVENT
SUMMARY:Easter Day
DTSTART:20250420T090000Z
DTEND:20250420T100000Z
DTSTAMP:20260422T195426Z
UID:11632332025-04-20 09:00:00+00:00achurchnearyou
CATEGORIES:
DESCRIPTION:We will have Choral Communion at St Edmund's and a family frie
 ndly Choral Communion service at St Matthew's which will end with an Easte
 r egg hunt. Both are at 10am.\n\nAt 6pm we will have Festal Choral Evenson
 g at St Edmund's. You are all very welcome.
GEO:-1.479861;52.944791
LOCATION:St Matthew's Darley Abbey
URL:https://www.achurchnearyou.com/church/13360/service-and-events/events/
 1163233/
END:VEVENT
END:VCALENDAR
