BEGIN:VCALENDAR
VERSION:2.0
PRODID:-//achurchnearyou.com//eventfeed//EN
CALSCALE:GREGORIAN
METHOD:PUBLISH
X-WR-TIMEZONE:UTC
BEGIN:VEVENT
SUMMARY:Stations of the Cross
DTSTART;TZID=Europe/London:20250312T190000
DTEND;TZID=Europe/London:20250312T193000
DTSTAMP:20260422T065804Z
UID:11668602025-03-12 19:00:00+00:00achurchnearyou
CATEGORIES:
DESCRIPTION:Evening service throughout Lent
GEO:-1.485944;53.027445
LOCATION:Christ Church
URL:https://www.achurchnearyou.com/church/13365/service-and-events/events/
 1166860/
END:VEVENT
BEGIN:VEVENT
SUMMARY:Stations of the Cross
DTSTART;TZID=Europe/London:20250319T190000
DTEND;TZID=Europe/London:20250319T193000
DTSTAMP:20260422T065804Z
UID:11668602025-03-19 19:00:00+00:00achurchnearyou
CATEGORIES:
DESCRIPTION:Evening service throughout Lent
GEO:-1.485944;53.027445
LOCATION:Christ Church
URL:https://www.achurchnearyou.com/church/13365/service-and-events/events/
 1166860/
END:VEVENT
BEGIN:VEVENT
SUMMARY:Stations of the Cross
DTSTART;TZID=Europe/London:20250326T190000
DTEND;TZID=Europe/London:20250326T193000
DTSTAMP:20260422T065804Z
UID:11668602025-03-26 19:00:00+00:00achurchnearyou
CATEGORIES:
DESCRIPTION:Evening service throughout Lent
GEO:-1.485944;53.027445
LOCATION:Christ Church
URL:https://www.achurchnearyou.com/church/13365/service-and-events/events/
 1166860/
END:VEVENT
BEGIN:VEVENT
SUMMARY:Stations of the Cross
DTSTART;TZID=Europe/London:20250402T190000
DTEND;TZID=Europe/London:20250402T193000
DTSTAMP:20260422T065804Z
UID:11668602025-04-02 19:00:00+01:00achurchnearyou
CATEGORIES:
DESCRIPTION:Evening service throughout Lent
GEO:-1.485944;53.027445
LOCATION:Christ Church
URL:https://www.achurchnearyou.com/church/13365/service-and-events/events/
 1166860/
END:VEVENT
BEGIN:VEVENT
SUMMARY:Stations of the Cross
DTSTART;TZID=Europe/London:20250409T190000
DTEND;TZID=Europe/London:20250409T193000
DTSTAMP:20260422T065804Z
UID:11668602025-04-09 19:00:00+01:00achurchnearyou
CATEGORIES:
DESCRIPTION:Evening service throughout Lent
GEO:-1.485944;53.027445
LOCATION:Christ Church
URL:https://www.achurchnearyou.com/church/13365/service-and-events/events/
 1166860/
END:VEVENT
END:VCALENDAR
