BEGIN:VCALENDAR
VERSION:2.0
PRODID:-//achurchnearyou.com//eventfeed//EN
CALSCALE:GREGORIAN
METHOD:PUBLISH
X-WR-TIMEZONE:UTC
BEGIN:VEVENT
SUMMARY:Compline
DTSTART:20260329T180000Z
DTEND:20260329T190000Z
DTSTAMP:20260421T083747Z
UID:13190762026-03-29 18:00:00+00:00achurchnearyou
CATEGORIES:
DESCRIPTION:Traditional Sung Compline
GEO:-1.485944;53.027445
LOCATION:Christ Church
URL:https://www.achurchnearyou.com/church/13365/service-and-events/events/
 1319076/
END:VEVENT
END:VCALENDAR
