BEGIN:VCALENDAR
VERSION:2.0
PRODID:-//achurchnearyou.com//eventfeed//EN
CALSCALE:GREGORIAN
METHOD:PUBLISH
X-WR-TIMEZONE:UTC
BEGIN:VEVENT
SUMMARY:An Afternoon of Song
DTSTART;TZID=Europe/London:20260509T150000
DTEND;TZID=Europe/London:20260509T160000
DTSTAMP:20260421T183926Z
UID:12901361778335200.0achurchnearyou
CATEGORIES:
DESCRIPTION:Gem Connection and guests invite you to join us in celebrating
  our 28th birthday with 'An Afternoon of Song' at St Wilfrid's Church on S
 aturday 9th May at 3pm\, tickets £8 - available on the door\, buggy avail
 able to assist access the church.
LOCATION:St Wilfrid
URL:https://www.achurchnearyou.com/church/13408/service-and-events/events/
 1290136/
END:VEVENT
END:VCALENDAR
