BEGIN:VCALENDAR
VERSION:2.0
PRODID:-//achurchnearyou.com//eventfeed//EN
CALSCALE:GREGORIAN
METHOD:PUBLISH
X-WR-TIMEZONE:UTC
BEGIN:VEVENT
SUMMARY:Sunbeams
DTSTART;TZID=Europe/London:20260403T100000
DTEND;TZID=Europe/London:20260403T113000
DTSTAMP:20260424T203943Z
UID:11223681775206800.0achurchnearyou
CATEGORIES:
DESCRIPTION:A baby and toddler group run by our youth and children's worke
 rs
LOCATION:St Mary
URL:https://www.achurchnearyou.com/church/13411/service-and-events/events/
 1122368/
END:VEVENT
BEGIN:VEVENT
SUMMARY:Sunbeams
DTSTART;TZID=Europe/London:20260410T100000
DTEND;TZID=Europe/London:20260410T113000
DTSTAMP:20260424T203943Z
UID:11223681775811600.0achurchnearyou
CATEGORIES:
DESCRIPTION:A baby and toddler group run by our youth and children's worke
 rs
LOCATION:St Mary
URL:https://www.achurchnearyou.com/church/13411/service-and-events/events/
 1122368/
END:VEVENT
BEGIN:VEVENT
SUMMARY:Sunbeams
DTSTART;TZID=Europe/London:20260417T100000
DTEND;TZID=Europe/London:20260417T113000
DTSTAMP:20260424T203943Z
UID:11223681776416400.0achurchnearyou
CATEGORIES:
DESCRIPTION:A baby and toddler group run by our youth and children's worke
 rs
LOCATION:St Mary
URL:https://www.achurchnearyou.com/church/13411/service-and-events/events/
 1122368/
END:VEVENT
BEGIN:VEVENT
SUMMARY:Sunbeams
DTSTART;TZID=Europe/London:20260424T100000
DTEND;TZID=Europe/London:20260424T113000
DTSTAMP:20260424T203943Z
UID:11223681777021200.0achurchnearyou
CATEGORIES:
DESCRIPTION:A baby and toddler group run by our youth and children's worke
 rs
LOCATION:St Mary
URL:https://www.achurchnearyou.com/church/13411/service-and-events/events/
 1122368/
END:VEVENT
BEGIN:VEVENT
SUMMARY:Sunbeams
DTSTART;TZID=Europe/London:20260501T100000
DTEND;TZID=Europe/London:20260501T113000
DTSTAMP:20260424T203943Z
UID:11223681777626000.0achurchnearyou
CATEGORIES:
DESCRIPTION:A baby and toddler group run by our youth and children's worke
 rs
LOCATION:St Mary
URL:https://www.achurchnearyou.com/church/13411/service-and-events/events/
 1122368/
END:VEVENT
BEGIN:VEVENT
SUMMARY:Sunbeams
DTSTART;TZID=Europe/London:20260508T100000
DTEND;TZID=Europe/London:20260508T113000
DTSTAMP:20260424T203943Z
UID:11223681778230800.0achurchnearyou
CATEGORIES:
DESCRIPTION:A baby and toddler group run by our youth and children's worke
 rs
LOCATION:St Mary
URL:https://www.achurchnearyou.com/church/13411/service-and-events/events/
 1122368/
END:VEVENT
BEGIN:VEVENT
SUMMARY:Sunbeams
DTSTART;TZID=Europe/London:20260515T100000
DTEND;TZID=Europe/London:20260515T113000
DTSTAMP:20260424T203943Z
UID:11223681778835600.0achurchnearyou
CATEGORIES:
DESCRIPTION:A baby and toddler group run by our youth and children's worke
 rs
LOCATION:St Mary
URL:https://www.achurchnearyou.com/church/13411/service-and-events/events/
 1122368/
END:VEVENT
BEGIN:VEVENT
SUMMARY:Sunbeams
DTSTART;TZID=Europe/London:20260522T100000
DTEND;TZID=Europe/London:20260522T113000
DTSTAMP:20260424T203943Z
UID:11223681779440400.0achurchnearyou
CATEGORIES:
DESCRIPTION:A baby and toddler group run by our youth and children's worke
 rs
LOCATION:St Mary
URL:https://www.achurchnearyou.com/church/13411/service-and-events/events/
 1122368/
END:VEVENT
BEGIN:VEVENT
SUMMARY:Sunbeams
DTSTART;TZID=Europe/London:20260529T100000
DTEND;TZID=Europe/London:20260529T113000
DTSTAMP:20260424T203943Z
UID:11223681780045200.0achurchnearyou
CATEGORIES:
DESCRIPTION:A baby and toddler group run by our youth and children's worke
 rs
LOCATION:St Mary
URL:https://www.achurchnearyou.com/church/13411/service-and-events/events/
 1122368/
END:VEVENT
BEGIN:VEVENT
SUMMARY:Sunbeams
DTSTART;TZID=Europe/London:20260605T100000
DTEND;TZID=Europe/London:20260605T113000
DTSTAMP:20260424T203943Z
UID:11223681780650000.0achurchnearyou
CATEGORIES:
DESCRIPTION:A baby and toddler group run by our youth and children's worke
 rs
LOCATION:St Mary
URL:https://www.achurchnearyou.com/church/13411/service-and-events/events/
 1122368/
END:VEVENT
BEGIN:VEVENT
SUMMARY:Sunbeams
DTSTART;TZID=Europe/London:20260612T100000
DTEND;TZID=Europe/London:20260612T113000
DTSTAMP:20260424T203943Z
UID:11223681781254800.0achurchnearyou
CATEGORIES:
DESCRIPTION:A baby and toddler group run by our youth and children's worke
 rs
LOCATION:St Mary
URL:https://www.achurchnearyou.com/church/13411/service-and-events/events/
 1122368/
END:VEVENT
BEGIN:VEVENT
SUMMARY:Sunbeams
DTSTART;TZID=Europe/London:20260619T100000
DTEND;TZID=Europe/London:20260619T113000
DTSTAMP:20260424T203943Z
UID:11223681781859600.0achurchnearyou
CATEGORIES:
DESCRIPTION:A baby and toddler group run by our youth and children's worke
 rs
LOCATION:St Mary
URL:https://www.achurchnearyou.com/church/13411/service-and-events/events/
 1122368/
END:VEVENT
BEGIN:VEVENT
SUMMARY:Sunbeams
DTSTART;TZID=Europe/London:20260626T100000
DTEND;TZID=Europe/London:20260626T113000
DTSTAMP:20260424T203943Z
UID:11223681782464400.0achurchnearyou
CATEGORIES:
DESCRIPTION:A baby and toddler group run by our youth and children's worke
 rs
LOCATION:St Mary
URL:https://www.achurchnearyou.com/church/13411/service-and-events/events/
 1122368/
END:VEVENT
BEGIN:VEVENT
SUMMARY:Sunbeams
DTSTART;TZID=Europe/London:20260703T100000
DTEND;TZID=Europe/London:20260703T113000
DTSTAMP:20260424T203943Z
UID:11223681783069200.0achurchnearyou
CATEGORIES:
DESCRIPTION:A baby and toddler group run by our youth and children's worke
 rs
LOCATION:St Mary
URL:https://www.achurchnearyou.com/church/13411/service-and-events/events/
 1122368/
END:VEVENT
BEGIN:VEVENT
SUMMARY:Sunbeams
DTSTART;TZID=Europe/London:20260710T100000
DTEND;TZID=Europe/London:20260710T113000
DTSTAMP:20260424T203943Z
UID:11223681783674000.0achurchnearyou
CATEGORIES:
DESCRIPTION:A baby and toddler group run by our youth and children's worke
 rs
LOCATION:St Mary
URL:https://www.achurchnearyou.com/church/13411/service-and-events/events/
 1122368/
END:VEVENT
BEGIN:VEVENT
SUMMARY:Sunbeams
DTSTART;TZID=Europe/London:20260717T100000
DTEND;TZID=Europe/London:20260717T113000
DTSTAMP:20260424T203943Z
UID:11223681784278800.0achurchnearyou
CATEGORIES:
DESCRIPTION:A baby and toddler group run by our youth and children's worke
 rs
LOCATION:St Mary
URL:https://www.achurchnearyou.com/church/13411/service-and-events/events/
 1122368/
END:VEVENT
BEGIN:VEVENT
SUMMARY:Sunbeams
DTSTART;TZID=Europe/London:20260724T100000
DTEND;TZID=Europe/London:20260724T113000
DTSTAMP:20260424T203943Z
UID:11223681784883600.0achurchnearyou
CATEGORIES:
DESCRIPTION:A baby and toddler group run by our youth and children's worke
 rs
LOCATION:St Mary
URL:https://www.achurchnearyou.com/church/13411/service-and-events/events/
 1122368/
END:VEVENT
BEGIN:VEVENT
SUMMARY:Sunbeams
DTSTART;TZID=Europe/London:20260731T100000
DTEND;TZID=Europe/London:20260731T113000
DTSTAMP:20260424T203943Z
UID:11223681785488400.0achurchnearyou
CATEGORIES:
DESCRIPTION:A baby and toddler group run by our youth and children's worke
 rs
LOCATION:St Mary
URL:https://www.achurchnearyou.com/church/13411/service-and-events/events/
 1122368/
END:VEVENT
BEGIN:VEVENT
SUMMARY:Sunbeams
DTSTART;TZID=Europe/London:20260807T100000
DTEND;TZID=Europe/London:20260807T113000
DTSTAMP:20260424T203943Z
UID:11223681786093200.0achurchnearyou
CATEGORIES:
DESCRIPTION:A baby and toddler group run by our youth and children's worke
 rs
LOCATION:St Mary
URL:https://www.achurchnearyou.com/church/13411/service-and-events/events/
 1122368/
END:VEVENT
BEGIN:VEVENT
SUMMARY:Sunbeams
DTSTART;TZID=Europe/London:20260814T100000
DTEND;TZID=Europe/London:20260814T113000
DTSTAMP:20260424T203943Z
UID:11223681786698000.0achurchnearyou
CATEGORIES:
DESCRIPTION:A baby and toddler group run by our youth and children's worke
 rs
LOCATION:St Mary
URL:https://www.achurchnearyou.com/church/13411/service-and-events/events/
 1122368/
END:VEVENT
BEGIN:VEVENT
SUMMARY:Sunbeams
DTSTART;TZID=Europe/London:20260821T100000
DTEND;TZID=Europe/London:20260821T113000
DTSTAMP:20260424T203943Z
UID:11223681787302800.0achurchnearyou
CATEGORIES:
DESCRIPTION:A baby and toddler group run by our youth and children's worke
 rs
LOCATION:St Mary
URL:https://www.achurchnearyou.com/church/13411/service-and-events/events/
 1122368/
END:VEVENT
BEGIN:VEVENT
SUMMARY:Sunbeams
DTSTART;TZID=Europe/London:20260828T100000
DTEND;TZID=Europe/London:20260828T113000
DTSTAMP:20260424T203943Z
UID:11223681787907600.0achurchnearyou
CATEGORIES:
DESCRIPTION:A baby and toddler group run by our youth and children's worke
 rs
LOCATION:St Mary
URL:https://www.achurchnearyou.com/church/13411/service-and-events/events/
 1122368/
END:VEVENT
BEGIN:VEVENT
SUMMARY:Sunbeams
DTSTART;TZID=Europe/London:20260904T100000
DTEND;TZID=Europe/London:20260904T113000
DTSTAMP:20260424T203943Z
UID:11223681788512400.0achurchnearyou
CATEGORIES:
DESCRIPTION:A baby and toddler group run by our youth and children's worke
 rs
LOCATION:St Mary
URL:https://www.achurchnearyou.com/church/13411/service-and-events/events/
 1122368/
END:VEVENT
BEGIN:VEVENT
SUMMARY:Sunbeams
DTSTART;TZID=Europe/London:20260911T100000
DTEND;TZID=Europe/London:20260911T113000
DTSTAMP:20260424T203943Z
UID:11223681789117200.0achurchnearyou
CATEGORIES:
DESCRIPTION:A baby and toddler group run by our youth and children's worke
 rs
LOCATION:St Mary
URL:https://www.achurchnearyou.com/church/13411/service-and-events/events/
 1122368/
END:VEVENT
BEGIN:VEVENT
SUMMARY:Sunbeams
DTSTART;TZID=Europe/London:20260918T100000
DTEND;TZID=Europe/London:20260918T113000
DTSTAMP:20260424T203943Z
UID:11223681789722000.0achurchnearyou
CATEGORIES:
DESCRIPTION:A baby and toddler group run by our youth and children's worke
 rs
LOCATION:St Mary
URL:https://www.achurchnearyou.com/church/13411/service-and-events/events/
 1122368/
END:VEVENT
BEGIN:VEVENT
SUMMARY:Sunbeams
DTSTART;TZID=Europe/London:20260925T100000
DTEND;TZID=Europe/London:20260925T113000
DTSTAMP:20260424T203943Z
UID:11223681790326800.0achurchnearyou
CATEGORIES:
DESCRIPTION:A baby and toddler group run by our youth and children's worke
 rs
LOCATION:St Mary
URL:https://www.achurchnearyou.com/church/13411/service-and-events/events/
 1122368/
END:VEVENT
END:VCALENDAR
