BEGIN:VCALENDAR
VERSION:2.0
PRODID:-//achurchnearyou.com//eventfeed//EN
CALSCALE:GREGORIAN
METHOD:PUBLISH
X-WR-TIMEZONE:UTC
BEGIN:VEVENT
SUMMARY:Family Service for Palm Sunday
DTSTART:20250413T083000Z
DTEND:20250413T093000Z
DTSTAMP:20260422T164020Z
UID:11633452025-04-13 08:30:00+00:00achurchnearyou
CATEGORIES:
DESCRIPTION:Family Service
GEO:-1.604329;52.847494
LOCATION:St Wilfrid’s
URL:https://www.achurchnearyou.com/church/13421/service-and-events/events/
 1163345/
END:VEVENT
END:VCALENDAR
