BEGIN:VCALENDAR
VERSION:2.0
PRODID:-//achurchnearyou.com//eventfeed//EN
CALSCALE:GREGORIAN
METHOD:PUBLISH
X-WR-TIMEZONE:UTC
BEGIN:VEVENT
SUMMARY:OASIS
DTSTART:20251210T190000Z
DTEND:20251210T203000Z
DTSTAMP:20260422T005940Z
UID:12686402025-12-10 19:00:00+00:00achurchnearyou
CATEGORIES:
DESCRIPTION:Oasis - a time for women to join together in worship of our Lo
 rd.\nCome and share your Christian faith with other women from all over De
 rby and the surrounding area. \nWe'll be looking at the advent themes of J
 oy\, Peace\, Love and Hope.  \n\nThis Oasis meeting will be at:\nAlvaston 
 Parish Church\, Alvaston\, DE24 0PR\nWed 10 December 2025\n7pm\n\nThere is
  free parking in our car park next to the church (on the corner of Church 
 Street and Alvaston Street)\nAlso\, the church has level access and an acc
 essible toilet\, and there are two spaces just inside the car park marked 
 for disabled use.
GEO:-1.418266;52.896185
LOCATION:Alvaston Parish Church
URL:https://www.achurchnearyou.com/church/13430/service-and-events/events/
 1268640/
END:VEVENT
END:VCALENDAR
