BEGIN:VCALENDAR
VERSION:2.0
PRODID:-//achurchnearyou.com//eventfeed//EN
CALSCALE:GREGORIAN
METHOD:PUBLISH
X-WR-TIMEZONE:UTC
BEGIN:VEVENT
SUMMARY:9am Resurrection Day Lord's Supper
DTSTART:20260405T080000Z
DTEND:20260405T090000Z
DTSTAMP:20260421T172222Z
UID:13187782026-04-05 08:00:00+00:00achurchnearyou
CATEGORIES:
DESCRIPTION:You are invited to come and join with everyone at 9am on this 
 Resurrection Day for the Lord's Supper in our building (Alvaston Parish Ch
 urch - also known as Alvaston: St Michael's - Church Street\, DE24 0PR)\, 
 and also online on Facebook. We'll be looking at the theme "Love - winning
 ".\nReadings will be from Psalm 118:1-2\,14-24\, Acts 10:34-43 and Matthew
  28:1-7\nEveryone welcome\n- free parking next to the church\n- enjoy refr
 eshments afterwards\n- the Church is fully accessible (no steps) and has a
 n accessible toilet
GEO:-1.418266;52.896185
LOCATION:Alvaston Parish Church
URL:https://www.achurchnearyou.com/church/13430/service-and-events/events/
 1318778/
END:VEVENT
END:VCALENDAR
