BEGIN:VCALENDAR
VERSION:2.0
PRODID:-//achurchnearyou.com//eventfeed//EN
CALSCALE:GREGORIAN
METHOD:PUBLISH
X-WR-TIMEZONE:UTC
BEGIN:VEVENT
SUMMARY:Tuesday Group
DTSTART;TZID=Europe/London:20260303T141500
DTEND;TZID=Europe/London:20260303T153000
DTSTAMP:20260421T203901Z
UID:9454342026-03-03 14:15:00+00:00achurchnearyou
CATEGORIES:
DESCRIPTION:A small group - meeting together to study the bible\, looking 
 (normally) at the topic of the talk from the previous Sunday. A wonderful 
 way to explore and develop your faith in a confidential and supportive env
 ironment.\nTuesday Group meet once a fortnight in the church building\, ex
 cept in Lent when the group meets weekly.
GEO:-1.418266;52.896185
LOCATION:Alvaston Parish Church
URL:https://www.achurchnearyou.com/church/13430/service-and-events/events/
 945434/
END:VEVENT
BEGIN:VEVENT
SUMMARY:Tuesday Group
DTSTART;TZID=Europe/London:20260310T141500
DTEND;TZID=Europe/London:20260310T153000
DTSTAMP:20260421T203901Z
UID:9454342026-03-10 14:15:00+00:00achurchnearyou
CATEGORIES:
DESCRIPTION:A small group - meeting together to study the bible\, looking 
 (normally) at the topic of the talk from the previous Sunday. A wonderful 
 way to explore and develop your faith in a confidential and supportive env
 ironment.\nTuesday Group meet once a fortnight in the church building\, ex
 cept in Lent when the group meets weekly.
GEO:-1.418266;52.896185
LOCATION:Alvaston Parish Church
URL:https://www.achurchnearyou.com/church/13430/service-and-events/events/
 945434/
END:VEVENT
BEGIN:VEVENT
SUMMARY:Tuesday Group
DTSTART;TZID=Europe/London:20260317T141500
DTEND;TZID=Europe/London:20260317T153000
DTSTAMP:20260421T203901Z
UID:9454342026-03-17 14:15:00+00:00achurchnearyou
CATEGORIES:
DESCRIPTION:A small group - meeting together to study the bible\, looking 
 (normally) at the topic of the talk from the previous Sunday. A wonderful 
 way to explore and develop your faith in a confidential and supportive env
 ironment.\nTuesday Group meet once a fortnight in the church building\, ex
 cept in Lent when the group meets weekly.
GEO:-1.418266;52.896185
LOCATION:Alvaston Parish Church
URL:https://www.achurchnearyou.com/church/13430/service-and-events/events/
 945434/
END:VEVENT
BEGIN:VEVENT
SUMMARY:Tuesday Group
DTSTART;TZID=Europe/London:20260324T141500
DTEND;TZID=Europe/London:20260324T153000
DTSTAMP:20260421T203901Z
UID:9454342026-03-24 14:15:00+00:00achurchnearyou
CATEGORIES:
DESCRIPTION:A small group - meeting together to study the bible\, looking 
 (normally) at the topic of the talk from the previous Sunday. A wonderful 
 way to explore and develop your faith in a confidential and supportive env
 ironment.\nTuesday Group meet once a fortnight in the church building\, ex
 cept in Lent when the group meets weekly.
GEO:-1.418266;52.896185
LOCATION:Alvaston Parish Church
URL:https://www.achurchnearyou.com/church/13430/service-and-events/events/
 945434/
END:VEVENT
END:VCALENDAR
