BEGIN:VCALENDAR
VERSION:2.0
PRODID:-//achurchnearyou.com//eventfeed//EN
CALSCALE:GREGORIAN
METHOD:PUBLISH
X-WR-TIMEZONE:UTC
BEGIN:VEVENT
SUMMARY:Coffee Morning
DTSTART;TZID=Europe/London:20240224T100000
DTEND;TZID=Europe/London:20240224T120000
DTSTAMP:20260421T150216Z
UID:10293902024-02-24 10:00:00+00:00achurchnearyou
CATEGORIES:
DESCRIPTION:Saturday Morning Coffee Mornings - held the last Saturday of t
 he month. Warm breakfast rolls\, tea\, coffee\, cakes\, tombolas and much 
 More.
GEO:-1.640523;52.735791
LOCATION:St. Mary's\, Coton
URL:https://www.achurchnearyou.com/church/13446/service-and-events/events/
 1029390/
END:VEVENT
BEGIN:VEVENT
SUMMARY:Coffee Morning
DTSTART;TZID=Europe/London:20240330T100000
DTEND;TZID=Europe/London:20240330T120000
DTSTAMP:20260421T150216Z
UID:10293902024-03-30 10:00:00+00:00achurchnearyou
CATEGORIES:
DESCRIPTION:Saturday Morning Coffee Mornings - held the last Saturday of t
 he month. Warm breakfast rolls\, tea\, coffee\, cakes\, tombolas and much 
 More.
GEO:-1.640523;52.735791
LOCATION:St. Mary's\, Coton
URL:https://www.achurchnearyou.com/church/13446/service-and-events/events/
 1029390/
END:VEVENT
BEGIN:VEVENT
SUMMARY:Coffee Morning
DTSTART;TZID=Europe/London:20240427T100000
DTEND;TZID=Europe/London:20240427T120000
DTSTAMP:20260421T150216Z
UID:10293902024-04-27 10:00:00+01:00achurchnearyou
CATEGORIES:
DESCRIPTION:Saturday Morning Coffee Mornings - held the last Saturday of t
 he month. Warm breakfast rolls\, tea\, coffee\, cakes\, tombolas and much 
 More.
GEO:-1.640523;52.735791
LOCATION:St. Mary's\, Coton
URL:https://www.achurchnearyou.com/church/13446/service-and-events/events/
 1029390/
END:VEVENT
BEGIN:VEVENT
SUMMARY:Coffee Morning
DTSTART;TZID=Europe/London:20240525T100000
DTEND;TZID=Europe/London:20240525T120000
DTSTAMP:20260421T150216Z
UID:10293902024-05-25 10:00:00+01:00achurchnearyou
CATEGORIES:
DESCRIPTION:Saturday Morning Coffee Mornings - held the last Saturday of t
 he month. Warm breakfast rolls\, tea\, coffee\, cakes\, tombolas and much 
 More.
GEO:-1.640523;52.735791
LOCATION:St. Mary's\, Coton
URL:https://www.achurchnearyou.com/church/13446/service-and-events/events/
 1029390/
END:VEVENT
BEGIN:VEVENT
SUMMARY:Coffee Morning
DTSTART;TZID=Europe/London:20240629T100000
DTEND;TZID=Europe/London:20240629T120000
DTSTAMP:20260421T150216Z
UID:10293902024-06-29 10:00:00+01:00achurchnearyou
CATEGORIES:
DESCRIPTION:Saturday Morning Coffee Mornings - held the last Saturday of t
 he month. Warm breakfast rolls\, tea\, coffee\, cakes\, tombolas and much 
 More.
GEO:-1.640523;52.735791
LOCATION:St. Mary's\, Coton
URL:https://www.achurchnearyou.com/church/13446/service-and-events/events/
 1029390/
END:VEVENT
BEGIN:VEVENT
SUMMARY:Coffee Morning
DTSTART;TZID=Europe/London:20240727T100000
DTEND;TZID=Europe/London:20240727T120000
DTSTAMP:20260421T150216Z
UID:10293902024-07-27 10:00:00+01:00achurchnearyou
CATEGORIES:
DESCRIPTION:Saturday Morning Coffee Mornings - held the last Saturday of t
 he month. Warm breakfast rolls\, tea\, coffee\, cakes\, tombolas and much 
 More.
GEO:-1.640523;52.735791
LOCATION:St. Mary's\, Coton
URL:https://www.achurchnearyou.com/church/13446/service-and-events/events/
 1029390/
END:VEVENT
BEGIN:VEVENT
SUMMARY:Coffee Morning
DTSTART;TZID=Europe/London:20240831T100000
DTEND;TZID=Europe/London:20240831T120000
DTSTAMP:20260421T150216Z
UID:10293902024-08-31 10:00:00+01:00achurchnearyou
CATEGORIES:
DESCRIPTION:Saturday Morning Coffee Mornings - held the last Saturday of t
 he month. Warm breakfast rolls\, tea\, coffee\, cakes\, tombolas and much 
 More.
GEO:-1.640523;52.735791
LOCATION:St. Mary's\, Coton
URL:https://www.achurchnearyou.com/church/13446/service-and-events/events/
 1029390/
END:VEVENT
BEGIN:VEVENT
SUMMARY:Coffee Morning
DTSTART;TZID=Europe/London:20240928T100000
DTEND;TZID=Europe/London:20240928T120000
DTSTAMP:20260421T150216Z
UID:10293902024-09-28 10:00:00+01:00achurchnearyou
CATEGORIES:
DESCRIPTION:Saturday Morning Coffee Mornings - held the last Saturday of t
 he month. Warm breakfast rolls\, tea\, coffee\, cakes\, tombolas and much 
 More.
GEO:-1.640523;52.735791
LOCATION:St. Mary's\, Coton
URL:https://www.achurchnearyou.com/church/13446/service-and-events/events/
 1029390/
END:VEVENT
BEGIN:VEVENT
SUMMARY:Coffee Morning
DTSTART;TZID=Europe/London:20241026T100000
DTEND;TZID=Europe/London:20241026T120000
DTSTAMP:20260421T150216Z
UID:10293902024-10-26 10:00:00+01:00achurchnearyou
CATEGORIES:
DESCRIPTION:Saturday Morning Coffee Mornings - held the last Saturday of t
 he month. Warm breakfast rolls\, tea\, coffee\, cakes\, tombolas and much 
 More.
GEO:-1.640523;52.735791
LOCATION:St. Mary's\, Coton
URL:https://www.achurchnearyou.com/church/13446/service-and-events/events/
 1029390/
END:VEVENT
BEGIN:VEVENT
SUMMARY:Coffee Morning
DTSTART;TZID=Europe/London:20241130T100000
DTEND;TZID=Europe/London:20241130T120000
DTSTAMP:20260421T150216Z
UID:10293902024-11-30 10:00:00+00:00achurchnearyou
CATEGORIES:
DESCRIPTION:Saturday Morning Coffee Mornings - held the last Saturday of t
 he month. Warm breakfast rolls\, tea\, coffee\, cakes\, tombolas and much 
 More.
GEO:-1.640523;52.735791
LOCATION:St. Mary's\, Coton
URL:https://www.achurchnearyou.com/church/13446/service-and-events/events/
 1029390/
END:VEVENT
BEGIN:VEVENT
SUMMARY:Coffee Morning
DTSTART;TZID=Europe/London:20241228T100000
DTEND;TZID=Europe/London:20241228T120000
DTSTAMP:20260421T150216Z
UID:10293902024-12-28 10:00:00+00:00achurchnearyou
CATEGORIES:
DESCRIPTION:Saturday Morning Coffee Mornings - held the last Saturday of t
 he month. Warm breakfast rolls\, tea\, coffee\, cakes\, tombolas and much 
 More.
GEO:-1.640523;52.735791
LOCATION:St. Mary's\, Coton
URL:https://www.achurchnearyou.com/church/13446/service-and-events/events/
 1029390/
END:VEVENT
BEGIN:VEVENT
SUMMARY:Coffee Morning
DTSTART;TZID=Europe/London:20250125T100000
DTEND;TZID=Europe/London:20250125T120000
DTSTAMP:20260421T150216Z
UID:10293902025-01-25 10:00:00+00:00achurchnearyou
CATEGORIES:
DESCRIPTION:Saturday Morning Coffee Mornings - held the last Saturday of t
 he month. Warm breakfast rolls\, tea\, coffee\, cakes\, tombolas and much 
 More.
GEO:-1.640523;52.735791
LOCATION:St. Mary's\, Coton
URL:https://www.achurchnearyou.com/church/13446/service-and-events/events/
 1029390/
END:VEVENT
BEGIN:VEVENT
SUMMARY:Coffee Morning
DTSTART;TZID=Europe/London:20250222T100000
DTEND;TZID=Europe/London:20250222T120000
DTSTAMP:20260421T150216Z
UID:10293902025-02-22 10:00:00+00:00achurchnearyou
CATEGORIES:
DESCRIPTION:Saturday Morning Coffee Mornings - held the last Saturday of t
 he month. Warm breakfast rolls\, tea\, coffee\, cakes\, tombolas and much 
 More.
GEO:-1.640523;52.735791
LOCATION:St. Mary's\, Coton
URL:https://www.achurchnearyou.com/church/13446/service-and-events/events/
 1029390/
END:VEVENT
BEGIN:VEVENT
SUMMARY:Coffee Morning
DTSTART;TZID=Europe/London:20250329T100000
DTEND;TZID=Europe/London:20250329T120000
DTSTAMP:20260421T150216Z
UID:10293902025-03-29 10:00:00+00:00achurchnearyou
CATEGORIES:
DESCRIPTION:Saturday Morning Coffee Mornings - held the last Saturday of t
 he month. Warm breakfast rolls\, tea\, coffee\, cakes\, tombolas and much 
 More.
GEO:-1.640523;52.735791
LOCATION:St. Mary's\, Coton
URL:https://www.achurchnearyou.com/church/13446/service-and-events/events/
 1029390/
END:VEVENT
BEGIN:VEVENT
SUMMARY:Coffee Morning
DTSTART;TZID=Europe/London:20250426T100000
DTEND;TZID=Europe/London:20250426T120000
DTSTAMP:20260421T150216Z
UID:10293902025-04-26 10:00:00+01:00achurchnearyou
CATEGORIES:
DESCRIPTION:Saturday Morning Coffee Mornings - held the last Saturday of t
 he month. Warm breakfast rolls\, tea\, coffee\, cakes\, tombolas and much 
 More.
GEO:-1.640523;52.735791
LOCATION:St. Mary's\, Coton
URL:https://www.achurchnearyou.com/church/13446/service-and-events/events/
 1029390/
END:VEVENT
BEGIN:VEVENT
SUMMARY:Coffee Morning
DTSTART;TZID=Europe/London:20250531T100000
DTEND;TZID=Europe/London:20250531T120000
DTSTAMP:20260421T150216Z
UID:10293902025-05-31 10:00:00+01:00achurchnearyou
CATEGORIES:
DESCRIPTION:Saturday Morning Coffee Mornings - held the last Saturday of t
 he month. Warm breakfast rolls\, tea\, coffee\, cakes\, tombolas and much 
 More.
GEO:-1.640523;52.735791
LOCATION:St. Mary's\, Coton
URL:https://www.achurchnearyou.com/church/13446/service-and-events/events/
 1029390/
END:VEVENT
BEGIN:VEVENT
SUMMARY:Coffee Morning
DTSTART;TZID=Europe/London:20250628T100000
DTEND;TZID=Europe/London:20250628T120000
DTSTAMP:20260421T150216Z
UID:10293902025-06-28 10:00:00+01:00achurchnearyou
CATEGORIES:
DESCRIPTION:Saturday Morning Coffee Mornings - held the last Saturday of t
 he month. Warm breakfast rolls\, tea\, coffee\, cakes\, tombolas and much 
 More.
GEO:-1.640523;52.735791
LOCATION:St. Mary's\, Coton
URL:https://www.achurchnearyou.com/church/13446/service-and-events/events/
 1029390/
END:VEVENT
BEGIN:VEVENT
SUMMARY:Coffee Morning
DTSTART;TZID=Europe/London:20250726T100000
DTEND;TZID=Europe/London:20250726T120000
DTSTAMP:20260421T150216Z
UID:10293902025-07-26 10:00:00+01:00achurchnearyou
CATEGORIES:
DESCRIPTION:Saturday Morning Coffee Mornings - held the last Saturday of t
 he month. Warm breakfast rolls\, tea\, coffee\, cakes\, tombolas and much 
 More.
GEO:-1.640523;52.735791
LOCATION:St. Mary's\, Coton
URL:https://www.achurchnearyou.com/church/13446/service-and-events/events/
 1029390/
END:VEVENT
BEGIN:VEVENT
SUMMARY:Coffee Morning
DTSTART;TZID=Europe/London:20250830T100000
DTEND;TZID=Europe/London:20250830T120000
DTSTAMP:20260421T150216Z
UID:10293902025-08-30 10:00:00+01:00achurchnearyou
CATEGORIES:
DESCRIPTION:Saturday Morning Coffee Mornings - held the last Saturday of t
 he month. Warm breakfast rolls\, tea\, coffee\, cakes\, tombolas and much 
 More.
GEO:-1.640523;52.735791
LOCATION:St. Mary's\, Coton
URL:https://www.achurchnearyou.com/church/13446/service-and-events/events/
 1029390/
END:VEVENT
BEGIN:VEVENT
SUMMARY:Coffee Morning
DTSTART;TZID=Europe/London:20250927T100000
DTEND;TZID=Europe/London:20250927T120000
DTSTAMP:20260421T150216Z
UID:10293902025-09-27 10:00:00+01:00achurchnearyou
CATEGORIES:
DESCRIPTION:Saturday Morning Coffee Mornings - held the last Saturday of t
 he month. Warm breakfast rolls\, tea\, coffee\, cakes\, tombolas and much 
 More.
GEO:-1.640523;52.735791
LOCATION:St. Mary's\, Coton
URL:https://www.achurchnearyou.com/church/13446/service-and-events/events/
 1029390/
END:VEVENT
BEGIN:VEVENT
SUMMARY:Coffee Morning
DTSTART;TZID=Europe/London:20251025T100000
DTEND;TZID=Europe/London:20251025T120000
DTSTAMP:20260421T150216Z
UID:10293902025-10-25 10:00:00+01:00achurchnearyou
CATEGORIES:
DESCRIPTION:Saturday Morning Coffee Mornings - held the last Saturday of t
 he month. Warm breakfast rolls\, tea\, coffee\, cakes\, tombolas and much 
 More.
GEO:-1.640523;52.735791
LOCATION:St. Mary's\, Coton
URL:https://www.achurchnearyou.com/church/13446/service-and-events/events/
 1029390/
END:VEVENT
BEGIN:VEVENT
SUMMARY:Coffee Morning
DTSTART;TZID=Europe/London:20251129T100000
DTEND;TZID=Europe/London:20251129T120000
DTSTAMP:20260421T150216Z
UID:10293902025-11-29 10:00:00+00:00achurchnearyou
CATEGORIES:
DESCRIPTION:Saturday Morning Coffee Mornings - held the last Saturday of t
 he month. Warm breakfast rolls\, tea\, coffee\, cakes\, tombolas and much 
 More.
GEO:-1.640523;52.735791
LOCATION:St. Mary's\, Coton
URL:https://www.achurchnearyou.com/church/13446/service-and-events/events/
 1029390/
END:VEVENT
BEGIN:VEVENT
SUMMARY:Coffee Morning
DTSTART;TZID=Europe/London:20251227T100000
DTEND;TZID=Europe/London:20251227T120000
DTSTAMP:20260421T150216Z
UID:10293902025-12-27 10:00:00+00:00achurchnearyou
CATEGORIES:
DESCRIPTION:Saturday Morning Coffee Mornings - held the last Saturday of t
 he month. Warm breakfast rolls\, tea\, coffee\, cakes\, tombolas and much 
 More.
GEO:-1.640523;52.735791
LOCATION:St. Mary's\, Coton
URL:https://www.achurchnearyou.com/church/13446/service-and-events/events/
 1029390/
END:VEVENT
BEGIN:VEVENT
SUMMARY:Coffee Morning
DTSTART;TZID=Europe/London:20260131T100000
DTEND;TZID=Europe/London:20260131T120000
DTSTAMP:20260421T150216Z
UID:10293902026-01-31 10:00:00+00:00achurchnearyou
CATEGORIES:
DESCRIPTION:Saturday Morning Coffee Mornings - held the last Saturday of t
 he month. Warm breakfast rolls\, tea\, coffee\, cakes\, tombolas and much 
 More.
GEO:-1.640523;52.735791
LOCATION:St. Mary's\, Coton
URL:https://www.achurchnearyou.com/church/13446/service-and-events/events/
 1029390/
END:VEVENT
BEGIN:VEVENT
SUMMARY:Coffee Morning
DTSTART;TZID=Europe/London:20260228T100000
DTEND;TZID=Europe/London:20260228T120000
DTSTAMP:20260421T150216Z
UID:10293902026-02-28 10:00:00+00:00achurchnearyou
CATEGORIES:
DESCRIPTION:Saturday Morning Coffee Mornings - held the last Saturday of t
 he month. Warm breakfast rolls\, tea\, coffee\, cakes\, tombolas and much 
 More.
GEO:-1.640523;52.735791
LOCATION:St. Mary's\, Coton
URL:https://www.achurchnearyou.com/church/13446/service-and-events/events/
 1029390/
END:VEVENT
BEGIN:VEVENT
SUMMARY:Coffee Morning
DTSTART;TZID=Europe/London:20260328T100000
DTEND;TZID=Europe/London:20260328T120000
DTSTAMP:20260421T150216Z
UID:10293902026-03-28 10:00:00+00:00achurchnearyou
CATEGORIES:
DESCRIPTION:Saturday Morning Coffee Mornings - held the last Saturday of t
 he month. Warm breakfast rolls\, tea\, coffee\, cakes\, tombolas and much 
 More.
GEO:-1.640523;52.735791
LOCATION:St. Mary's\, Coton
URL:https://www.achurchnearyou.com/church/13446/service-and-events/events/
 1029390/
END:VEVENT
BEGIN:VEVENT
SUMMARY:Coffee Morning
DTSTART;TZID=Europe/London:20260425T100000
DTEND;TZID=Europe/London:20260425T120000
DTSTAMP:20260421T150216Z
UID:10293902026-04-25 10:00:00+01:00achurchnearyou
CATEGORIES:
DESCRIPTION:Saturday Morning Coffee Mornings - held the last Saturday of t
 he month. Warm breakfast rolls\, tea\, coffee\, cakes\, tombolas and much 
 More.
GEO:-1.640523;52.735791
LOCATION:St. Mary's\, Coton
URL:https://www.achurchnearyou.com/church/13446/service-and-events/events/
 1029390/
END:VEVENT
BEGIN:VEVENT
SUMMARY:Coffee Morning
DTSTART;TZID=Europe/London:20260530T100000
DTEND;TZID=Europe/London:20260530T120000
DTSTAMP:20260421T150216Z
UID:10293902026-05-30 10:00:00+01:00achurchnearyou
CATEGORIES:
DESCRIPTION:Saturday Morning Coffee Mornings - held the last Saturday of t
 he month. Warm breakfast rolls\, tea\, coffee\, cakes\, tombolas and much 
 More.
GEO:-1.640523;52.735791
LOCATION:St. Mary's\, Coton
URL:https://www.achurchnearyou.com/church/13446/service-and-events/events/
 1029390/
END:VEVENT
BEGIN:VEVENT
SUMMARY:Coffee Morning
DTSTART;TZID=Europe/London:20260627T100000
DTEND;TZID=Europe/London:20260627T120000
DTSTAMP:20260421T150216Z
UID:10293902026-06-27 10:00:00+01:00achurchnearyou
CATEGORIES:
DESCRIPTION:Saturday Morning Coffee Mornings - held the last Saturday of t
 he month. Warm breakfast rolls\, tea\, coffee\, cakes\, tombolas and much 
 More.
GEO:-1.640523;52.735791
LOCATION:St. Mary's\, Coton
URL:https://www.achurchnearyou.com/church/13446/service-and-events/events/
 1029390/
END:VEVENT
BEGIN:VEVENT
SUMMARY:Coffee Morning
DTSTART;TZID=Europe/London:20260725T100000
DTEND;TZID=Europe/London:20260725T120000
DTSTAMP:20260421T150216Z
UID:10293902026-07-25 10:00:00+01:00achurchnearyou
CATEGORIES:
DESCRIPTION:Saturday Morning Coffee Mornings - held the last Saturday of t
 he month. Warm breakfast rolls\, tea\, coffee\, cakes\, tombolas and much 
 More.
GEO:-1.640523;52.735791
LOCATION:St. Mary's\, Coton
URL:https://www.achurchnearyou.com/church/13446/service-and-events/events/
 1029390/
END:VEVENT
BEGIN:VEVENT
SUMMARY:Coffee Morning
DTSTART;TZID=Europe/London:20260829T100000
DTEND;TZID=Europe/London:20260829T120000
DTSTAMP:20260421T150216Z
UID:10293902026-08-29 10:00:00+01:00achurchnearyou
CATEGORIES:
DESCRIPTION:Saturday Morning Coffee Mornings - held the last Saturday of t
 he month. Warm breakfast rolls\, tea\, coffee\, cakes\, tombolas and much 
 More.
GEO:-1.640523;52.735791
LOCATION:St. Mary's\, Coton
URL:https://www.achurchnearyou.com/church/13446/service-and-events/events/
 1029390/
END:VEVENT
BEGIN:VEVENT
SUMMARY:Coffee Morning
DTSTART;TZID=Europe/London:20260926T100000
DTEND;TZID=Europe/London:20260926T120000
DTSTAMP:20260421T150216Z
UID:10293902026-09-26 10:00:00+01:00achurchnearyou
CATEGORIES:
DESCRIPTION:Saturday Morning Coffee Mornings - held the last Saturday of t
 he month. Warm breakfast rolls\, tea\, coffee\, cakes\, tombolas and much 
 More.
GEO:-1.640523;52.735791
LOCATION:St. Mary's\, Coton
URL:https://www.achurchnearyou.com/church/13446/service-and-events/events/
 1029390/
END:VEVENT
BEGIN:VEVENT
SUMMARY:Coffee Morning
DTSTART;TZID=Europe/London:20261031T100000
DTEND;TZID=Europe/London:20261031T120000
DTSTAMP:20260421T150216Z
UID:10293902026-10-31 10:00:00+00:00achurchnearyou
CATEGORIES:
DESCRIPTION:Saturday Morning Coffee Mornings - held the last Saturday of t
 he month. Warm breakfast rolls\, tea\, coffee\, cakes\, tombolas and much 
 More.
GEO:-1.640523;52.735791
LOCATION:St. Mary's\, Coton
URL:https://www.achurchnearyou.com/church/13446/service-and-events/events/
 1029390/
END:VEVENT
BEGIN:VEVENT
SUMMARY:Coffee Morning
DTSTART;TZID=Europe/London:20261128T100000
DTEND;TZID=Europe/London:20261128T120000
DTSTAMP:20260421T150216Z
UID:10293902026-11-28 10:00:00+00:00achurchnearyou
CATEGORIES:
DESCRIPTION:Saturday Morning Coffee Mornings - held the last Saturday of t
 he month. Warm breakfast rolls\, tea\, coffee\, cakes\, tombolas and much 
 More.
GEO:-1.640523;52.735791
LOCATION:St. Mary's\, Coton
URL:https://www.achurchnearyou.com/church/13446/service-and-events/events/
 1029390/
END:VEVENT
BEGIN:VEVENT
SUMMARY:Coffee Morning
DTSTART;TZID=Europe/London:20261226T100000
DTEND;TZID=Europe/London:20261226T120000
DTSTAMP:20260421T150216Z
UID:10293902026-12-26 10:00:00+00:00achurchnearyou
CATEGORIES:
DESCRIPTION:Saturday Morning Coffee Mornings - held the last Saturday of t
 he month. Warm breakfast rolls\, tea\, coffee\, cakes\, tombolas and much 
 More.
GEO:-1.640523;52.735791
LOCATION:St. Mary's\, Coton
URL:https://www.achurchnearyou.com/church/13446/service-and-events/events/
 1029390/
END:VEVENT
BEGIN:VEVENT
SUMMARY:Coffee Morning
DTSTART;TZID=Europe/London:20270130T100000
DTEND;TZID=Europe/London:20270130T120000
DTSTAMP:20260421T150216Z
UID:10293902027-01-30 10:00:00+00:00achurchnearyou
CATEGORIES:
DESCRIPTION:Saturday Morning Coffee Mornings - held the last Saturday of t
 he month. Warm breakfast rolls\, tea\, coffee\, cakes\, tombolas and much 
 More.
GEO:-1.640523;52.735791
LOCATION:St. Mary's\, Coton
URL:https://www.achurchnearyou.com/church/13446/service-and-events/events/
 1029390/
END:VEVENT
BEGIN:VEVENT
SUMMARY:Coffee Morning
DTSTART;TZID=Europe/London:20270227T100000
DTEND;TZID=Europe/London:20270227T120000
DTSTAMP:20260421T150216Z
UID:10293902027-02-27 10:00:00+00:00achurchnearyou
CATEGORIES:
DESCRIPTION:Saturday Morning Coffee Mornings - held the last Saturday of t
 he month. Warm breakfast rolls\, tea\, coffee\, cakes\, tombolas and much 
 More.
GEO:-1.640523;52.735791
LOCATION:St. Mary's\, Coton
URL:https://www.achurchnearyou.com/church/13446/service-and-events/events/
 1029390/
END:VEVENT
BEGIN:VEVENT
SUMMARY:Coffee Morning
DTSTART;TZID=Europe/London:20270327T100000
DTEND;TZID=Europe/London:20270327T120000
DTSTAMP:20260421T150216Z
UID:10293902027-03-27 10:00:00+00:00achurchnearyou
CATEGORIES:
DESCRIPTION:Saturday Morning Coffee Mornings - held the last Saturday of t
 he month. Warm breakfast rolls\, tea\, coffee\, cakes\, tombolas and much 
 More.
GEO:-1.640523;52.735791
LOCATION:St. Mary's\, Coton
URL:https://www.achurchnearyou.com/church/13446/service-and-events/events/
 1029390/
END:VEVENT
END:VCALENDAR
