BEGIN:VCALENDAR
VERSION:2.0
PRODID:-//achurchnearyou.com//eventfeed//EN
CALSCALE:GREGORIAN
METHOD:PUBLISH
X-WR-TIMEZONE:UTC
BEGIN:VEVENT
SUMMARY:Christmas Services at St Peter's - Sunday Night Live
DTSTART:20251214T180000Z
DTEND:20251214T190000Z
DTSTAMP:20260419T171122Z
UID:12708222025-12-14 18:00:00+00:00achurchnearyou
CATEGORIES:
DESCRIPTION:Details of our Christmas Services
GEO:-1.516372;52.783798
LOCATION:St Peter
URL:https://www.achurchnearyou.com/church/13450/service-and-events/events/
 1270822/
END:VEVENT
END:VCALENDAR
