BEGIN:VCALENDAR
VERSION:2.0
PRODID:-//achurchnearyou.com//eventfeed//EN
CALSCALE:GREGORIAN
METHOD:PUBLISH
X-WR-TIMEZONE:UTC
BEGIN:VEVENT
SUMMARY:Sunrise service on Easter Day
DTSTART:20250420T043000Z
DTEND:20250420T050000Z
DTSTAMP:20260419T174010Z
UID:11757492025-04-20 04:30:00+00:00achurchnearyou
CATEGORIES:
DESCRIPTION:Songs\, Bible readings and prayers as the sun comes up. Breakf
 ast in the hall afterwards.
GEO:-1.551835;52.773668
LOCATION:Emmanuel
URL:https://www.achurchnearyou.com/church/13461/service-and-events/events/
 1175749/
END:VEVENT
END:VCALENDAR
