BEGIN:VCALENDAR
VERSION:2.0
PRODID:-//achurchnearyou.com//eventfeed//EN
CALSCALE:GREGORIAN
METHOD:PUBLISH
X-WR-TIMEZONE:UTC
BEGIN:VEVENT
SUMMARY:Student Night
DTSTART;TZID=Europe/London:20260423T183000
DTEND;TZID=Europe/London:20260423T203000
DTSTAMP:20260421T175222Z
UID:6070712026-04-23 18:30:00+01:00achurchnearyou
CATEGORIES:
DESCRIPTION:Every week in term time\, we meet at church on Thursday at 6:3
 0pm for a meal\, a time of worship and a short talk\, we then break up int
 o small groups for discussion. All students are welcome.
GEO:-1.575294;54.777388
LOCATION:St Nics Durham
URL:https://www.achurchnearyou.com/church/13475/service-and-events/events/
 607071/
END:VEVENT
BEGIN:VEVENT
SUMMARY:Student Night
DTSTART;TZID=Europe/London:20260430T183000
DTEND;TZID=Europe/London:20260430T203000
DTSTAMP:20260421T175222Z
UID:6070712026-04-30 18:30:00+01:00achurchnearyou
CATEGORIES:
DESCRIPTION:Every week in term time\, we meet at church on Thursday at 6:3
 0pm for a meal\, a time of worship and a short talk\, we then break up int
 o small groups for discussion. All students are welcome.
GEO:-1.575294;54.777388
LOCATION:St Nics Durham
URL:https://www.achurchnearyou.com/church/13475/service-and-events/events/
 607071/
END:VEVENT
BEGIN:VEVENT
SUMMARY:Student Night
DTSTART;TZID=Europe/London:20260507T183000
DTEND;TZID=Europe/London:20260507T203000
DTSTAMP:20260421T175222Z
UID:6070712026-05-07 18:30:00+01:00achurchnearyou
CATEGORIES:
DESCRIPTION:Every week in term time\, we meet at church on Thursday at 6:3
 0pm for a meal\, a time of worship and a short talk\, we then break up int
 o small groups for discussion. All students are welcome.
GEO:-1.575294;54.777388
LOCATION:St Nics Durham
URL:https://www.achurchnearyou.com/church/13475/service-and-events/events/
 607071/
END:VEVENT
BEGIN:VEVENT
SUMMARY:Student Night
DTSTART;TZID=Europe/London:20260514T183000
DTEND;TZID=Europe/London:20260514T203000
DTSTAMP:20260421T175222Z
UID:6070712026-05-14 18:30:00+01:00achurchnearyou
CATEGORIES:
DESCRIPTION:Every week in term time\, we meet at church on Thursday at 6:3
 0pm for a meal\, a time of worship and a short talk\, we then break up int
 o small groups for discussion. All students are welcome.
GEO:-1.575294;54.777388
LOCATION:St Nics Durham
URL:https://www.achurchnearyou.com/church/13475/service-and-events/events/
 607071/
END:VEVENT
BEGIN:VEVENT
SUMMARY:Student Night
DTSTART;TZID=Europe/London:20260521T183000
DTEND;TZID=Europe/London:20260521T203000
DTSTAMP:20260421T175222Z
UID:6070712026-05-21 18:30:00+01:00achurchnearyou
CATEGORIES:
DESCRIPTION:Every week in term time\, we meet at church on Thursday at 6:3
 0pm for a meal\, a time of worship and a short talk\, we then break up int
 o small groups for discussion. All students are welcome.
GEO:-1.575294;54.777388
LOCATION:St Nics Durham
URL:https://www.achurchnearyou.com/church/13475/service-and-events/events/
 607071/
END:VEVENT
BEGIN:VEVENT
SUMMARY:Student Night
DTSTART;TZID=Europe/London:20260528T183000
DTEND;TZID=Europe/London:20260528T203000
DTSTAMP:20260421T175222Z
UID:6070712026-05-28 18:30:00+01:00achurchnearyou
CATEGORIES:
DESCRIPTION:Every week in term time\, we meet at church on Thursday at 6:3
 0pm for a meal\, a time of worship and a short talk\, we then break up int
 o small groups for discussion. All students are welcome.
GEO:-1.575294;54.777388
LOCATION:St Nics Durham
URL:https://www.achurchnearyou.com/church/13475/service-and-events/events/
 607071/
END:VEVENT
BEGIN:VEVENT
SUMMARY:Student Night
DTSTART;TZID=Europe/London:20260604T183000
DTEND;TZID=Europe/London:20260604T203000
DTSTAMP:20260421T175222Z
UID:6070712026-06-04 18:30:00+01:00achurchnearyou
CATEGORIES:
DESCRIPTION:Every week in term time\, we meet at church on Thursday at 6:3
 0pm for a meal\, a time of worship and a short talk\, we then break up int
 o small groups for discussion. All students are welcome.
GEO:-1.575294;54.777388
LOCATION:St Nics Durham
URL:https://www.achurchnearyou.com/church/13475/service-and-events/events/
 607071/
END:VEVENT
BEGIN:VEVENT
SUMMARY:Student Night
DTSTART;TZID=Europe/London:20260611T183000
DTEND;TZID=Europe/London:20260611T203000
DTSTAMP:20260421T175222Z
UID:6070712026-06-11 18:30:00+01:00achurchnearyou
CATEGORIES:
DESCRIPTION:Every week in term time\, we meet at church on Thursday at 6:3
 0pm for a meal\, a time of worship and a short talk\, we then break up int
 o small groups for discussion. All students are welcome.
GEO:-1.575294;54.777388
LOCATION:St Nics Durham
URL:https://www.achurchnearyou.com/church/13475/service-and-events/events/
 607071/
END:VEVENT
BEGIN:VEVENT
SUMMARY:Student Night
DTSTART;TZID=Europe/London:20260618T183000
DTEND;TZID=Europe/London:20260618T203000
DTSTAMP:20260421T175222Z
UID:6070712026-06-18 18:30:00+01:00achurchnearyou
CATEGORIES:
DESCRIPTION:Every week in term time\, we meet at church on Thursday at 6:3
 0pm for a meal\, a time of worship and a short talk\, we then break up int
 o small groups for discussion. All students are welcome.
GEO:-1.575294;54.777388
LOCATION:St Nics Durham
URL:https://www.achurchnearyou.com/church/13475/service-and-events/events/
 607071/
END:VEVENT
BEGIN:VEVENT
SUMMARY:Student Night
DTSTART;TZID=Europe/London:20260625T183000
DTEND;TZID=Europe/London:20260625T203000
DTSTAMP:20260421T175222Z
UID:6070712026-06-25 18:30:00+01:00achurchnearyou
CATEGORIES:
DESCRIPTION:Every week in term time\, we meet at church on Thursday at 6:3
 0pm for a meal\, a time of worship and a short talk\, we then break up int
 o small groups for discussion. All students are welcome.
GEO:-1.575294;54.777388
LOCATION:St Nics Durham
URL:https://www.achurchnearyou.com/church/13475/service-and-events/events/
 607071/
END:VEVENT
BEGIN:VEVENT
SUMMARY:Student Night
DTSTART;TZID=Europe/London:20260702T183000
DTEND;TZID=Europe/London:20260702T203000
DTSTAMP:20260421T175222Z
UID:6070712026-07-02 18:30:00+01:00achurchnearyou
CATEGORIES:
DESCRIPTION:Every week in term time\, we meet at church on Thursday at 6:3
 0pm for a meal\, a time of worship and a short talk\, we then break up int
 o small groups for discussion. All students are welcome.
GEO:-1.575294;54.777388
LOCATION:St Nics Durham
URL:https://www.achurchnearyou.com/church/13475/service-and-events/events/
 607071/
END:VEVENT
BEGIN:VEVENT
SUMMARY:Student Night
DTSTART;TZID=Europe/London:20260709T183000
DTEND;TZID=Europe/London:20260709T203000
DTSTAMP:20260421T175222Z
UID:6070712026-07-09 18:30:00+01:00achurchnearyou
CATEGORIES:
DESCRIPTION:Every week in term time\, we meet at church on Thursday at 6:3
 0pm for a meal\, a time of worship and a short talk\, we then break up int
 o small groups for discussion. All students are welcome.
GEO:-1.575294;54.777388
LOCATION:St Nics Durham
URL:https://www.achurchnearyou.com/church/13475/service-and-events/events/
 607071/
END:VEVENT
BEGIN:VEVENT
SUMMARY:Student Night
DTSTART;TZID=Europe/London:20260716T183000
DTEND;TZID=Europe/London:20260716T203000
DTSTAMP:20260421T175222Z
UID:6070712026-07-16 18:30:00+01:00achurchnearyou
CATEGORIES:
DESCRIPTION:Every week in term time\, we meet at church on Thursday at 6:3
 0pm for a meal\, a time of worship and a short talk\, we then break up int
 o small groups for discussion. All students are welcome.
GEO:-1.575294;54.777388
LOCATION:St Nics Durham
URL:https://www.achurchnearyou.com/church/13475/service-and-events/events/
 607071/
END:VEVENT
BEGIN:VEVENT
SUMMARY:Student Night
DTSTART;TZID=Europe/London:20260723T183000
DTEND;TZID=Europe/London:20260723T203000
DTSTAMP:20260421T175222Z
UID:6070712026-07-23 18:30:00+01:00achurchnearyou
CATEGORIES:
DESCRIPTION:Every week in term time\, we meet at church on Thursday at 6:3
 0pm for a meal\, a time of worship and a short talk\, we then break up int
 o small groups for discussion. All students are welcome.
GEO:-1.575294;54.777388
LOCATION:St Nics Durham
URL:https://www.achurchnearyou.com/church/13475/service-and-events/events/
 607071/
END:VEVENT
BEGIN:VEVENT
SUMMARY:Student Night
DTSTART;TZID=Europe/London:20260730T183000
DTEND;TZID=Europe/London:20260730T203000
DTSTAMP:20260421T175222Z
UID:6070712026-07-30 18:30:00+01:00achurchnearyou
CATEGORIES:
DESCRIPTION:Every week in term time\, we meet at church on Thursday at 6:3
 0pm for a meal\, a time of worship and a short talk\, we then break up int
 o small groups for discussion. All students are welcome.
GEO:-1.575294;54.777388
LOCATION:St Nics Durham
URL:https://www.achurchnearyou.com/church/13475/service-and-events/events/
 607071/
END:VEVENT
BEGIN:VEVENT
SUMMARY:Student Night
DTSTART;TZID=Europe/London:20260806T183000
DTEND;TZID=Europe/London:20260806T203000
DTSTAMP:20260421T175222Z
UID:6070712026-08-06 18:30:00+01:00achurchnearyou
CATEGORIES:
DESCRIPTION:Every week in term time\, we meet at church on Thursday at 6:3
 0pm for a meal\, a time of worship and a short talk\, we then break up int
 o small groups for discussion. All students are welcome.
GEO:-1.575294;54.777388
LOCATION:St Nics Durham
URL:https://www.achurchnearyou.com/church/13475/service-and-events/events/
 607071/
END:VEVENT
BEGIN:VEVENT
SUMMARY:Student Night
DTSTART;TZID=Europe/London:20260813T183000
DTEND;TZID=Europe/London:20260813T203000
DTSTAMP:20260421T175222Z
UID:6070712026-08-13 18:30:00+01:00achurchnearyou
CATEGORIES:
DESCRIPTION:Every week in term time\, we meet at church on Thursday at 6:3
 0pm for a meal\, a time of worship and a short talk\, we then break up int
 o small groups for discussion. All students are welcome.
GEO:-1.575294;54.777388
LOCATION:St Nics Durham
URL:https://www.achurchnearyou.com/church/13475/service-and-events/events/
 607071/
END:VEVENT
BEGIN:VEVENT
SUMMARY:Student Night
DTSTART;TZID=Europe/London:20260820T183000
DTEND;TZID=Europe/London:20260820T203000
DTSTAMP:20260421T175222Z
UID:6070712026-08-20 18:30:00+01:00achurchnearyou
CATEGORIES:
DESCRIPTION:Every week in term time\, we meet at church on Thursday at 6:3
 0pm for a meal\, a time of worship and a short talk\, we then break up int
 o small groups for discussion. All students are welcome.
GEO:-1.575294;54.777388
LOCATION:St Nics Durham
URL:https://www.achurchnearyou.com/church/13475/service-and-events/events/
 607071/
END:VEVENT
BEGIN:VEVENT
SUMMARY:Student Night
DTSTART;TZID=Europe/London:20260827T183000
DTEND;TZID=Europe/London:20260827T203000
DTSTAMP:20260421T175222Z
UID:6070712026-08-27 18:30:00+01:00achurchnearyou
CATEGORIES:
DESCRIPTION:Every week in term time\, we meet at church on Thursday at 6:3
 0pm for a meal\, a time of worship and a short talk\, we then break up int
 o small groups for discussion. All students are welcome.
GEO:-1.575294;54.777388
LOCATION:St Nics Durham
URL:https://www.achurchnearyou.com/church/13475/service-and-events/events/
 607071/
END:VEVENT
BEGIN:VEVENT
SUMMARY:Student Night
DTSTART;TZID=Europe/London:20260903T183000
DTEND;TZID=Europe/London:20260903T203000
DTSTAMP:20260421T175222Z
UID:6070712026-09-03 18:30:00+01:00achurchnearyou
CATEGORIES:
DESCRIPTION:Every week in term time\, we meet at church on Thursday at 6:3
 0pm for a meal\, a time of worship and a short talk\, we then break up int
 o small groups for discussion. All students are welcome.
GEO:-1.575294;54.777388
LOCATION:St Nics Durham
URL:https://www.achurchnearyou.com/church/13475/service-and-events/events/
 607071/
END:VEVENT
BEGIN:VEVENT
SUMMARY:Student Night
DTSTART;TZID=Europe/London:20260910T183000
DTEND;TZID=Europe/London:20260910T203000
DTSTAMP:20260421T175222Z
UID:6070712026-09-10 18:30:00+01:00achurchnearyou
CATEGORIES:
DESCRIPTION:Every week in term time\, we meet at church on Thursday at 6:3
 0pm for a meal\, a time of worship and a short talk\, we then break up int
 o small groups for discussion. All students are welcome.
GEO:-1.575294;54.777388
LOCATION:St Nics Durham
URL:https://www.achurchnearyou.com/church/13475/service-and-events/events/
 607071/
END:VEVENT
BEGIN:VEVENT
SUMMARY:Student Night
DTSTART;TZID=Europe/London:20260917T183000
DTEND;TZID=Europe/London:20260917T203000
DTSTAMP:20260421T175222Z
UID:6070712026-09-17 18:30:00+01:00achurchnearyou
CATEGORIES:
DESCRIPTION:Every week in term time\, we meet at church on Thursday at 6:3
 0pm for a meal\, a time of worship and a short talk\, we then break up int
 o small groups for discussion. All students are welcome.
GEO:-1.575294;54.777388
LOCATION:St Nics Durham
URL:https://www.achurchnearyou.com/church/13475/service-and-events/events/
 607071/
END:VEVENT
BEGIN:VEVENT
SUMMARY:Student Night
DTSTART;TZID=Europe/London:20260924T183000
DTEND;TZID=Europe/London:20260924T203000
DTSTAMP:20260421T175222Z
UID:6070712026-09-24 18:30:00+01:00achurchnearyou
CATEGORIES:
DESCRIPTION:Every week in term time\, we meet at church on Thursday at 6:3
 0pm for a meal\, a time of worship and a short talk\, we then break up int
 o small groups for discussion. All students are welcome.
GEO:-1.575294;54.777388
LOCATION:St Nics Durham
URL:https://www.achurchnearyou.com/church/13475/service-and-events/events/
 607071/
END:VEVENT
BEGIN:VEVENT
SUMMARY:Student Night
DTSTART;TZID=Europe/London:20261001T183000
DTEND;TZID=Europe/London:20261001T203000
DTSTAMP:20260421T175222Z
UID:6070712026-10-01 18:30:00+01:00achurchnearyou
CATEGORIES:
DESCRIPTION:Every week in term time\, we meet at church on Thursday at 6:3
 0pm for a meal\, a time of worship and a short talk\, we then break up int
 o small groups for discussion. All students are welcome.
GEO:-1.575294;54.777388
LOCATION:St Nics Durham
URL:https://www.achurchnearyou.com/church/13475/service-and-events/events/
 607071/
END:VEVENT
BEGIN:VEVENT
SUMMARY:Student Night
DTSTART;TZID=Europe/London:20261008T183000
DTEND;TZID=Europe/London:20261008T203000
DTSTAMP:20260421T175222Z
UID:6070712026-10-08 18:30:00+01:00achurchnearyou
CATEGORIES:
DESCRIPTION:Every week in term time\, we meet at church on Thursday at 6:3
 0pm for a meal\, a time of worship and a short talk\, we then break up int
 o small groups for discussion. All students are welcome.
GEO:-1.575294;54.777388
LOCATION:St Nics Durham
URL:https://www.achurchnearyou.com/church/13475/service-and-events/events/
 607071/
END:VEVENT
BEGIN:VEVENT
SUMMARY:Student Night
DTSTART;TZID=Europe/London:20261015T183000
DTEND;TZID=Europe/London:20261015T203000
DTSTAMP:20260421T175222Z
UID:6070712026-10-15 18:30:00+01:00achurchnearyou
CATEGORIES:
DESCRIPTION:Every week in term time\, we meet at church on Thursday at 6:3
 0pm for a meal\, a time of worship and a short talk\, we then break up int
 o small groups for discussion. All students are welcome.
GEO:-1.575294;54.777388
LOCATION:St Nics Durham
URL:https://www.achurchnearyou.com/church/13475/service-and-events/events/
 607071/
END:VEVENT
BEGIN:VEVENT
SUMMARY:Student Night
DTSTART;TZID=Europe/London:20261022T183000
DTEND;TZID=Europe/London:20261022T203000
DTSTAMP:20260421T175222Z
UID:6070712026-10-22 18:30:00+01:00achurchnearyou
CATEGORIES:
DESCRIPTION:Every week in term time\, we meet at church on Thursday at 6:3
 0pm for a meal\, a time of worship and a short talk\, we then break up int
 o small groups for discussion. All students are welcome.
GEO:-1.575294;54.777388
LOCATION:St Nics Durham
URL:https://www.achurchnearyou.com/church/13475/service-and-events/events/
 607071/
END:VEVENT
BEGIN:VEVENT
SUMMARY:Student Night
DTSTART;TZID=Europe/London:20261029T183000
DTEND;TZID=Europe/London:20261029T203000
DTSTAMP:20260421T175222Z
UID:6070712026-10-29 18:30:00+00:00achurchnearyou
CATEGORIES:
DESCRIPTION:Every week in term time\, we meet at church on Thursday at 6:3
 0pm for a meal\, a time of worship and a short talk\, we then break up int
 o small groups for discussion. All students are welcome.
GEO:-1.575294;54.777388
LOCATION:St Nics Durham
URL:https://www.achurchnearyou.com/church/13475/service-and-events/events/
 607071/
END:VEVENT
BEGIN:VEVENT
SUMMARY:Student Night
DTSTART;TZID=Europe/London:20261105T183000
DTEND;TZID=Europe/London:20261105T203000
DTSTAMP:20260421T175222Z
UID:6070712026-11-05 18:30:00+00:00achurchnearyou
CATEGORIES:
DESCRIPTION:Every week in term time\, we meet at church on Thursday at 6:3
 0pm for a meal\, a time of worship and a short talk\, we then break up int
 o small groups for discussion. All students are welcome.
GEO:-1.575294;54.777388
LOCATION:St Nics Durham
URL:https://www.achurchnearyou.com/church/13475/service-and-events/events/
 607071/
END:VEVENT
BEGIN:VEVENT
SUMMARY:Student Night
DTSTART;TZID=Europe/London:20261112T183000
DTEND;TZID=Europe/London:20261112T203000
DTSTAMP:20260421T175222Z
UID:6070712026-11-12 18:30:00+00:00achurchnearyou
CATEGORIES:
DESCRIPTION:Every week in term time\, we meet at church on Thursday at 6:3
 0pm for a meal\, a time of worship and a short talk\, we then break up int
 o small groups for discussion. All students are welcome.
GEO:-1.575294;54.777388
LOCATION:St Nics Durham
URL:https://www.achurchnearyou.com/church/13475/service-and-events/events/
 607071/
END:VEVENT
BEGIN:VEVENT
SUMMARY:Student Night
DTSTART;TZID=Europe/London:20261119T183000
DTEND;TZID=Europe/London:20261119T203000
DTSTAMP:20260421T175222Z
UID:6070712026-11-19 18:30:00+00:00achurchnearyou
CATEGORIES:
DESCRIPTION:Every week in term time\, we meet at church on Thursday at 6:3
 0pm for a meal\, a time of worship and a short talk\, we then break up int
 o small groups for discussion. All students are welcome.
GEO:-1.575294;54.777388
LOCATION:St Nics Durham
URL:https://www.achurchnearyou.com/church/13475/service-and-events/events/
 607071/
END:VEVENT
BEGIN:VEVENT
SUMMARY:Student Night
DTSTART;TZID=Europe/London:20261126T183000
DTEND;TZID=Europe/London:20261126T203000
DTSTAMP:20260421T175222Z
UID:6070712026-11-26 18:30:00+00:00achurchnearyou
CATEGORIES:
DESCRIPTION:Every week in term time\, we meet at church on Thursday at 6:3
 0pm for a meal\, a time of worship and a short talk\, we then break up int
 o small groups for discussion. All students are welcome.
GEO:-1.575294;54.777388
LOCATION:St Nics Durham
URL:https://www.achurchnearyou.com/church/13475/service-and-events/events/
 607071/
END:VEVENT
BEGIN:VEVENT
SUMMARY:Student Night
DTSTART;TZID=Europe/London:20261203T183000
DTEND;TZID=Europe/London:20261203T203000
DTSTAMP:20260421T175222Z
UID:6070712026-12-03 18:30:00+00:00achurchnearyou
CATEGORIES:
DESCRIPTION:Every week in term time\, we meet at church on Thursday at 6:3
 0pm for a meal\, a time of worship and a short talk\, we then break up int
 o small groups for discussion. All students are welcome.
GEO:-1.575294;54.777388
LOCATION:St Nics Durham
URL:https://www.achurchnearyou.com/church/13475/service-and-events/events/
 607071/
END:VEVENT
BEGIN:VEVENT
SUMMARY:Student Night
DTSTART;TZID=Europe/London:20261210T183000
DTEND;TZID=Europe/London:20261210T203000
DTSTAMP:20260421T175222Z
UID:6070712026-12-10 18:30:00+00:00achurchnearyou
CATEGORIES:
DESCRIPTION:Every week in term time\, we meet at church on Thursday at 6:3
 0pm for a meal\, a time of worship and a short talk\, we then break up int
 o small groups for discussion. All students are welcome.
GEO:-1.575294;54.777388
LOCATION:St Nics Durham
URL:https://www.achurchnearyou.com/church/13475/service-and-events/events/
 607071/
END:VEVENT
BEGIN:VEVENT
SUMMARY:Student Night
DTSTART;TZID=Europe/London:20261217T183000
DTEND;TZID=Europe/London:20261217T203000
DTSTAMP:20260421T175222Z
UID:6070712026-12-17 18:30:00+00:00achurchnearyou
CATEGORIES:
DESCRIPTION:Every week in term time\, we meet at church on Thursday at 6:3
 0pm for a meal\, a time of worship and a short talk\, we then break up int
 o small groups for discussion. All students are welcome.
GEO:-1.575294;54.777388
LOCATION:St Nics Durham
URL:https://www.achurchnearyou.com/church/13475/service-and-events/events/
 607071/
END:VEVENT
BEGIN:VEVENT
SUMMARY:Student Night
DTSTART;TZID=Europe/London:20261224T183000
DTEND;TZID=Europe/London:20261224T203000
DTSTAMP:20260421T175222Z
UID:6070712026-12-24 18:30:00+00:00achurchnearyou
CATEGORIES:
DESCRIPTION:Every week in term time\, we meet at church on Thursday at 6:3
 0pm for a meal\, a time of worship and a short talk\, we then break up int
 o small groups for discussion. All students are welcome.
GEO:-1.575294;54.777388
LOCATION:St Nics Durham
URL:https://www.achurchnearyou.com/church/13475/service-and-events/events/
 607071/
END:VEVENT
BEGIN:VEVENT
SUMMARY:Student Night
DTSTART;TZID=Europe/London:20261231T183000
DTEND;TZID=Europe/London:20261231T203000
DTSTAMP:20260421T175222Z
UID:6070712026-12-31 18:30:00+00:00achurchnearyou
CATEGORIES:
DESCRIPTION:Every week in term time\, we meet at church on Thursday at 6:3
 0pm for a meal\, a time of worship and a short talk\, we then break up int
 o small groups for discussion. All students are welcome.
GEO:-1.575294;54.777388
LOCATION:St Nics Durham
URL:https://www.achurchnearyou.com/church/13475/service-and-events/events/
 607071/
END:VEVENT
BEGIN:VEVENT
SUMMARY:Student Night
DTSTART;TZID=Europe/London:20270107T183000
DTEND;TZID=Europe/London:20270107T203000
DTSTAMP:20260421T175222Z
UID:6070712027-01-07 18:30:00+00:00achurchnearyou
CATEGORIES:
DESCRIPTION:Every week in term time\, we meet at church on Thursday at 6:3
 0pm for a meal\, a time of worship and a short talk\, we then break up int
 o small groups for discussion. All students are welcome.
GEO:-1.575294;54.777388
LOCATION:St Nics Durham
URL:https://www.achurchnearyou.com/church/13475/service-and-events/events/
 607071/
END:VEVENT
BEGIN:VEVENT
SUMMARY:Student Night
DTSTART;TZID=Europe/London:20270114T183000
DTEND;TZID=Europe/London:20270114T203000
DTSTAMP:20260421T175222Z
UID:6070712027-01-14 18:30:00+00:00achurchnearyou
CATEGORIES:
DESCRIPTION:Every week in term time\, we meet at church on Thursday at 6:3
 0pm for a meal\, a time of worship and a short talk\, we then break up int
 o small groups for discussion. All students are welcome.
GEO:-1.575294;54.777388
LOCATION:St Nics Durham
URL:https://www.achurchnearyou.com/church/13475/service-and-events/events/
 607071/
END:VEVENT
BEGIN:VEVENT
SUMMARY:Student Night
DTSTART;TZID=Europe/London:20270121T183000
DTEND;TZID=Europe/London:20270121T203000
DTSTAMP:20260421T175222Z
UID:6070712027-01-21 18:30:00+00:00achurchnearyou
CATEGORIES:
DESCRIPTION:Every week in term time\, we meet at church on Thursday at 6:3
 0pm for a meal\, a time of worship and a short talk\, we then break up int
 o small groups for discussion. All students are welcome.
GEO:-1.575294;54.777388
LOCATION:St Nics Durham
URL:https://www.achurchnearyou.com/church/13475/service-and-events/events/
 607071/
END:VEVENT
BEGIN:VEVENT
SUMMARY:Student Night
DTSTART;TZID=Europe/London:20270128T183000
DTEND;TZID=Europe/London:20270128T203000
DTSTAMP:20260421T175222Z
UID:6070712027-01-28 18:30:00+00:00achurchnearyou
CATEGORIES:
DESCRIPTION:Every week in term time\, we meet at church on Thursday at 6:3
 0pm for a meal\, a time of worship and a short talk\, we then break up int
 o small groups for discussion. All students are welcome.
GEO:-1.575294;54.777388
LOCATION:St Nics Durham
URL:https://www.achurchnearyou.com/church/13475/service-and-events/events/
 607071/
END:VEVENT
BEGIN:VEVENT
SUMMARY:Student Night
DTSTART;TZID=Europe/London:20270204T183000
DTEND;TZID=Europe/London:20270204T203000
DTSTAMP:20260421T175222Z
UID:6070712027-02-04 18:30:00+00:00achurchnearyou
CATEGORIES:
DESCRIPTION:Every week in term time\, we meet at church on Thursday at 6:3
 0pm for a meal\, a time of worship and a short talk\, we then break up int
 o small groups for discussion. All students are welcome.
GEO:-1.575294;54.777388
LOCATION:St Nics Durham
URL:https://www.achurchnearyou.com/church/13475/service-and-events/events/
 607071/
END:VEVENT
BEGIN:VEVENT
SUMMARY:Student Night
DTSTART;TZID=Europe/London:20270211T183000
DTEND;TZID=Europe/London:20270211T203000
DTSTAMP:20260421T175222Z
UID:6070712027-02-11 18:30:00+00:00achurchnearyou
CATEGORIES:
DESCRIPTION:Every week in term time\, we meet at church on Thursday at 6:3
 0pm for a meal\, a time of worship and a short talk\, we then break up int
 o small groups for discussion. All students are welcome.
GEO:-1.575294;54.777388
LOCATION:St Nics Durham
URL:https://www.achurchnearyou.com/church/13475/service-and-events/events/
 607071/
END:VEVENT
BEGIN:VEVENT
SUMMARY:Student Night
DTSTART;TZID=Europe/London:20270218T183000
DTEND;TZID=Europe/London:20270218T203000
DTSTAMP:20260421T175222Z
UID:6070712027-02-18 18:30:00+00:00achurchnearyou
CATEGORIES:
DESCRIPTION:Every week in term time\, we meet at church on Thursday at 6:3
 0pm for a meal\, a time of worship and a short talk\, we then break up int
 o small groups for discussion. All students are welcome.
GEO:-1.575294;54.777388
LOCATION:St Nics Durham
URL:https://www.achurchnearyou.com/church/13475/service-and-events/events/
 607071/
END:VEVENT
BEGIN:VEVENT
SUMMARY:Student Night
DTSTART;TZID=Europe/London:20270225T183000
DTEND;TZID=Europe/London:20270225T203000
DTSTAMP:20260421T175222Z
UID:6070712027-02-25 18:30:00+00:00achurchnearyou
CATEGORIES:
DESCRIPTION:Every week in term time\, we meet at church on Thursday at 6:3
 0pm for a meal\, a time of worship and a short talk\, we then break up int
 o small groups for discussion. All students are welcome.
GEO:-1.575294;54.777388
LOCATION:St Nics Durham
URL:https://www.achurchnearyou.com/church/13475/service-and-events/events/
 607071/
END:VEVENT
BEGIN:VEVENT
SUMMARY:Student Night
DTSTART;TZID=Europe/London:20270304T183000
DTEND;TZID=Europe/London:20270304T203000
DTSTAMP:20260421T175222Z
UID:6070712027-03-04 18:30:00+00:00achurchnearyou
CATEGORIES:
DESCRIPTION:Every week in term time\, we meet at church on Thursday at 6:3
 0pm for a meal\, a time of worship and a short talk\, we then break up int
 o small groups for discussion. All students are welcome.
GEO:-1.575294;54.777388
LOCATION:St Nics Durham
URL:https://www.achurchnearyou.com/church/13475/service-and-events/events/
 607071/
END:VEVENT
BEGIN:VEVENT
SUMMARY:Student Night
DTSTART;TZID=Europe/London:20270311T183000
DTEND;TZID=Europe/London:20270311T203000
DTSTAMP:20260421T175222Z
UID:6070712027-03-11 18:30:00+00:00achurchnearyou
CATEGORIES:
DESCRIPTION:Every week in term time\, we meet at church on Thursday at 6:3
 0pm for a meal\, a time of worship and a short talk\, we then break up int
 o small groups for discussion. All students are welcome.
GEO:-1.575294;54.777388
LOCATION:St Nics Durham
URL:https://www.achurchnearyou.com/church/13475/service-and-events/events/
 607071/
END:VEVENT
BEGIN:VEVENT
SUMMARY:Student Night
DTSTART;TZID=Europe/London:20270318T183000
DTEND;TZID=Europe/London:20270318T203000
DTSTAMP:20260421T175222Z
UID:6070712027-03-18 18:30:00+00:00achurchnearyou
CATEGORIES:
DESCRIPTION:Every week in term time\, we meet at church on Thursday at 6:3
 0pm for a meal\, a time of worship and a short talk\, we then break up int
 o small groups for discussion. All students are welcome.
GEO:-1.575294;54.777388
LOCATION:St Nics Durham
URL:https://www.achurchnearyou.com/church/13475/service-and-events/events/
 607071/
END:VEVENT
BEGIN:VEVENT
SUMMARY:Student Night
DTSTART;TZID=Europe/London:20270325T183000
DTEND;TZID=Europe/London:20270325T203000
DTSTAMP:20260421T175222Z
UID:6070712027-03-25 18:30:00+00:00achurchnearyou
CATEGORIES:
DESCRIPTION:Every week in term time\, we meet at church on Thursday at 6:3
 0pm for a meal\, a time of worship and a short talk\, we then break up int
 o small groups for discussion. All students are welcome.
GEO:-1.575294;54.777388
LOCATION:St Nics Durham
URL:https://www.achurchnearyou.com/church/13475/service-and-events/events/
 607071/
END:VEVENT
BEGIN:VEVENT
SUMMARY:Student Night
DTSTART;TZID=Europe/London:20270401T183000
DTEND;TZID=Europe/London:20270401T203000
DTSTAMP:20260421T175222Z
UID:6070712027-04-01 18:30:00+01:00achurchnearyou
CATEGORIES:
DESCRIPTION:Every week in term time\, we meet at church on Thursday at 6:3
 0pm for a meal\, a time of worship and a short talk\, we then break up int
 o small groups for discussion. All students are welcome.
GEO:-1.575294;54.777388
LOCATION:St Nics Durham
URL:https://www.achurchnearyou.com/church/13475/service-and-events/events/
 607071/
END:VEVENT
BEGIN:VEVENT
SUMMARY:Student Night
DTSTART;TZID=Europe/London:20270408T183000
DTEND;TZID=Europe/London:20270408T203000
DTSTAMP:20260421T175222Z
UID:6070712027-04-08 18:30:00+01:00achurchnearyou
CATEGORIES:
DESCRIPTION:Every week in term time\, we meet at church on Thursday at 6:3
 0pm for a meal\, a time of worship and a short talk\, we then break up int
 o small groups for discussion. All students are welcome.
GEO:-1.575294;54.777388
LOCATION:St Nics Durham
URL:https://www.achurchnearyou.com/church/13475/service-and-events/events/
 607071/
END:VEVENT
BEGIN:VEVENT
SUMMARY:Student Night
DTSTART;TZID=Europe/London:20270415T183000
DTEND;TZID=Europe/London:20270415T203000
DTSTAMP:20260421T175222Z
UID:6070712027-04-15 18:30:00+01:00achurchnearyou
CATEGORIES:
DESCRIPTION:Every week in term time\, we meet at church on Thursday at 6:3
 0pm for a meal\, a time of worship and a short talk\, we then break up int
 o small groups for discussion. All students are welcome.
GEO:-1.575294;54.777388
LOCATION:St Nics Durham
URL:https://www.achurchnearyou.com/church/13475/service-and-events/events/
 607071/
END:VEVENT
END:VCALENDAR
