BEGIN:VCALENDAR
VERSION:2.0
PRODID:-//achurchnearyou.com//eventfeed//EN
CALSCALE:GREGORIAN
METHOD:PUBLISH
X-WR-TIMEZONE:UTC
BEGIN:VEVENT
SUMMARY:Christmas Communion
DTSTART:20251224T190000Z
DTEND:20251224T200000Z
DTSTAMP:20260422T153214Z
UID:12624142025-12-24 19:00:00+00:00achurchnearyou
CATEGORIES:
DESCRIPTION:A service of Holy Communion with Christmas Carols
GEO:-1.675673;54.799238
LOCATION:All Saints
URL:https://www.achurchnearyou.com/church/13487/service-and-events/events/
 1262414/
END:VEVENT
END:VCALENDAR
