BEGIN:VCALENDAR
VERSION:2.0
PRODID:-//achurchnearyou.com//eventfeed//EN
CALSCALE:GREGORIAN
METHOD:PUBLISH
X-WR-TIMEZONE:UTC
BEGIN:VEVENT
SUMMARY:Holy Communion
DTSTART;TZID=Europe/London:20260402T091500
DTEND;TZID=Europe/London:20260402T094900
DTSTAMP:20260422T060121Z
UID:7747181775117700.0achurchnearyou
CATEGORIES:
DESCRIPTION:A quiet service of Holy Communion following the 1662 Book of C
 ommon Prayer. No hymns are sung.
GEO:-1.675673;54.799238
LOCATION:All Saints
URL:https://www.achurchnearyou.com/church/13487/service-and-events/events/
 774718/
END:VEVENT
BEGIN:VEVENT
SUMMARY:Good Friday Service
DTSTART;TZID=Europe/London:20260403T140000
DTEND;TZID=Europe/London:20260403T150000
DTSTAMP:20260422T060121Z
UID:13151921775221200.0achurchnearyou
CATEGORIES:
DESCRIPTION:A reflective service of hymns and prayers for Good Friday
GEO:-1.675673;54.799238
LOCATION:All Saints
URL:https://www.achurchnearyou.com/church/13487/service-and-events/events/
 1315192/
END:VEVENT
BEGIN:VEVENT
SUMMARY:Morning Worship
DTSTART;TZID=Europe/London:20260405T101500
DTEND;TZID=Europe/London:20260405T110400
DTSTAMP:20260422T060121Z
UID:7747121775380500.0achurchnearyou
CATEGORIES:
DESCRIPTION:A Service of Hymns and Prayers
GEO:-1.675673;54.799238
LOCATION:All Saints
URL:https://www.achurchnearyou.com/church/13487/service-and-events/events/
 774712/
END:VEVENT
BEGIN:VEVENT
SUMMARY:Holy Communion
DTSTART;TZID=Europe/London:20260409T091500
DTEND;TZID=Europe/London:20260409T094900
DTSTAMP:20260422T060121Z
UID:7747181775722500.0achurchnearyou
CATEGORIES:
DESCRIPTION:A quiet service of Holy Communion following the 1662 Book of C
 ommon Prayer. No hymns are sung.
GEO:-1.675673;54.799238
LOCATION:All Saints
URL:https://www.achurchnearyou.com/church/13487/service-and-events/events/
 774718/
END:VEVENT
BEGIN:VEVENT
SUMMARY:Parish Communion
DTSTART;TZID=Europe/London:20260412T101500
DTEND;TZID=Europe/London:20260412T111500
DTSTAMP:20260422T060121Z
UID:1743571775985300.0achurchnearyou
CATEGORIES:
DESCRIPTION:A Service of Holy Communion following Common Worship with hymn
 s and songs
GEO:-1.675673;54.799238
LOCATION:All Saints
URL:https://www.achurchnearyou.com/church/13487/service-and-events/events/
 174357/
END:VEVENT
BEGIN:VEVENT
SUMMARY:Holy Communion
DTSTART;TZID=Europe/London:20260416T091500
DTEND;TZID=Europe/London:20260416T094900
DTSTAMP:20260422T060121Z
UID:7747181776327300.0achurchnearyou
CATEGORIES:
DESCRIPTION:A quiet service of Holy Communion following the 1662 Book of C
 ommon Prayer. No hymns are sung.
GEO:-1.675673;54.799238
LOCATION:All Saints
URL:https://www.achurchnearyou.com/church/13487/service-and-events/events/
 774718/
END:VEVENT
BEGIN:VEVENT
SUMMARY:Parish Communion
DTSTART;TZID=Europe/London:20260419T101500
DTEND;TZID=Europe/London:20260419T111500
DTSTAMP:20260422T060121Z
UID:1743571776590100.0achurchnearyou
CATEGORIES:
DESCRIPTION:A Service of Holy Communion following Common Worship with hymn
 s and songs
GEO:-1.675673;54.799238
LOCATION:All Saints
URL:https://www.achurchnearyou.com/church/13487/service-and-events/events/
 174357/
END:VEVENT
BEGIN:VEVENT
SUMMARY:Holy Communion
DTSTART;TZID=Europe/London:20260423T091500
DTEND;TZID=Europe/London:20260423T094900
DTSTAMP:20260422T060121Z
UID:7747181776932100.0achurchnearyou
CATEGORIES:
DESCRIPTION:A quiet service of Holy Communion following the 1662 Book of C
 ommon Prayer. No hymns are sung.
GEO:-1.675673;54.799238
LOCATION:All Saints
URL:https://www.achurchnearyou.com/church/13487/service-and-events/events/
 774718/
END:VEVENT
BEGIN:VEVENT
SUMMARY:Parish Communion
DTSTART;TZID=Europe/London:20260426T101500
DTEND;TZID=Europe/London:20260426T111500
DTSTAMP:20260422T060121Z
UID:1743571777194900.0achurchnearyou
CATEGORIES:
DESCRIPTION:A Service of Holy Communion following Common Worship with hymn
 s and songs
GEO:-1.675673;54.799238
LOCATION:All Saints
URL:https://www.achurchnearyou.com/church/13487/service-and-events/events/
 174357/
END:VEVENT
BEGIN:VEVENT
SUMMARY:Holy Communion
DTSTART;TZID=Europe/London:20260430T091500
DTEND;TZID=Europe/London:20260430T094900
DTSTAMP:20260422T060121Z
UID:7747181777536900.0achurchnearyou
CATEGORIES:
DESCRIPTION:A quiet service of Holy Communion following the 1662 Book of C
 ommon Prayer. No hymns are sung.
GEO:-1.675673;54.799238
LOCATION:All Saints
URL:https://www.achurchnearyou.com/church/13487/service-and-events/events/
 774718/
END:VEVENT
BEGIN:VEVENT
SUMMARY:Morning Worship
DTSTART;TZID=Europe/London:20260503T101500
DTEND;TZID=Europe/London:20260503T110400
DTSTAMP:20260422T060121Z
UID:7747121777799700.0achurchnearyou
CATEGORIES:
DESCRIPTION:A Service of Hymns and Prayers
GEO:-1.675673;54.799238
LOCATION:All Saints
URL:https://www.achurchnearyou.com/church/13487/service-and-events/events/
 774712/
END:VEVENT
BEGIN:VEVENT
SUMMARY:Holy Communion
DTSTART;TZID=Europe/London:20260507T091500
DTEND;TZID=Europe/London:20260507T094900
DTSTAMP:20260422T060121Z
UID:7747181778141700.0achurchnearyou
CATEGORIES:
DESCRIPTION:A quiet service of Holy Communion following the 1662 Book of C
 ommon Prayer. No hymns are sung.
GEO:-1.675673;54.799238
LOCATION:All Saints
URL:https://www.achurchnearyou.com/church/13487/service-and-events/events/
 774718/
END:VEVENT
BEGIN:VEVENT
SUMMARY:Parish Communion
DTSTART;TZID=Europe/London:20260510T101500
DTEND;TZID=Europe/London:20260510T111500
DTSTAMP:20260422T060121Z
UID:1743571778404500.0achurchnearyou
CATEGORIES:
DESCRIPTION:A Service of Holy Communion following Common Worship with hymn
 s and songs
GEO:-1.675673;54.799238
LOCATION:All Saints
URL:https://www.achurchnearyou.com/church/13487/service-and-events/events/
 174357/
END:VEVENT
BEGIN:VEVENT
SUMMARY:Holy Communion
DTSTART;TZID=Europe/London:20260514T091500
DTEND;TZID=Europe/London:20260514T094900
DTSTAMP:20260422T060121Z
UID:7747181778746500.0achurchnearyou
CATEGORIES:
DESCRIPTION:A quiet service of Holy Communion following the 1662 Book of C
 ommon Prayer. No hymns are sung.
GEO:-1.675673;54.799238
LOCATION:All Saints
URL:https://www.achurchnearyou.com/church/13487/service-and-events/events/
 774718/
END:VEVENT
BEGIN:VEVENT
SUMMARY:Parish Communion
DTSTART;TZID=Europe/London:20260517T101500
DTEND;TZID=Europe/London:20260517T111500
DTSTAMP:20260422T060121Z
UID:1743571779009300.0achurchnearyou
CATEGORIES:
DESCRIPTION:A Service of Holy Communion following Common Worship with hymn
 s and songs
GEO:-1.675673;54.799238
LOCATION:All Saints
URL:https://www.achurchnearyou.com/church/13487/service-and-events/events/
 174357/
END:VEVENT
BEGIN:VEVENT
SUMMARY:Holy Communion
DTSTART;TZID=Europe/London:20260521T091500
DTEND;TZID=Europe/London:20260521T094900
DTSTAMP:20260422T060121Z
UID:7747181779351300.0achurchnearyou
CATEGORIES:
DESCRIPTION:A quiet service of Holy Communion following the 1662 Book of C
 ommon Prayer. No hymns are sung.
GEO:-1.675673;54.799238
LOCATION:All Saints
URL:https://www.achurchnearyou.com/church/13487/service-and-events/events/
 774718/
END:VEVENT
BEGIN:VEVENT
SUMMARY:Parish Communion
DTSTART;TZID=Europe/London:20260524T101500
DTEND;TZID=Europe/London:20260524T111500
DTSTAMP:20260422T060121Z
UID:1743571779614100.0achurchnearyou
CATEGORIES:
DESCRIPTION:A Service of Holy Communion following Common Worship with hymn
 s and songs
GEO:-1.675673;54.799238
LOCATION:All Saints
URL:https://www.achurchnearyou.com/church/13487/service-and-events/events/
 174357/
END:VEVENT
BEGIN:VEVENT
SUMMARY:Holy Communion
DTSTART;TZID=Europe/London:20260528T091500
DTEND;TZID=Europe/London:20260528T094900
DTSTAMP:20260422T060121Z
UID:7747181779956100.0achurchnearyou
CATEGORIES:
DESCRIPTION:A quiet service of Holy Communion following the 1662 Book of C
 ommon Prayer. No hymns are sung.
GEO:-1.675673;54.799238
LOCATION:All Saints
URL:https://www.achurchnearyou.com/church/13487/service-and-events/events/
 774718/
END:VEVENT
BEGIN:VEVENT
SUMMARY:Parish Communion
DTSTART;TZID=Europe/London:20260531T101500
DTEND;TZID=Europe/London:20260531T111500
DTSTAMP:20260422T060121Z
UID:1743571780218900.0achurchnearyou
CATEGORIES:
DESCRIPTION:A Service of Holy Communion following Common Worship with hymn
 s and songs
GEO:-1.675673;54.799238
LOCATION:All Saints
URL:https://www.achurchnearyou.com/church/13487/service-and-events/events/
 174357/
END:VEVENT
BEGIN:VEVENT
SUMMARY:Holy Communion
DTSTART;TZID=Europe/London:20260604T091500
DTEND;TZID=Europe/London:20260604T094900
DTSTAMP:20260422T060121Z
UID:7747181780560900.0achurchnearyou
CATEGORIES:
DESCRIPTION:A quiet service of Holy Communion following the 1662 Book of C
 ommon Prayer. No hymns are sung.
GEO:-1.675673;54.799238
LOCATION:All Saints
URL:https://www.achurchnearyou.com/church/13487/service-and-events/events/
 774718/
END:VEVENT
BEGIN:VEVENT
SUMMARY:Morning Worship
DTSTART;TZID=Europe/London:20260607T101500
DTEND;TZID=Europe/London:20260607T110400
DTSTAMP:20260422T060121Z
UID:7747121780823700.0achurchnearyou
CATEGORIES:
DESCRIPTION:A Service of Hymns and Prayers
GEO:-1.675673;54.799238
LOCATION:All Saints
URL:https://www.achurchnearyou.com/church/13487/service-and-events/events/
 774712/
END:VEVENT
BEGIN:VEVENT
SUMMARY:Holy Communion
DTSTART;TZID=Europe/London:20260611T091500
DTEND;TZID=Europe/London:20260611T094900
DTSTAMP:20260422T060121Z
UID:7747181781165700.0achurchnearyou
CATEGORIES:
DESCRIPTION:A quiet service of Holy Communion following the 1662 Book of C
 ommon Prayer. No hymns are sung.
GEO:-1.675673;54.799238
LOCATION:All Saints
URL:https://www.achurchnearyou.com/church/13487/service-and-events/events/
 774718/
END:VEVENT
BEGIN:VEVENT
SUMMARY:Parish Communion
DTSTART;TZID=Europe/London:20260614T101500
DTEND;TZID=Europe/London:20260614T111500
DTSTAMP:20260422T060121Z
UID:1743571781428500.0achurchnearyou
CATEGORIES:
DESCRIPTION:A Service of Holy Communion following Common Worship with hymn
 s and songs
GEO:-1.675673;54.799238
LOCATION:All Saints
URL:https://www.achurchnearyou.com/church/13487/service-and-events/events/
 174357/
END:VEVENT
BEGIN:VEVENT
SUMMARY:Holy Communion
DTSTART;TZID=Europe/London:20260618T091500
DTEND;TZID=Europe/London:20260618T094900
DTSTAMP:20260422T060121Z
UID:7747181781770500.0achurchnearyou
CATEGORIES:
DESCRIPTION:A quiet service of Holy Communion following the 1662 Book of C
 ommon Prayer. No hymns are sung.
GEO:-1.675673;54.799238
LOCATION:All Saints
URL:https://www.achurchnearyou.com/church/13487/service-and-events/events/
 774718/
END:VEVENT
BEGIN:VEVENT
SUMMARY:Parish Communion
DTSTART;TZID=Europe/London:20260621T101500
DTEND;TZID=Europe/London:20260621T111500
DTSTAMP:20260422T060121Z
UID:1743571782033300.0achurchnearyou
CATEGORIES:
DESCRIPTION:A Service of Holy Communion following Common Worship with hymn
 s and songs
GEO:-1.675673;54.799238
LOCATION:All Saints
URL:https://www.achurchnearyou.com/church/13487/service-and-events/events/
 174357/
END:VEVENT
BEGIN:VEVENT
SUMMARY:Holy Communion
DTSTART;TZID=Europe/London:20260625T091500
DTEND;TZID=Europe/London:20260625T094900
DTSTAMP:20260422T060121Z
UID:7747181782375300.0achurchnearyou
CATEGORIES:
DESCRIPTION:A quiet service of Holy Communion following the 1662 Book of C
 ommon Prayer. No hymns are sung.
GEO:-1.675673;54.799238
LOCATION:All Saints
URL:https://www.achurchnearyou.com/church/13487/service-and-events/events/
 774718/
END:VEVENT
BEGIN:VEVENT
SUMMARY:Parish Communion
DTSTART;TZID=Europe/London:20260628T101500
DTEND;TZID=Europe/London:20260628T111500
DTSTAMP:20260422T060121Z
UID:1743571782638100.0achurchnearyou
CATEGORIES:
DESCRIPTION:A Service of Holy Communion following Common Worship with hymn
 s and songs
GEO:-1.675673;54.799238
LOCATION:All Saints
URL:https://www.achurchnearyou.com/church/13487/service-and-events/events/
 174357/
END:VEVENT
BEGIN:VEVENT
SUMMARY:Holy Communion
DTSTART;TZID=Europe/London:20260702T091500
DTEND;TZID=Europe/London:20260702T094900
DTSTAMP:20260422T060121Z
UID:7747181782980100.0achurchnearyou
CATEGORIES:
DESCRIPTION:A quiet service of Holy Communion following the 1662 Book of C
 ommon Prayer. No hymns are sung.
GEO:-1.675673;54.799238
LOCATION:All Saints
URL:https://www.achurchnearyou.com/church/13487/service-and-events/events/
 774718/
END:VEVENT
BEGIN:VEVENT
SUMMARY:Morning Worship
DTSTART;TZID=Europe/London:20260705T101500
DTEND;TZID=Europe/London:20260705T110400
DTSTAMP:20260422T060121Z
UID:7747121783242900.0achurchnearyou
CATEGORIES:
DESCRIPTION:A Service of Hymns and Prayers
GEO:-1.675673;54.799238
LOCATION:All Saints
URL:https://www.achurchnearyou.com/church/13487/service-and-events/events/
 774712/
END:VEVENT
BEGIN:VEVENT
SUMMARY:Holy Communion
DTSTART;TZID=Europe/London:20260709T091500
DTEND;TZID=Europe/London:20260709T094900
DTSTAMP:20260422T060121Z
UID:7747181783584900.0achurchnearyou
CATEGORIES:
DESCRIPTION:A quiet service of Holy Communion following the 1662 Book of C
 ommon Prayer. No hymns are sung.
GEO:-1.675673;54.799238
LOCATION:All Saints
URL:https://www.achurchnearyou.com/church/13487/service-and-events/events/
 774718/
END:VEVENT
BEGIN:VEVENT
SUMMARY:Parish Communion
DTSTART;TZID=Europe/London:20260712T101500
DTEND;TZID=Europe/London:20260712T111500
DTSTAMP:20260422T060121Z
UID:1743571783847700.0achurchnearyou
CATEGORIES:
DESCRIPTION:A Service of Holy Communion following Common Worship with hymn
 s and songs
GEO:-1.675673;54.799238
LOCATION:All Saints
URL:https://www.achurchnearyou.com/church/13487/service-and-events/events/
 174357/
END:VEVENT
BEGIN:VEVENT
SUMMARY:Holy Communion
DTSTART;TZID=Europe/London:20260716T091500
DTEND;TZID=Europe/London:20260716T094900
DTSTAMP:20260422T060121Z
UID:7747181784189700.0achurchnearyou
CATEGORIES:
DESCRIPTION:A quiet service of Holy Communion following the 1662 Book of C
 ommon Prayer. No hymns are sung.
GEO:-1.675673;54.799238
LOCATION:All Saints
URL:https://www.achurchnearyou.com/church/13487/service-and-events/events/
 774718/
END:VEVENT
BEGIN:VEVENT
SUMMARY:Parish Communion
DTSTART;TZID=Europe/London:20260719T101500
DTEND;TZID=Europe/London:20260719T111500
DTSTAMP:20260422T060121Z
UID:1743571784452500.0achurchnearyou
CATEGORIES:
DESCRIPTION:A Service of Holy Communion following Common Worship with hymn
 s and songs
GEO:-1.675673;54.799238
LOCATION:All Saints
URL:https://www.achurchnearyou.com/church/13487/service-and-events/events/
 174357/
END:VEVENT
BEGIN:VEVENT
SUMMARY:Holy Communion
DTSTART;TZID=Europe/London:20260723T091500
DTEND;TZID=Europe/London:20260723T094900
DTSTAMP:20260422T060121Z
UID:7747181784794500.0achurchnearyou
CATEGORIES:
DESCRIPTION:A quiet service of Holy Communion following the 1662 Book of C
 ommon Prayer. No hymns are sung.
GEO:-1.675673;54.799238
LOCATION:All Saints
URL:https://www.achurchnearyou.com/church/13487/service-and-events/events/
 774718/
END:VEVENT
BEGIN:VEVENT
SUMMARY:Parish Communion
DTSTART;TZID=Europe/London:20260726T101500
DTEND;TZID=Europe/London:20260726T111500
DTSTAMP:20260422T060121Z
UID:1743571785057300.0achurchnearyou
CATEGORIES:
DESCRIPTION:A Service of Holy Communion following Common Worship with hymn
 s and songs
GEO:-1.675673;54.799238
LOCATION:All Saints
URL:https://www.achurchnearyou.com/church/13487/service-and-events/events/
 174357/
END:VEVENT
BEGIN:VEVENT
SUMMARY:Holy Communion
DTSTART;TZID=Europe/London:20260730T091500
DTEND;TZID=Europe/London:20260730T094900
DTSTAMP:20260422T060121Z
UID:7747181785399300.0achurchnearyou
CATEGORIES:
DESCRIPTION:A quiet service of Holy Communion following the 1662 Book of C
 ommon Prayer. No hymns are sung.
GEO:-1.675673;54.799238
LOCATION:All Saints
URL:https://www.achurchnearyou.com/church/13487/service-and-events/events/
 774718/
END:VEVENT
BEGIN:VEVENT
SUMMARY:Morning Worship
DTSTART;TZID=Europe/London:20260802T101500
DTEND;TZID=Europe/London:20260802T110400
DTSTAMP:20260422T060121Z
UID:7747121785662100.0achurchnearyou
CATEGORIES:
DESCRIPTION:A Service of Hymns and Prayers
GEO:-1.675673;54.799238
LOCATION:All Saints
URL:https://www.achurchnearyou.com/church/13487/service-and-events/events/
 774712/
END:VEVENT
BEGIN:VEVENT
SUMMARY:Holy Communion
DTSTART;TZID=Europe/London:20260806T091500
DTEND;TZID=Europe/London:20260806T094900
DTSTAMP:20260422T060121Z
UID:7747181786004100.0achurchnearyou
CATEGORIES:
DESCRIPTION:A quiet service of Holy Communion following the 1662 Book of C
 ommon Prayer. No hymns are sung.
GEO:-1.675673;54.799238
LOCATION:All Saints
URL:https://www.achurchnearyou.com/church/13487/service-and-events/events/
 774718/
END:VEVENT
BEGIN:VEVENT
SUMMARY:Parish Communion
DTSTART;TZID=Europe/London:20260809T101500
DTEND;TZID=Europe/London:20260809T111500
DTSTAMP:20260422T060121Z
UID:1743571786266900.0achurchnearyou
CATEGORIES:
DESCRIPTION:A Service of Holy Communion following Common Worship with hymn
 s and songs
GEO:-1.675673;54.799238
LOCATION:All Saints
URL:https://www.achurchnearyou.com/church/13487/service-and-events/events/
 174357/
END:VEVENT
BEGIN:VEVENT
SUMMARY:Holy Communion
DTSTART;TZID=Europe/London:20260813T091500
DTEND;TZID=Europe/London:20260813T094900
DTSTAMP:20260422T060121Z
UID:7747181786608900.0achurchnearyou
CATEGORIES:
DESCRIPTION:A quiet service of Holy Communion following the 1662 Book of C
 ommon Prayer. No hymns are sung.
GEO:-1.675673;54.799238
LOCATION:All Saints
URL:https://www.achurchnearyou.com/church/13487/service-and-events/events/
 774718/
END:VEVENT
BEGIN:VEVENT
SUMMARY:Parish Communion
DTSTART;TZID=Europe/London:20260816T101500
DTEND;TZID=Europe/London:20260816T111500
DTSTAMP:20260422T060121Z
UID:1743571786871700.0achurchnearyou
CATEGORIES:
DESCRIPTION:A Service of Holy Communion following Common Worship with hymn
 s and songs
GEO:-1.675673;54.799238
LOCATION:All Saints
URL:https://www.achurchnearyou.com/church/13487/service-and-events/events/
 174357/
END:VEVENT
BEGIN:VEVENT
SUMMARY:Holy Communion
DTSTART;TZID=Europe/London:20260820T091500
DTEND;TZID=Europe/London:20260820T094900
DTSTAMP:20260422T060121Z
UID:7747181787213700.0achurchnearyou
CATEGORIES:
DESCRIPTION:A quiet service of Holy Communion following the 1662 Book of C
 ommon Prayer. No hymns are sung.
GEO:-1.675673;54.799238
LOCATION:All Saints
URL:https://www.achurchnearyou.com/church/13487/service-and-events/events/
 774718/
END:VEVENT
BEGIN:VEVENT
SUMMARY:Parish Communion
DTSTART;TZID=Europe/London:20260823T101500
DTEND;TZID=Europe/London:20260823T111500
DTSTAMP:20260422T060121Z
UID:1743571787476500.0achurchnearyou
CATEGORIES:
DESCRIPTION:A Service of Holy Communion following Common Worship with hymn
 s and songs
GEO:-1.675673;54.799238
LOCATION:All Saints
URL:https://www.achurchnearyou.com/church/13487/service-and-events/events/
 174357/
END:VEVENT
BEGIN:VEVENT
SUMMARY:Holy Communion
DTSTART;TZID=Europe/London:20260827T091500
DTEND;TZID=Europe/London:20260827T094900
DTSTAMP:20260422T060121Z
UID:7747181787818500.0achurchnearyou
CATEGORIES:
DESCRIPTION:A quiet service of Holy Communion following the 1662 Book of C
 ommon Prayer. No hymns are sung.
GEO:-1.675673;54.799238
LOCATION:All Saints
URL:https://www.achurchnearyou.com/church/13487/service-and-events/events/
 774718/
END:VEVENT
BEGIN:VEVENT
SUMMARY:Parish Communion
DTSTART;TZID=Europe/London:20260830T101500
DTEND;TZID=Europe/London:20260830T111500
DTSTAMP:20260422T060121Z
UID:1743571788081300.0achurchnearyou
CATEGORIES:
DESCRIPTION:A Service of Holy Communion following Common Worship with hymn
 s and songs
GEO:-1.675673;54.799238
LOCATION:All Saints
URL:https://www.achurchnearyou.com/church/13487/service-and-events/events/
 174357/
END:VEVENT
BEGIN:VEVENT
SUMMARY:Holy Communion
DTSTART;TZID=Europe/London:20260903T091500
DTEND;TZID=Europe/London:20260903T094900
DTSTAMP:20260422T060121Z
UID:7747181788423300.0achurchnearyou
CATEGORIES:
DESCRIPTION:A quiet service of Holy Communion following the 1662 Book of C
 ommon Prayer. No hymns are sung.
GEO:-1.675673;54.799238
LOCATION:All Saints
URL:https://www.achurchnearyou.com/church/13487/service-and-events/events/
 774718/
END:VEVENT
BEGIN:VEVENT
SUMMARY:Morning Worship
DTSTART;TZID=Europe/London:20260906T101500
DTEND;TZID=Europe/London:20260906T110400
DTSTAMP:20260422T060121Z
UID:7747121788686100.0achurchnearyou
CATEGORIES:
DESCRIPTION:A Service of Hymns and Prayers
GEO:-1.675673;54.799238
LOCATION:All Saints
URL:https://www.achurchnearyou.com/church/13487/service-and-events/events/
 774712/
END:VEVENT
BEGIN:VEVENT
SUMMARY:Holy Communion
DTSTART;TZID=Europe/London:20260910T091500
DTEND;TZID=Europe/London:20260910T094900
DTSTAMP:20260422T060121Z
UID:7747181789028100.0achurchnearyou
CATEGORIES:
DESCRIPTION:A quiet service of Holy Communion following the 1662 Book of C
 ommon Prayer. No hymns are sung.
GEO:-1.675673;54.799238
LOCATION:All Saints
URL:https://www.achurchnearyou.com/church/13487/service-and-events/events/
 774718/
END:VEVENT
BEGIN:VEVENT
SUMMARY:Parish Communion
DTSTART;TZID=Europe/London:20260913T101500
DTEND;TZID=Europe/London:20260913T111500
DTSTAMP:20260422T060121Z
UID:1743571789290900.0achurchnearyou
CATEGORIES:
DESCRIPTION:A Service of Holy Communion following Common Worship with hymn
 s and songs
GEO:-1.675673;54.799238
LOCATION:All Saints
URL:https://www.achurchnearyou.com/church/13487/service-and-events/events/
 174357/
END:VEVENT
BEGIN:VEVENT
SUMMARY:Holy Communion
DTSTART;TZID=Europe/London:20260917T091500
DTEND;TZID=Europe/London:20260917T094900
DTSTAMP:20260422T060121Z
UID:7747181789632900.0achurchnearyou
CATEGORIES:
DESCRIPTION:A quiet service of Holy Communion following the 1662 Book of C
 ommon Prayer. No hymns are sung.
GEO:-1.675673;54.799238
LOCATION:All Saints
URL:https://www.achurchnearyou.com/church/13487/service-and-events/events/
 774718/
END:VEVENT
BEGIN:VEVENT
SUMMARY:Parish Communion
DTSTART;TZID=Europe/London:20260920T101500
DTEND;TZID=Europe/London:20260920T111500
DTSTAMP:20260422T060121Z
UID:1743571789895700.0achurchnearyou
CATEGORIES:
DESCRIPTION:A Service of Holy Communion following Common Worship with hymn
 s and songs
GEO:-1.675673;54.799238
LOCATION:All Saints
URL:https://www.achurchnearyou.com/church/13487/service-and-events/events/
 174357/
END:VEVENT
BEGIN:VEVENT
SUMMARY:Holy Communion
DTSTART;TZID=Europe/London:20260924T091500
DTEND;TZID=Europe/London:20260924T094900
DTSTAMP:20260422T060121Z
UID:7747181790237700.0achurchnearyou
CATEGORIES:
DESCRIPTION:A quiet service of Holy Communion following the 1662 Book of C
 ommon Prayer. No hymns are sung.
GEO:-1.675673;54.799238
LOCATION:All Saints
URL:https://www.achurchnearyou.com/church/13487/service-and-events/events/
 774718/
END:VEVENT
BEGIN:VEVENT
SUMMARY:Parish Communion
DTSTART;TZID=Europe/London:20260927T101500
DTEND;TZID=Europe/London:20260927T111500
DTSTAMP:20260422T060121Z
UID:1743571790500500.0achurchnearyou
CATEGORIES:
DESCRIPTION:A Service of Holy Communion following Common Worship with hymn
 s and songs
GEO:-1.675673;54.799238
LOCATION:All Saints
URL:https://www.achurchnearyou.com/church/13487/service-and-events/events/
 174357/
END:VEVENT
END:VCALENDAR
