BEGIN:VCALENDAR
VERSION:2.0
PRODID:-//achurchnearyou.com//eventfeed//EN
CALSCALE:GREGORIAN
METHOD:PUBLISH
X-WR-TIMEZONE:UTC
BEGIN:VEVENT
SUMMARY:Christmas Day Services at Christ Church Consett\, All Saints Lanch
 ester and St Cuthberts
DTSTART:20251225T100000Z
DTEND:20251225T110000Z
DTSTAMP:20260421T053924Z
UID:12753762025-12-25 10:00:00+00:00achurchnearyou
CATEGORIES:
DESCRIPTION:Whilst St Ives's Church will not be holding a Christmas Day Se
 rvice\, other local churches will. Christ Church\, Consett at 10am\, All S
 aint's Lanchester at 10am and St Cuthbert's Church\, Benfieldside at 9.30a
 m. Everyone is welcome. See church facebooks pages for details.
LOCATION:Christ Church Consett
URL:https://www.achurchnearyou.com/church/13521/service-and-events/events/
 1275376/
END:VEVENT
END:VCALENDAR
