BEGIN:VCALENDAR
VERSION:2.0
PRODID:-//achurchnearyou.com//eventfeed//EN
CALSCALE:GREGORIAN
METHOD:PUBLISH
X-WR-TIMEZONE:UTC
BEGIN:VEVENT
SUMMARY:Shrove Tuesday Social Event at Leadgate Club 17th February 7pm - 
 £5 ticket
DTSTART:20260217T190000Z
DTEND:20260217T213000Z
DTSTAMP:20260421T014313Z
UID:12815412026-02-17 19:00:00+00:00achurchnearyou
CATEGORIES:
DESCRIPTION:Tickets are £5\, available from church or the club\; make sur
 e to get them before February 10th  (numbers needed for catering). \nThere
  will be bingo too! Don't forget your dobber!
LOCATION:Leadgate Club
URL:https://www.achurchnearyou.com/church/13521/service-and-events/events/
 1281541/
END:VEVENT
END:VCALENDAR
