BEGIN:VCALENDAR
VERSION:2.0
PRODID:-//achurchnearyou.com//eventfeed//EN
CALSCALE:GREGORIAN
METHOD:PUBLISH
X-WR-TIMEZONE:UTC
BEGIN:VEVENT
SUMMARY:Celtic Service 10.30am Thursdays
DTSTART;TZID=Europe/London:20250508T103000
DTEND;TZID=Europe/London:20250508T110000
DTSTAMP:20260425T205509Z
UID:11973782025-05-08 10:30:00+01:00achurchnearyou
CATEGORIES:
DESCRIPTION:Join us for short Celtic Service which is lay-led on Thursdays
  10.30am-11am. Tea and coffee served afterwards. Held in the Lady chapel.
GEO:-1.816197;54.883987
LOCATION:St Mary Magdalene
URL:https://www.achurchnearyou.com/church/13522/service-and-events/events/
 1197378/
END:VEVENT
BEGIN:VEVENT
SUMMARY:Celtic Service 10.30am Thursdays
DTSTART;TZID=Europe/London:20250515T103000
DTEND;TZID=Europe/London:20250515T110000
DTSTAMP:20260425T205509Z
UID:11973782025-05-15 10:30:00+01:00achurchnearyou
CATEGORIES:
DESCRIPTION:Join us for short Celtic Service which is lay-led on Thursdays
  10.30am-11am. Tea and coffee served afterwards. Held in the Lady chapel.
GEO:-1.816197;54.883987
LOCATION:St Mary Magdalene
URL:https://www.achurchnearyou.com/church/13522/service-and-events/events/
 1197378/
END:VEVENT
BEGIN:VEVENT
SUMMARY:Celtic Service 10.30am Thursdays
DTSTART;TZID=Europe/London:20250522T103000
DTEND;TZID=Europe/London:20250522T110000
DTSTAMP:20260425T205509Z
UID:11973782025-05-22 10:30:00+01:00achurchnearyou
CATEGORIES:
DESCRIPTION:Join us for short Celtic Service which is lay-led on Thursdays
  10.30am-11am. Tea and coffee served afterwards. Held in the Lady chapel.
GEO:-1.816197;54.883987
LOCATION:St Mary Magdalene
URL:https://www.achurchnearyou.com/church/13522/service-and-events/events/
 1197378/
END:VEVENT
BEGIN:VEVENT
SUMMARY:Celtic Service 10.30am Thursdays
DTSTART;TZID=Europe/London:20250529T103000
DTEND;TZID=Europe/London:20250529T110000
DTSTAMP:20260425T205509Z
UID:11973782025-05-29 10:30:00+01:00achurchnearyou
CATEGORIES:
DESCRIPTION:Join us for short Celtic Service which is lay-led on Thursdays
  10.30am-11am. Tea and coffee served afterwards. Held in the Lady chapel.
GEO:-1.816197;54.883987
LOCATION:St Mary Magdalene
URL:https://www.achurchnearyou.com/church/13522/service-and-events/events/
 1197378/
END:VEVENT
BEGIN:VEVENT
SUMMARY:Celtic Service 10.30am Thursdays
DTSTART;TZID=Europe/London:20250605T103000
DTEND;TZID=Europe/London:20250605T110000
DTSTAMP:20260425T205509Z
UID:11973782025-06-05 10:30:00+01:00achurchnearyou
CATEGORIES:
DESCRIPTION:Join us for short Celtic Service which is lay-led on Thursdays
  10.30am-11am. Tea and coffee served afterwards. Held in the Lady chapel.
GEO:-1.816197;54.883987
LOCATION:St Mary Magdalene
URL:https://www.achurchnearyou.com/church/13522/service-and-events/events/
 1197378/
END:VEVENT
BEGIN:VEVENT
SUMMARY:Celtic Service 10.30am Thursdays
DTSTART;TZID=Europe/London:20250612T103000
DTEND;TZID=Europe/London:20250612T110000
DTSTAMP:20260425T205509Z
UID:11973782025-06-12 10:30:00+01:00achurchnearyou
CATEGORIES:
DESCRIPTION:Join us for short Celtic Service which is lay-led on Thursdays
  10.30am-11am. Tea and coffee served afterwards. Held in the Lady chapel.
GEO:-1.816197;54.883987
LOCATION:St Mary Magdalene
URL:https://www.achurchnearyou.com/church/13522/service-and-events/events/
 1197378/
END:VEVENT
BEGIN:VEVENT
SUMMARY:Celtic Service 10.30am Thursdays
DTSTART;TZID=Europe/London:20250619T103000
DTEND;TZID=Europe/London:20250619T110000
DTSTAMP:20260425T205509Z
UID:11973782025-06-19 10:30:00+01:00achurchnearyou
CATEGORIES:
DESCRIPTION:Join us for short Celtic Service which is lay-led on Thursdays
  10.30am-11am. Tea and coffee served afterwards. Held in the Lady chapel.
GEO:-1.816197;54.883987
LOCATION:St Mary Magdalene
URL:https://www.achurchnearyou.com/church/13522/service-and-events/events/
 1197378/
END:VEVENT
BEGIN:VEVENT
SUMMARY:Celtic Service 10.30am Thursdays
DTSTART;TZID=Europe/London:20250626T103000
DTEND;TZID=Europe/London:20250626T110000
DTSTAMP:20260425T205509Z
UID:11973782025-06-26 10:30:00+01:00achurchnearyou
CATEGORIES:
DESCRIPTION:Join us for short Celtic Service which is lay-led on Thursdays
  10.30am-11am. Tea and coffee served afterwards. Held in the Lady chapel.
GEO:-1.816197;54.883987
LOCATION:St Mary Magdalene
URL:https://www.achurchnearyou.com/church/13522/service-and-events/events/
 1197378/
END:VEVENT
BEGIN:VEVENT
SUMMARY:Celtic Service 10.30am Thursdays
DTSTART;TZID=Europe/London:20250703T103000
DTEND;TZID=Europe/London:20250703T110000
DTSTAMP:20260425T205509Z
UID:11973782025-07-03 10:30:00+01:00achurchnearyou
CATEGORIES:
DESCRIPTION:Join us for short Celtic Service which is lay-led on Thursdays
  10.30am-11am. Tea and coffee served afterwards. Held in the Lady chapel.
GEO:-1.816197;54.883987
LOCATION:St Mary Magdalene
URL:https://www.achurchnearyou.com/church/13522/service-and-events/events/
 1197378/
END:VEVENT
BEGIN:VEVENT
SUMMARY:Celtic Service 10.30am Thursdays
DTSTART;TZID=Europe/London:20250710T103000
DTEND;TZID=Europe/London:20250710T110000
DTSTAMP:20260425T205509Z
UID:11973782025-07-10 10:30:00+01:00achurchnearyou
CATEGORIES:
DESCRIPTION:Join us for short Celtic Service which is lay-led on Thursdays
  10.30am-11am. Tea and coffee served afterwards. Held in the Lady chapel.
GEO:-1.816197;54.883987
LOCATION:St Mary Magdalene
URL:https://www.achurchnearyou.com/church/13522/service-and-events/events/
 1197378/
END:VEVENT
BEGIN:VEVENT
SUMMARY:Celtic Service 10.30am Thursdays
DTSTART;TZID=Europe/London:20250717T103000
DTEND;TZID=Europe/London:20250717T110000
DTSTAMP:20260425T205509Z
UID:11973782025-07-17 10:30:00+01:00achurchnearyou
CATEGORIES:
DESCRIPTION:Join us for short Celtic Service which is lay-led on Thursdays
  10.30am-11am. Tea and coffee served afterwards. Held in the Lady chapel.
GEO:-1.816197;54.883987
LOCATION:St Mary Magdalene
URL:https://www.achurchnearyou.com/church/13522/service-and-events/events/
 1197378/
END:VEVENT
BEGIN:VEVENT
SUMMARY:Celtic Service 10.30am Thursdays
DTSTART;TZID=Europe/London:20250724T103000
DTEND;TZID=Europe/London:20250724T110000
DTSTAMP:20260425T205509Z
UID:11973782025-07-24 10:30:00+01:00achurchnearyou
CATEGORIES:
DESCRIPTION:Join us for short Celtic Service which is lay-led on Thursdays
  10.30am-11am. Tea and coffee served afterwards. Held in the Lady chapel.
GEO:-1.816197;54.883987
LOCATION:St Mary Magdalene
URL:https://www.achurchnearyou.com/church/13522/service-and-events/events/
 1197378/
END:VEVENT
BEGIN:VEVENT
SUMMARY:Celtic Service 10.30am Thursdays
DTSTART;TZID=Europe/London:20250731T103000
DTEND;TZID=Europe/London:20250731T110000
DTSTAMP:20260425T205509Z
UID:11973782025-07-31 10:30:00+01:00achurchnearyou
CATEGORIES:
DESCRIPTION:Join us for short Celtic Service which is lay-led on Thursdays
  10.30am-11am. Tea and coffee served afterwards. Held in the Lady chapel.
GEO:-1.816197;54.883987
LOCATION:St Mary Magdalene
URL:https://www.achurchnearyou.com/church/13522/service-and-events/events/
 1197378/
END:VEVENT
BEGIN:VEVENT
SUMMARY:Celtic Service 10.30am Thursdays
DTSTART;TZID=Europe/London:20250807T103000
DTEND;TZID=Europe/London:20250807T110000
DTSTAMP:20260425T205509Z
UID:11973782025-08-07 10:30:00+01:00achurchnearyou
CATEGORIES:
DESCRIPTION:Join us for short Celtic Service which is lay-led on Thursdays
  10.30am-11am. Tea and coffee served afterwards. Held in the Lady chapel.
GEO:-1.816197;54.883987
LOCATION:St Mary Magdalene
URL:https://www.achurchnearyou.com/church/13522/service-and-events/events/
 1197378/
END:VEVENT
BEGIN:VEVENT
SUMMARY:Celtic Service 10.30am Thursdays
DTSTART;TZID=Europe/London:20250814T103000
DTEND;TZID=Europe/London:20250814T110000
DTSTAMP:20260425T205509Z
UID:11973782025-08-14 10:30:00+01:00achurchnearyou
CATEGORIES:
DESCRIPTION:Join us for short Celtic Service which is lay-led on Thursdays
  10.30am-11am. Tea and coffee served afterwards. Held in the Lady chapel.
GEO:-1.816197;54.883987
LOCATION:St Mary Magdalene
URL:https://www.achurchnearyou.com/church/13522/service-and-events/events/
 1197378/
END:VEVENT
BEGIN:VEVENT
SUMMARY:Celtic Service 10.30am Thursdays
DTSTART;TZID=Europe/London:20250821T103000
DTEND;TZID=Europe/London:20250821T110000
DTSTAMP:20260425T205509Z
UID:11973782025-08-21 10:30:00+01:00achurchnearyou
CATEGORIES:
DESCRIPTION:Join us for short Celtic Service which is lay-led on Thursdays
  10.30am-11am. Tea and coffee served afterwards. Held in the Lady chapel.
GEO:-1.816197;54.883987
LOCATION:St Mary Magdalene
URL:https://www.achurchnearyou.com/church/13522/service-and-events/events/
 1197378/
END:VEVENT
BEGIN:VEVENT
SUMMARY:Celtic Service 10.30am Thursdays
DTSTART;TZID=Europe/London:20250828T103000
DTEND;TZID=Europe/London:20250828T110000
DTSTAMP:20260425T205509Z
UID:11973782025-08-28 10:30:00+01:00achurchnearyou
CATEGORIES:
DESCRIPTION:Join us for short Celtic Service which is lay-led on Thursdays
  10.30am-11am. Tea and coffee served afterwards. Held in the Lady chapel.
GEO:-1.816197;54.883987
LOCATION:St Mary Magdalene
URL:https://www.achurchnearyou.com/church/13522/service-and-events/events/
 1197378/
END:VEVENT
BEGIN:VEVENT
SUMMARY:Celtic Service 10.30am Thursdays
DTSTART;TZID=Europe/London:20250904T103000
DTEND;TZID=Europe/London:20250904T110000
DTSTAMP:20260425T205509Z
UID:11973782025-09-04 10:30:00+01:00achurchnearyou
CATEGORIES:
DESCRIPTION:Join us for short Celtic Service which is lay-led on Thursdays
  10.30am-11am. Tea and coffee served afterwards. Held in the Lady chapel.
GEO:-1.816197;54.883987
LOCATION:St Mary Magdalene
URL:https://www.achurchnearyou.com/church/13522/service-and-events/events/
 1197378/
END:VEVENT
BEGIN:VEVENT
SUMMARY:Celtic Service 10.30am Thursdays
DTSTART;TZID=Europe/London:20250911T103000
DTEND;TZID=Europe/London:20250911T110000
DTSTAMP:20260425T205509Z
UID:11973782025-09-11 10:30:00+01:00achurchnearyou
CATEGORIES:
DESCRIPTION:Join us for short Celtic Service which is lay-led on Thursdays
  10.30am-11am. Tea and coffee served afterwards. Held in the Lady chapel.
GEO:-1.816197;54.883987
LOCATION:St Mary Magdalene
URL:https://www.achurchnearyou.com/church/13522/service-and-events/events/
 1197378/
END:VEVENT
BEGIN:VEVENT
SUMMARY:Celtic Service 10.30am Thursdays
DTSTART;TZID=Europe/London:20250918T103000
DTEND;TZID=Europe/London:20250918T110000
DTSTAMP:20260425T205509Z
UID:11973782025-09-18 10:30:00+01:00achurchnearyou
CATEGORIES:
DESCRIPTION:Join us for short Celtic Service which is lay-led on Thursdays
  10.30am-11am. Tea and coffee served afterwards. Held in the Lady chapel.
GEO:-1.816197;54.883987
LOCATION:St Mary Magdalene
URL:https://www.achurchnearyou.com/church/13522/service-and-events/events/
 1197378/
END:VEVENT
BEGIN:VEVENT
SUMMARY:Celtic Service 10.30am Thursdays
DTSTART;TZID=Europe/London:20250925T103000
DTEND;TZID=Europe/London:20250925T110000
DTSTAMP:20260425T205509Z
UID:11973782025-09-25 10:30:00+01:00achurchnearyou
CATEGORIES:
DESCRIPTION:Join us for short Celtic Service which is lay-led on Thursdays
  10.30am-11am. Tea and coffee served afterwards. Held in the Lady chapel.
GEO:-1.816197;54.883987
LOCATION:St Mary Magdalene
URL:https://www.achurchnearyou.com/church/13522/service-and-events/events/
 1197378/
END:VEVENT
END:VCALENDAR
