BEGIN:VCALENDAR
VERSION:2.0
PRODID:-//achurchnearyou.com//eventfeed//EN
CALSCALE:GREGORIAN
METHOD:PUBLISH
X-WR-TIMEZONE:UTC
BEGIN:VEVENT
SUMMARY:Good Friday - Stations of the Cross with hymns 3rd April at 2pm @ 
 St Ives' Church\, Leadgate
DTSTART:20260403T130000Z
DTEND:20260403T140000Z
DTSTAMP:20260425T015149Z
UID:12912152026-04-03 13:00:00+00:00achurchnearyou
CATEGORIES:
DESCRIPTION:Join us for Good Friday at 2pm St Ives' Church Leadgate
LOCATION:St Ives Church Leadgate
URL:https://www.achurchnearyou.com/church/13522/service-and-events/events/
 1291215/
END:VEVENT
END:VCALENDAR
