BEGIN:VCALENDAR
VERSION:2.0
PRODID:-//achurchnearyou.com//eventfeed//EN
CALSCALE:GREGORIAN
METHOD:PUBLISH
X-WR-TIMEZONE:UTC
BEGIN:VEVENT
SUMMARY:Midnight Eucharist
DTSTART;TZID=Europe/London:20251224T233000
DTEND;TZID=Europe/London:20251224T235900
DTSTAMP:20260423T190623Z
UID:11449332025-12-24 23:30:00+00:00achurchnearyou
CATEGORIES:
DESCRIPTION:The service that welcomes our Lord to the world.  Everyone wel
 come.
URL:https://www.achurchnearyou.com/church/13532/service-and-events/events/
 1144933/
END:VEVENT
BEGIN:VEVENT
SUMMARY:Midnight Eucharist
DTSTART;TZID=Europe/London:20261224T233000
DTEND;TZID=Europe/London:20261224T235900
DTSTAMP:20260423T190623Z
UID:11449332026-12-24 23:30:00+00:00achurchnearyou
CATEGORIES:
DESCRIPTION:The service that welcomes our Lord to the world.  Everyone wel
 come.
URL:https://www.achurchnearyou.com/church/13532/service-and-events/events/
 1144933/
END:VEVENT
BEGIN:VEVENT
SUMMARY:Midnight Eucharist
DTSTART;TZID=Europe/London:20271224T233000
DTEND;TZID=Europe/London:20271224T235900
DTSTAMP:20260423T190623Z
UID:11449332027-12-24 23:30:00+00:00achurchnearyou
CATEGORIES:
DESCRIPTION:The service that welcomes our Lord to the world.  Everyone wel
 come.
URL:https://www.achurchnearyou.com/church/13532/service-and-events/events/
 1144933/
END:VEVENT
BEGIN:VEVENT
SUMMARY:Midnight Eucharist
DTSTART;TZID=Europe/London:20301224T233000
DTEND;TZID=Europe/London:20301224T235900
DTSTAMP:20260423T190623Z
UID:11449332030-12-24 23:30:00+00:00achurchnearyou
CATEGORIES:
DESCRIPTION:The service that welcomes our Lord to the world.  Everyone wel
 come.
URL:https://www.achurchnearyou.com/church/13532/service-and-events/events/
 1144933/
END:VEVENT
BEGIN:VEVENT
SUMMARY:Midnight Eucharist
DTSTART;TZID=Europe/London:20241225T233000
DTEND;TZID=Europe/London:20241225T235900
DTSTAMP:20260423T190623Z
UID:11449332024-12-25 23:30:00+00:00achurchnearyou
CATEGORIES:
DESCRIPTION:The service that welcomes our Lord to the world.  Everyone wel
 come.
URL:https://www.achurchnearyou.com/church/13532/service-and-events/events/
 1144933/
END:VEVENT
BEGIN:VEVENT
SUMMARY:Midnight Eucharist
DTSTART;TZID=Europe/London:20251224T233000
DTEND;TZID=Europe/London:20251224T235900
DTSTAMP:20260423T190623Z
UID:11449332025-12-24 23:30:00+00:00achurchnearyou
CATEGORIES:
DESCRIPTION:The service that welcomes our Lord to the world.  Everyone wel
 come.
URL:https://www.achurchnearyou.com/church/13532/service-and-events/events/
 1144933/
END:VEVENT
BEGIN:VEVENT
SUMMARY:Midnight Eucharist
DTSTART;TZID=Europe/London:20251225T233000
DTEND;TZID=Europe/London:20251225T235900
DTSTAMP:20260423T190623Z
UID:11449332025-12-25 23:30:00+00:00achurchnearyou
CATEGORIES:
DESCRIPTION:The service that welcomes our Lord to the world.  Everyone wel
 come.
URL:https://www.achurchnearyou.com/church/13532/service-and-events/events/
 1144933/
END:VEVENT
BEGIN:VEVENT
SUMMARY:Midnight Eucharist
DTSTART;TZID=Europe/London:20261224T233000
DTEND;TZID=Europe/London:20261224T235900
DTSTAMP:20260423T190623Z
UID:11449332026-12-24 23:30:00+00:00achurchnearyou
CATEGORIES:
DESCRIPTION:The service that welcomes our Lord to the world.  Everyone wel
 come.
URL:https://www.achurchnearyou.com/church/13532/service-and-events/events/
 1144933/
END:VEVENT
BEGIN:VEVENT
SUMMARY:Midnight Eucharist
DTSTART;TZID=Europe/London:20261225T233000
DTEND;TZID=Europe/London:20261225T235900
DTSTAMP:20260423T190623Z
UID:11449332026-12-25 23:30:00+00:00achurchnearyou
CATEGORIES:
DESCRIPTION:The service that welcomes our Lord to the world.  Everyone wel
 come.
URL:https://www.achurchnearyou.com/church/13532/service-and-events/events/
 1144933/
END:VEVENT
BEGIN:VEVENT
SUMMARY:Midnight Eucharist
DTSTART;TZID=Europe/London:20271224T233000
DTEND;TZID=Europe/London:20271224T235900
DTSTAMP:20260423T190623Z
UID:11449332027-12-24 23:30:00+00:00achurchnearyou
CATEGORIES:
DESCRIPTION:The service that welcomes our Lord to the world.  Everyone wel
 come.
URL:https://www.achurchnearyou.com/church/13532/service-and-events/events/
 1144933/
END:VEVENT
BEGIN:VEVENT
SUMMARY:Midnight Eucharist
DTSTART;TZID=Europe/London:20271225T233000
DTEND;TZID=Europe/London:20271225T235900
DTSTAMP:20260423T190623Z
UID:11449332027-12-25 23:30:00+00:00achurchnearyou
CATEGORIES:
DESCRIPTION:The service that welcomes our Lord to the world.  Everyone wel
 come.
URL:https://www.achurchnearyou.com/church/13532/service-and-events/events/
 1144933/
END:VEVENT
BEGIN:VEVENT
SUMMARY:Midnight Eucharist
DTSTART;TZID=Europe/London:20281224T233000
DTEND;TZID=Europe/London:20281224T235900
DTSTAMP:20260423T190623Z
UID:11449332028-12-24 23:30:00+00:00achurchnearyou
CATEGORIES:
DESCRIPTION:The service that welcomes our Lord to the world.  Everyone wel
 come.
URL:https://www.achurchnearyou.com/church/13532/service-and-events/events/
 1144933/
END:VEVENT
BEGIN:VEVENT
SUMMARY:Midnight Eucharist
DTSTART;TZID=Europe/London:20281225T233000
DTEND;TZID=Europe/London:20281225T235900
DTSTAMP:20260423T190623Z
UID:11449332028-12-25 23:30:00+00:00achurchnearyou
CATEGORIES:
DESCRIPTION:The service that welcomes our Lord to the world.  Everyone wel
 come.
URL:https://www.achurchnearyou.com/church/13532/service-and-events/events/
 1144933/
END:VEVENT
BEGIN:VEVENT
SUMMARY:Midnight Eucharist
DTSTART;TZID=Europe/London:20291224T233000
DTEND;TZID=Europe/London:20291224T235900
DTSTAMP:20260423T190623Z
UID:11449332029-12-24 23:30:00+00:00achurchnearyou
CATEGORIES:
DESCRIPTION:The service that welcomes our Lord to the world.  Everyone wel
 come.
URL:https://www.achurchnearyou.com/church/13532/service-and-events/events/
 1144933/
END:VEVENT
BEGIN:VEVENT
SUMMARY:Midnight Eucharist
DTSTART;TZID=Europe/London:20291225T233000
DTEND;TZID=Europe/London:20291225T235900
DTSTAMP:20260423T190623Z
UID:11449332029-12-25 23:30:00+00:00achurchnearyou
CATEGORIES:
DESCRIPTION:The service that welcomes our Lord to the world.  Everyone wel
 come.
URL:https://www.achurchnearyou.com/church/13532/service-and-events/events/
 1144933/
END:VEVENT
BEGIN:VEVENT
SUMMARY:Midnight Eucharist
DTSTART;TZID=Europe/London:20301224T233000
DTEND;TZID=Europe/London:20301224T235900
DTSTAMP:20260423T190623Z
UID:11449332030-12-24 23:30:00+00:00achurchnearyou
CATEGORIES:
DESCRIPTION:The service that welcomes our Lord to the world.  Everyone wel
 come.
URL:https://www.achurchnearyou.com/church/13532/service-and-events/events/
 1144933/
END:VEVENT
BEGIN:VEVENT
SUMMARY:Midnight Eucharist
DTSTART;TZID=Europe/London:20301225T233000
DTEND;TZID=Europe/London:20301225T235900
DTSTAMP:20260423T190623Z
UID:11449332030-12-25 23:30:00+00:00achurchnearyou
CATEGORIES:
DESCRIPTION:The service that welcomes our Lord to the world.  Everyone wel
 come.
URL:https://www.achurchnearyou.com/church/13532/service-and-events/events/
 1144933/
END:VEVENT
BEGIN:VEVENT
SUMMARY:Midnight Eucharist
DTSTART;TZID=Europe/London:20241224T233000
DTEND;TZID=Europe/London:20241224T235900
DTSTAMP:20260423T190623Z
UID:11449332024-12-24 23:30:00+00:00achurchnearyou
CATEGORIES:
DESCRIPTION:The service that welcomes our Lord to the world.  Everyone wel
 come.
URL:https://www.achurchnearyou.com/church/13532/service-and-events/events/
 1144933/
END:VEVENT
BEGIN:VEVENT
SUMMARY:Midnight Eucharist
DTSTART;TZID=Europe/London:20251224T233000
DTEND;TZID=Europe/London:20251224T235900
DTSTAMP:20260423T190623Z
UID:11449332025-12-24 23:30:00+00:00achurchnearyou
CATEGORIES:
DESCRIPTION:The service that welcomes our Lord to the world.  Everyone wel
 come.
URL:https://www.achurchnearyou.com/church/13532/service-and-events/events/
 1144933/
END:VEVENT
BEGIN:VEVENT
SUMMARY:Midnight Eucharist
DTSTART;TZID=Europe/London:20261224T233000
DTEND;TZID=Europe/London:20261224T235900
DTSTAMP:20260423T190623Z
UID:11449332026-12-24 23:30:00+00:00achurchnearyou
CATEGORIES:
DESCRIPTION:The service that welcomes our Lord to the world.  Everyone wel
 come.
URL:https://www.achurchnearyou.com/church/13532/service-and-events/events/
 1144933/
END:VEVENT
BEGIN:VEVENT
SUMMARY:Midnight Eucharist
DTSTART;TZID=Europe/London:20271224T233000
DTEND;TZID=Europe/London:20271224T235900
DTSTAMP:20260423T190623Z
UID:11449332027-12-24 23:30:00+00:00achurchnearyou
CATEGORIES:
DESCRIPTION:The service that welcomes our Lord to the world.  Everyone wel
 come.
URL:https://www.achurchnearyou.com/church/13532/service-and-events/events/
 1144933/
END:VEVENT
BEGIN:VEVENT
SUMMARY:Midnight Eucharist
DTSTART;TZID=Europe/London:20281224T233000
DTEND;TZID=Europe/London:20281224T235900
DTSTAMP:20260423T190623Z
UID:11449332028-12-24 23:30:00+00:00achurchnearyou
CATEGORIES:
DESCRIPTION:The service that welcomes our Lord to the world.  Everyone wel
 come.
URL:https://www.achurchnearyou.com/church/13532/service-and-events/events/
 1144933/
END:VEVENT
BEGIN:VEVENT
SUMMARY:Midnight Eucharist
DTSTART;TZID=Europe/London:20291224T233000
DTEND;TZID=Europe/London:20291224T235900
DTSTAMP:20260423T190623Z
UID:11449332029-12-24 23:30:00+00:00achurchnearyou
CATEGORIES:
DESCRIPTION:The service that welcomes our Lord to the world.  Everyone wel
 come.
URL:https://www.achurchnearyou.com/church/13532/service-and-events/events/
 1144933/
END:VEVENT
BEGIN:VEVENT
SUMMARY:Midnight Eucharist
DTSTART;TZID=Europe/London:20301224T233000
DTEND;TZID=Europe/London:20301224T235900
DTSTAMP:20260423T190623Z
UID:11449332030-12-24 23:30:00+00:00achurchnearyou
CATEGORIES:
DESCRIPTION:The service that welcomes our Lord to the world.  Everyone wel
 come.
URL:https://www.achurchnearyou.com/church/13532/service-and-events/events/
 1144933/
END:VEVENT
END:VCALENDAR
