BEGIN:VCALENDAR
VERSION:2.0
PRODID:-//achurchnearyou.com//eventfeed//EN
CALSCALE:GREGORIAN
METHOD:PUBLISH
X-WR-TIMEZONE:UTC
BEGIN:VEVENT
SUMMARY:Palm Sunday
DTSTART:20260329T081500Z
DTEND:20260329T091500Z
DTSTAMP:20260424T030630Z
UID:13136252026-03-29 08:15:00+00:00achurchnearyou
CATEGORIES:
DESCRIPTION:A traditional Palm Sunday service at the beginning of Holy Wee
 k
GEO:-1.232091;54.690395
LOCATION:St Luke
URL:https://www.achurchnearyou.com/church/13532/service-and-events/events/
 1313625/
END:VEVENT
END:VCALENDAR
